{"text_format":"3","workbook":"xlsx","n_sheets":14,"sheets":["BD","FU","Inconsistencias","CRI-M","COG-M","CRI-RYP","COG-RYP","CF","CA","EA","Plantilla","CRI-DE","COG-FF","CTG-FF"],"not_rendered":{"charts":2,"images":1,"macros":1,"defined_names":12,"comments":4},"read":"whole","date_system":"1900"}

{"sheet":"BD","index":0,"n_rows":3395,"n_cols":58,"rows_kept":3395,"hidden":true}
["No. Of","fecha of","Oficio","fecha oficio","documentación","no.","medio electronico","no.","remitente","cargo","codigo ente","nombre ente","región","habitantes","presupuesto","año","modificación","no.","año","acta no.","fecha acuerdo","acuerdo no.","aprobado acta","modificación acta","aporbado formato","modificado formato","Formato 1","Formato 2","formato 3","Formato 4","Formato 5","Formato 6","Formato 7","Formato 8","Formato 9","Formato 10","Formato 11","Formato 12","I1","I2","I3","I4","I5","I6","I7","I8","I9","I10","I11","I12","I13","I14","I15","I16","I17","fecha elaboro","elaboró","revisó"]
[{"$f":"FU!B9","v":0},{"$f":"FU!E9","v":"00:00:00"},{"$f":"FU!L9","v":0},{"$f":"FU!T9","v":"00:00:00"},{"$f":"FU!Y9","v":0},{"$f":"FU!AD9","v":0},{"$f":"FU!AF9","v":0},{"$f":"FU!AL9","v":0},{"$f":"FU!B11","v":0},{"$f":"FU!AA11","v":0},{"$f":"FU!B14","v":704900},{"$f":"FU!K14","v":"Jilotlán de los Dolores"},{"$f":"FU!B12","v":"Sur"},{"$f":"FU!C12","v":9545},{"$f":"FU!B18","v":0},{"$f":"FU!Q18","v":0},{"$f":"FU!U18","v":0},{"$f":"FU!AH18","v":0},{"$f":"FU!AJ18","v":0},{"$f":"FU!B25","v":0},{"$f":"FU!H25","v":"00:00:00"},{"$f":"FU!M25","v":0},{"$f":"FU!Z23","v":0},{"$f":"FU!Z24","v":0},{"$f":"FU!AG23","v":0},{"$f":"FU!AG24","v":0},{"$f":"FU!B28","v":"X"},{"$f":"FU!$B29","v":"X"},{"$f":"FU!$B30","v":"X"},{"$f":"FU!$B31","v":"X"},{"$f":"FU!$B32","v":"X"},{"$f":"FU!$B33","v":"X"},{"$f":"FU!$B34","v":"X"},{"$f":"FU!$B35","v":""},{"$f":"FU!$B36","v":"X"},{"$f":"FU!$B37","v":0},{"$f":"FU!$B38","v":0},{"$f":"FU!$B39","v":0},{"$f":"FU!$B66","v":"• "},{"$f":"FU!$B67","v":"• No se envía el acta de aprobación al presupuesto."},{"$f":"FU!$B68","v":"• "},{"$f":"FU!$B69","v":"• "},{"$f":"FU!$B70","v":"• "},{"$f":"FU!$B71","v":"• "},{"$f":"FU!$B72","v":"• Se observa diferencia entre la estimación de ingresos fiscales (11) y los egresos pagaderos con dicha fuente de financiamiento."},{"$f":"FU!$B73","v":"• "},{"$f":"FU!$B74","v":"• Se observa diferencia entre la estimación de ingresos propios (14) y los egresos pagaderos con dicha fuente de financiamiento."},{"$f":"FU!$B75","v":"• Se observa diferencia entre la estimación de ingresos de recursos federales de libre disposición (15) y los egresos pagaderos con dicha fuente de financiamiento."},{"$f":"FU!$B76","v":"• Se observa diferencia entre la estimación de ingresos de recursos estatales de libre disposición (16) y los egresos pagaderos con dicha fuente de financiamiento."},{"$f":"FU!$B77","v":"• "},{"$f":"FU!$B78","v":"• Se observa diferencia entre la estimación de ingresos de recursos federales etiquetados (25) y los egresos pagaderos con dicha fuente de financiamiento."},{"$f":"FU!$B79","v":"• "},{"$f":"FU!$B80","v":"• "},{"$f":"FU!$B81","v":"• "},{"$f":"FU!$B82","v":"• "},{"$f":"FU!S84","v":0},{"$f":"FU!B88","v":0},{"$f":"FU!Z88","v":0}]
[]
[1000,"IMPUESTOS",null,{"$f":"'CRI-M'!P2","v":{"v":2164488,"d":"2,164,488"}}]
[1100,"Impuestos sobre los ingresos",null,{"$f":"'CRI-M'!P3","v":0}]
[1101,"Impuestos sobre espectáculos públicos",11,{"$f":"'CRI-M'!P4","v":0}]
[1200,"Impuestos sobre el patrimonio",null,{"$f":"'CRI-M'!P5","v":{"v":1914492,"d":"1,914,492"}}]
[1201,"Impuesto predial",11,{"$f":"'CRI-M'!P6","v":{"v":1596768,"d":"1,596,768"}}]
[1202,"Impuestos sobre transmisiones patrimoniales",11,{"$f":"'CRI-M'!P7","v":{"v":317724,"d":"317,724"}}]
[1203,"Impuestos sobre negocios jurídicos",11,{"$f":"'CRI-M'!P8","v":0}]
[1300,"Impuestos sobre la producción, el consumo y las transacciones",null,{"$f":"'CRI-M'!P9","v":0}]
[1400,"Impuestos al comercio exterior",null,{"$f":"'CRI-M'!P10","v":0}]
[1500,"Impuestos sobre nóminas y asimilables",null,{"$f":"'CRI-M'!P11","v":0}]
[1600,"Impuestos ecológicos",null,{"$f":"'CRI-M'!P12","v":0}]
[1700,"Accesorios de impuestos",null,{"$f":"'CRI-M'!P13","v":{"v":249996,"d":"249,996"}}]
[1701,"Recargos",11,{"$f":"'CRI-M'!P14","v":{"v":249996,"d":"249,996"}}]
[1702,"Actualizaciones",11,{"$f":"'CRI-M'!P15","v":0}]
[1703,"Multas",11,{"$f":"'CRI-M'!P16","v":0}]
[1704,"Gastos de ejecución",11,{"$f":"'CRI-M'!P17","v":0}]
[1709,"Otros no especificados",11,{"$f":"'CRI-M'!P18","v":0}]
[1800,"Otros impuestos",null,{"$f":"'CRI-M'!P19","v":0}]
[1801,"Otros impuestos",11,{"$f":"'CRI-M'!P20","v":0}]
[2000,"CUOTAS Y APORTACIONES DE SEGURIDAD SOCIAL",null,{"$f":"'CRI-M'!P21","v":0}]
[2100,"Aportaciones para fondos de vivienda",null,{"$f":"'CRI-M'!P22","v":0}]
[2200,"Cuotas para la seguridad social",null,{"$f":"'CRI-M'!P23","v":0}]
[2300,"Cuotas de ahorro para el retiro",null,{"$f":"'CRI-M'!P24","v":0}]
[2400,"Otras cuotas y aportaciones para la seguridad social",null,{"$f":"'CRI-M'!P25","v":0}]
[2500,"Accesorios de cuotas y aportaciones de seguridad social",null,{"$f":"'CRI-M'!P26","v":0}]
[3000,"CONTRIBUCIONES DE MEJORAS",null,{"$f":"'CRI-M'!P27","v":0}]
[3100,"Contribuciones de mejoras por obras públicas",null,{"$f":"'CRI-M'!P28","v":0}]
[3101,"Contribuciones de mejoras por obras públicas",11,{"$f":"'CRI-M'!P29","v":0}]
[4000,"DERECHOS",null,{"$f":"'CRI-M'!P30","v":{"v":2166732,"d":"2,166,732"}}]
[4100,"Derechos por el uso, goce, aprovechamiento o explotación de bienes de dominio público",null,{"$f":"'CRI-M'!P31","v":{"v":16740,"d":"16,740"}}]
[4101,"Derechos por el uso del piso",11,{"$f":"'CRI-M'!P32","v":0}]
[4102,"Derechos por el uso de los estacionamientos",11,{"$f":"'CRI-M'!P33","v":0}]
[4103,"Derechos de uso de cementerios y panteones municipales",11,{"$f":"'CRI-M'!P34","v":{"v":16740,"d":"16,740"}}]
[4104,"Derechos de concesiones y demás inmuebles de propiedad municipal",11,{"$f":"'CRI-M'!P35","v":0}]
[4200,"Derechos a los hidrocarburos (Derogado)",null,{"$f":"'CRI-M'!P36","v":0}]
[4300,"Derechos por prestación de servicios",null,{"$f":"'CRI-M'!P37","v":{"v":2149992,"d":"2,149,992"}}]
[4301,"Derechos de licencias y permisos de giros",11,{"$f":"'CRI-M'!P38","v":{"v":143268,"d":"143,268"}}]
[4302,"Derechos de licencias y permisos de anuncios",11,{"$f":"'CRI-M'!P39","v":{"v":6708,"d":"6,708"}}]
[4303,"Derechos de licencias de construcción, reconstrucción, reparación o demolición de obras",11,{"$f":"'CRI-M'!P40","v":0}]
[4304,"Derechos de regularizaciones de los registros de obra",11,{"$f":"'CRI-M'!P41","v":0}]
[4305,"Derechos de alineamiento, designación de número oficial e inspección",11,{"$f":"'CRI-M'!P42","v":0}]
[4306,"Derechos de licencias de cambio de régimen de propiedad y urbanización",11,{"$f":"'CRI-M'!P43","v":0}]
[4307,"Derechos de servicios de obra",11,{"$f":"'CRI-M'!P44","v":0}]
[4308,"Derechos de servicios de sanidad",11,{"$f":"'CRI-M'!P45","v":0}]
[4309,"Derechos de servicio de limpieza, recolección, traslado, tratamiento y disposición final de residuos",11,{"$f":"'CRI-M'!P46","v":0}]
[4310,"Derechos de agua potable, drenaje, alcantarillado, tratamiento y disposición final de aguas residuales",11,{"$f":"'CRI-M'!P47","v":{"v":1532208,"d":"1,532,208"}}]
[4311,"Derechos del rastro",11,{"$f":"'CRI-M'!P48","v":{"v":102588,"d":"102,588"}}]
[4312,"Derechos del registro civil",11,{"$f":"'CRI-M'!P49","v":{"v":243468,"d":"243,468"}}]
[4313,"Derechos de las certificaciones",11,{"$f":"'CRI-M'!P50","v":{"v":105384,"d":"105,384"}}]
[4314,"Derechos de los servicios de catastro",11,{"$f":"'CRI-M'!P51","v":{"v":16368,"d":"16,368"}}]
[4400,"Otros derechos",null,{"$f":"'CRI-M'!P52","v":0}]
[4401,"Otros derechos",11,{"$f":"'CRI-M'!P53","v":0}]
[4500,"Accesorios de derechos",null,{"$f":"'CRI-M'!P54","v":0}]
[4501,"Recargos",11,{"$f":"'CRI-M'!P55","v":0}]
[4502,"Actualizaciones",11,{"$f":"'CRI-M'!P56","v":0}]
[4503,"Multas",11,{"$f":"'CRI-M'!P57","v":0}]
[4504,"Gastos de ejecución",11,{"$f":"'CRI-M'!P58","v":0}]
[4509,"Otros no especificados",11,{"$f":"'CRI-M'!P59","v":0}]
[5000,"PRODUCTOS",null,{"$f":"'CRI-M'!P60","v":{"v":631956,"d":"631,956"}}]
[5100,"Productos",null,{"$f":"'CRI-M'!P61","v":{"v":631956,"d":"631,956"}}]
[5101,"Uso, goce, aprovechamiento o explotación de bienes de dominio privado",11,{"$f":"'CRI-M'!P62","v":0}]
[5102,"Productos diversos",11,{"$f":"'CRI-M'!P63","v":{"v":631956,"d":"631,956"}}]
[5200,"Productos de capital (Derogado)",null,{"$f":"'CRI-M'!P64","v":0}]
[6000,"APROVECHAMIENTOS",null,{"$f":"'CRI-M'!P65","v":{"v":86436,"d":"86,436"}}]
[6100,"Aprovechamientos",null,{"$f":"'CRI-M'!P66","v":0}]
[6101,"Aprovechamientos de las sanciones, multas, honorarios y donativos",11,{"$f":"'CRI-M'!P67","v":0}]
[6102,"Aprovechamientos de las indemnizaciones a favor del municipio",11,{"$f":"'CRI-M'!P68","v":0}]
[6103,"Otros aprovechamientos",11,{"$f":"'CRI-M'!P69","v":0}]
[6200,"Aprovechamientos patrimoniales",null,{"$f":"'CRI-M'!P70","v":0}]
[6201,"Aprovechamientos por el uso o enajenación de bienes",11,{"$f":"'CRI-M'!P71","v":0}]
[6202,"Aprovechamientos por recuperación de capital o patrimonio invertido",11,{"$f":"'CRI-M'!P72","v":0}]
[6300,"Accesorios de aprovechamientos",null,{"$f":"'CRI-M'!P73","v":{"v":86436,"d":"86,436"}}]
[6301,"Recargos",11,{"$f":"'CRI-M'!P74","v":0}]
[6302,"Actualizaciones",11,{"$f":"'CRI-M'!P75","v":0}]
[6303,"Multas",11,{"$f":"'CRI-M'!P76","v":{"v":27204,"d":"27,204"}}]
[6304,"Gastos de ejecución",11,{"$f":"'CRI-M'!P77","v":0}]
[6309,"Otros no especificados",11,{"$f":"'CRI-M'!P78","v":{"v":59232,"d":"59,232"}}]
[7000,"INGRESOS POR VENTAS DE BIENES, PRESTACIÓN DE SERVICIOS Y OTROS INGRESOS",null,{"$f":"'CRI-M'!P79","v":{"v":2496,"d":"2,496"}}]
[7100,"Ingresos por venta de bienes y prestación de servicios de instituciones públicas de seguridad social",null,{"$f":"'CRI-M'!P80","v":0}]
[7101,"Ingresos por venta de bienes y prestación de servicios de instituciones públicas de seguridad social",14,{"$f":"'CRI-M'!P81","v":0}]
[7200,"Ingresos por venta de bienes y prestación de servicios de empresas productivas del estado",null,{"$f":"'CRI-M'!P82","v":0}]
[7300,"Ingresos por venta de bienes y prestación de servicios de entidades paraestatales y fideicomisos no empresariales y no financieros",null,{"$f":"'CRI-M'!P83","v":0}]
[7301,"Ingresos por venta de bienes y prestación de servicios de entidades paraestatales y fideicomisos no empresariales y no financieros",14,{"$f":"'CRI-M'!P84","v":0}]
[7400,"Ingresos por venta de bienes y prestación de servicios de entidades paraestatales empresariales no financieras con participación estatal mayoritaria",null,{"$f":"'CRI-M'!P85","v":0}]
[7500,"Ingresos por venta de bienes y prestación de servicios de entidades paraestatales empresariales financieras monetarias con participación estatal mayoritaria",null,{"$f":"'CRI-M'!P86","v":0}]
[7600,"Ingresos por venta de bienes y prestación de servicios de entidades paraestatales empresariales financieras no monetarias con participación estatal mayoritaria",null,{"$f":"'CRI-M'!P87","v":0}]
[7700,"Ingresos por venta de bienes y prestación de servicios de fideicomisos financieros públicos con participación estatal mayoritaria",null,{"$f":"'CRI-M'!P88","v":0}]
[7701,"Ingresos por venta de bienes y prestación de servicios de fideicomisos financieros públicos con participación estatal mayoritaria",14,{"$f":"'CRI-M'!P89","v":0}]
[7800,"Ingresos por venta de bienes y prestación de servicios de los poderes legislativo y judicial, y de los órganos autónomos",null,{"$f":"'CRI-M'!P90","v":0}]
[7900,"Otros ingresos",null,{"$f":"'CRI-M'!P91","v":{"v":2496,"d":"2,496"}}]
[7901,"Otros ingresos",14,{"$f":"'CRI-M'!P92","v":{"v":2496,"d":"2,496"}}]
[8000,"PARTICIPACIONES, APORTACIONES, CONVENIOS, INCENTIVOS DERIVADOS DE LA COLABORACIÓN FISCAL Y FONDOS DISTINTOS DE LAS APORTACIONES",null,{"$f":"'CRI-M'!P93","v":{"v":101976388,"d":"101,976,388"}}]
[8100,"Participaciones",null,{"$f":"'CRI-M'!P94","v":{"v":87692704,"d":"87,692,704"}}]
[8101,"Fondo general de participaciones (federal)",15,{"$f":"'CRI-M'!P95","v":{"v":87621040,"d":"87,621,040"}}]
[8102,"Fondo de fomento municipal (federal)",15,{"$f":"'CRI-M'!P96","v":0}]
[8103,"Fondo de fiscalización y recaudación (federal)",15,{"$f":"'CRI-M'!P97","v":0}]
[8104,"Fondo de compensación (federal)",15,{"$f":"'CRI-M'!P98","v":0}]
[8105,"Fondo de extracción de hidrocarburos (federal)",15,{"$f":"'CRI-M'!P99","v":0}]
[8106,"Impuesto especial sobre producción y servicios (federal)",15,{"$f":"'CRI-M'!P100","v":0}]
[8107,"0.136% de la recaudación federal participable (federal)",15,{"$f":"'CRI-M'!P101","v":0}]
[8108,"3.17% sobre extracción de petróleo (federal)",15,{"$f":"'CRI-M'!P102","v":0}]
[8109,"Gasolinas y diésel (federal)",15,{"$f":"'CRI-M'!P103","v":0}]
[8110,"Fondo del impuesto sobre la renta (federal)",15,{"$f":"'CRI-M'!P104","v":0}]
[8111,"Fondo de estabilización de los ingresos de las entidades federativas (federal)",15,{"$f":"'CRI-M'!P105","v":0}]
[8112,"Participaciones del estado",16,{"$f":"'CRI-M'!P106","v":{"v":71664,"d":"71,664"}}]
[8200,"Aportaciones",null,{"$f":"'CRI-M'!P107","v":{"v":14283684,"d":"14,283,684"}}]
[8201,"Fondo de aportaciones para la infraestructura social municipal",25,{"$f":"'CRI-M'!P108","v":{"v":6676428,"d":"6,676,428"}}]
[8202,"Fondo de aportaciones para el fortalecimiento municipal",25,{"$f":"'CRI-M'!P109","v":{"v":7607256,"d":"7,607,256"}}]
[8300,"Convenios",null,{"$f":"'CRI-M'!P110","v":0}]
[8301,"Convenios de protección social en salud",17,{"$f":"'CRI-M'!P111","v":0}]
[8302,"Convenios de descentralizados",17,{"$f":"'CRI-M'!P112","v":0}]
[8303,"Convenio de reasignación",17,{"$f":"'CRI-M'!P113","v":0}]
[8304,"Otros convenios y subsidios (Con ingresos de libre disposición)",17,{"$f":"'CRI-M'!P114","v":0}]
[8304,"Otros convenios y subsidios (Con ingresos etiquetados federales)",25,{"$f":"'CRI-M'!P115","v":0}]
[8304,"Otros convenios y subsidios (Con ingresos etiquetados estatales)",26,{"$f":"'CRI-M'!P116","v":0}]
[8400,"Incentivos derivados de la colaboración fiscal",null,{"$f":"'CRI-M'!P117","v":0}]
[8401,"Tenencia o uso de vehículos",15,{"$f":"'CRI-M'!P118","v":0}]
[8402,"Fondo de compensación ISAN",15,{"$f":"'CRI-M'!P119","v":0}]
[8403,"Impuesto sobre automóviles nuevos",15,{"$f":"'CRI-M'!P120","v":0}]
[8404,"Fondo de compensación de repecos-intermedios",15,{"$f":"'CRI-M'!P121","v":0}]
[8405,"Otros incentivos económicos",15,{"$f":"'CRI-M'!P122","v":0}]
[8500,"Fondos distintos de aportaciones",null,{"$f":"'CRI-M'!P123","v":0}]
[8501,"Fondo para entidades federativas y municipios productores de hidrocarburos",25,{"$f":"'CRI-M'!P124","v":0}]
[8502,"Fondo minero",25,{"$f":"'CRI-M'!P125","v":0}]
[9000,"TRANSFERENCIAS, ASIGNACIONES, SUBSIDIOS Y SUBVENCIONES Y PENSIONES Y JUBILACIONES",null,{"$f":"'CRI-M'!P126","v":0}]
[9100,"Transferencias y asignaciones",null,{"$f":"'CRI-M'!P127","v":0}]
[9101,"Transferencias y asignaciones (Con ingresos de libre disposición)",17,{"$f":"'CRI-M'!P128","v":0}]
[9101,"Transferencias y asignaciones (Con ingresos etiquetados federales)",27,{"$f":"'CRI-M'!P129","v":0}]
[9101,"Transferencias y asignaciones (Con ingresos etiquetados estatales)",26,{"$f":"'CRI-M'!P130","v":0}]
[9200,"Transferencias al resto del sector público (derogado)",null,{"$f":"'CRI-M'!P131","v":0}]
[9300,"Subsidios y subvenciones",null,{"$f":"'CRI-M'!P132","v":0}]
[9301,"Subsidios y subvenciones (Con ingresos de libre disposición)",17,{"$f":"'CRI-M'!P133","v":0}]
[9301,"Subsidios y subvenciones (Con ingresos etiquetados federales)",27,{"$f":"'CRI-M'!P134","v":0}]
[9301,"Subsidios y subvenciones (Con ingresos etiquetados estatales)",26,{"$f":"'CRI-M'!P135","v":0}]
[9400,"Ayudas sociales (derogado)",null,{"$f":"'CRI-M'!P136","v":0}]
[9500,"Pensiones y jubilaciones",null,{"$f":"'CRI-M'!P137","v":0}]
[9501,"Pensiones y jubilaciones",17,{"$f":"'CRI-M'!P138","v":0}]
[9600,"Transferencias a fideicomisos, mandatos y análogos (derogado)",null,{"$f":"'CRI-M'!P139","v":0}]
[9700,"Transferencias del fondo mexicano del petróleo para la estabilización y el desarrollo",null,{"$f":"'CRI-M'!P140","v":0}]
[9701,"Transferencias del fondo mexicano del petróleo para la estabilización y el desarrollo",17,{"$f":"'CRI-M'!P141","v":0}]
[0,"INGRESOS DERIVADOS DE FINANCIAMIENTO",null,{"$f":"'CRI-M'!P142","v":0}]
[100,"Endeudamiento interno",null,{"$f":"'CRI-M'!P143","v":0}]
[200,"Endeudamiento externo",null,{"$f":"'CRI-M'!P144","v":0}]
[300,"Financiamiento interno",null,{"$f":"'CRI-M'!P145","v":0}]
[301,"Financiamiento interno",12,{"$f":"'CRI-M'!P146","v":0}]
["ESTIMACIÓN DE INGRESOS",null,null,{"$f":"'CRI-M'!P147","v":{"v":107028496,"d":"107,028,496"}}]
[1000,"SERVICIOS PERSONALES",null,{"$f":"'COG-M'!P2","v":{"v":24871539.6045696,"d":"24,871,540"}}]
[1100,"REMUNERACIONES AL PERSONAL DE CARÁCTER PERMANENTE",null,{"$f":"'COG-M'!P3","v":{"v":14517723.6045696,"d":"14,517,724"}}]
[111,"Dietas ",11,{"$f":"'COG-M'!P4","v":{"v":1879200,"d":"1,879,200"}}]
[null,null,12,{"$f":"'COG-M'!P5","v":0}]
[null,null,13,{"$f":"'COG-M'!P6","v":0}]
[null,null,14,{"$f":"'COG-M'!P7","v":0}]
[null,null,15,{"$f":"'COG-M'!P8","v":0}]
[null,null,16,{"$f":"'COG-M'!P9","v":0}]
[null,null,17,{"$f":"'COG-M'!P10","v":0}]
[null,null,25,{"$f":"'COG-M'!P11","v":0}]
[null,null,26,{"$f":"'COG-M'!P12","v":0}]
[null,null,27,{"$f":"'COG-M'!P13","v":0}]
[112,"Haberes",null,{"$f":"'COG-M'!P14","v":0}]
[113,"Sueldos base al personal permanente",11,{"$f":"'COG-M'!P15","v":{"v":12638523.6045696,"d":"12,638,524"}}]
[null,null,12,{"$f":"'COG-M'!P16","v":0}]
[null,null,13,{"$f":"'COG-M'!P17","v":0}]
[null,null,14,{"$f":"'COG-M'!P18","v":0}]
[null,null,15,{"$f":"'COG-M'!P19","v":0}]
[null,null,16,{"$f":"'COG-M'!P20","v":0}]
[null,null,17,{"$f":"'COG-M'!P21","v":0}]
[null,null,25,{"$f":"'COG-M'!P22","v":0}]
[null,null,26,{"$f":"'COG-M'!P23","v":0}]
[null,null,27,{"$f":"'COG-M'!P24","v":0}]
[114,"Remuneraciones por adscripción laboral en el extranjero",11,{"$f":"'COG-M'!P25","v":0}]
[null,null,12,{"$f":"'COG-M'!P26","v":0}]
[null,null,13,{"$f":"'COG-M'!P27","v":0}]
[null,null,14,{"$f":"'COG-M'!P28","v":0}]
[null,null,15,{"$f":"'COG-M'!P29","v":0}]
[null,null,16,{"$f":"'COG-M'!P30","v":0}]
[null,null,17,{"$f":"'COG-M'!P31","v":0}]
[null,null,25,{"$f":"'COG-M'!P32","v":0}]
[null,null,26,{"$f":"'COG-M'!P33","v":0}]
[null,null,27,{"$f":"'COG-M'!P34","v":0}]
[1200,"REMUNERACIONES AL PERSONAL DE CARÁCTER TRANSITORIO",null,{"$f":"'COG-M'!P35","v":{"v":7924668,"d":"7,924,668"}}]
[121,"Honorarios asimilables a salarios",11,{"$f":"'COG-M'!P36","v":0}]
[null,null,12,{"$f":"'COG-M'!P37","v":0}]
[null,null,13,{"$f":"'COG-M'!P38","v":0}]
[null,null,14,{"$f":"'COG-M'!P39","v":0}]
[null,null,15,{"$f":"'COG-M'!P40","v":0}]
[null,null,16,{"$f":"'COG-M'!P41","v":0}]
[null,null,17,{"$f":"'COG-M'!P42","v":0}]
[null,null,25,{"$f":"'COG-M'!P43","v":0}]
[null,null,26,{"$f":"'COG-M'!P44","v":0}]
[null,null,27,{"$f":"'COG-M'!P45","v":0}]
[122,"Sueldos base al personal eventual",11,{"$f":"'COG-M'!P46","v":{"v":7924668,"d":"7,924,668"}}]
[null,null,12,{"$f":"'COG-M'!P47","v":0}]
[null,null,13,{"$f":"'COG-M'!P48","v":0}]
[null,null,14,{"$f":"'COG-M'!P49","v":0}]
[null,null,15,{"$f":"'COG-M'!P50","v":0}]
[null,null,16,{"$f":"'COG-M'!P51","v":0}]
[null,null,17,{"$f":"'COG-M'!P52","v":0}]
[null,null,25,{"$f":"'COG-M'!P53","v":0}]
[null,null,26,{"$f":"'COG-M'!P54","v":0}]
[null,null,27,{"$f":"'COG-M'!P55","v":0}]
[123,"Retribuciones por servicios de carácter social",11,{"$f":"'COG-M'!P56","v":0}]
[null,null,12,{"$f":"'COG-M'!P57","v":0}]
[null,null,13,{"$f":"'COG-M'!P58","v":0}]
[null,null,14,{"$f":"'COG-M'!P59","v":0}]
[null,null,15,{"$f":"'COG-M'!P60","v":0}]
[null,null,16,{"$f":"'COG-M'!P61","v":0}]
[null,null,17,{"$f":"'COG-M'!P62","v":0}]
[null,null,25,{"$f":"'COG-M'!P63","v":0}]
[null,null,26,{"$f":"'COG-M'!P64","v":0}]
[null,null,27,{"$f":"'COG-M'!P65","v":0}]
[124,"Retribución a los representantes de los trabajadores y de los patrones en la Junta de Conciliación y Arbitraje",null,{"$f":"'COG-M'!P66","v":0}]
[1300,"REMUNERACIONES ADICIONALES Y ESPECIALES",null,{"$f":"'COG-M'!P67","v":{"v":2262000,"d":"2,262,000"}}]
[131,"Primas por años de servicios efectivos prestados",11,{"$f":"'COG-M'!P68","v":0}]
[null,null,12,{"$f":"'COG-M'!P69","v":0}]
[null,null,13,{"$f":"'COG-M'!P70","v":0}]
[null,null,14,{"$f":"'COG-M'!P71","v":0}]
[null,null,15,{"$f":"'COG-M'!P72","v":0}]
[null,null,16,{"$f":"'COG-M'!P73","v":0}]
[null,null,17,{"$f":"'COG-M'!P74","v":0}]
[null,null,25,{"$f":"'COG-M'!P75","v":0}]
[null,null,26,{"$f":"'COG-M'!P76","v":0}]
[null,null,27,{"$f":"'COG-M'!P77","v":0}]
[132,"Primas de vacaciones, dominical y gratificación de fin de año",11,{"$f":"'COG-M'!P78","v":{"v":2262000,"d":"2,262,000"}}]
[null,null,12,{"$f":"'COG-M'!P79","v":0}]
[null,null,13,{"$f":"'COG-M'!P80","v":0}]
[null,null,14,{"$f":"'COG-M'!P81","v":0}]
[null,null,15,{"$f":"'COG-M'!P82","v":0}]
[null,null,16,{"$f":"'COG-M'!P83","v":0}]
[null,null,17,{"$f":"'COG-M'!P84","v":0}]
[null,null,25,{"$f":"'COG-M'!P85","v":0}]
[null,null,26,{"$f":"'COG-M'!P86","v":0}]
[null,null,27,{"$f":"'COG-M'!P87","v":0}]
[133,"Horas extraordinarias",11,{"$f":"'COG-M'!P88","v":0}]
[null,null,12,{"$f":"'COG-M'!P89","v":0}]
[null,null,13,{"$f":"'COG-M'!P90","v":0}]
[null,null,14,{"$f":"'COG-M'!P91","v":0}]
[null,null,15,{"$f":"'COG-M'!P92","v":0}]
[null,null,16,{"$f":"'COG-M'!P93","v":0}]
[null,null,17,{"$f":"'COG-M'!P94","v":0}]
[null,null,25,{"$f":"'COG-M'!P95","v":0}]
[null,null,26,{"$f":"'COG-M'!P96","v":0}]
[null,null,27,{"$f":"'COG-M'!P97","v":0}]
[134,"Compensaciones",11,{"$f":"'COG-M'!P98","v":0}]
[null,null,12,{"$f":"'COG-M'!P99","v":0}]
[null,null,13,{"$f":"'COG-M'!P100","v":0}]
[null,null,14,{"$f":"'COG-M'!P101","v":0}]
[null,null,15,{"$f":"'COG-M'!P102","v":0}]
[null,null,16,{"$f":"'COG-M'!P103","v":0}]
[null,null,17,{"$f":"'COG-M'!P104","v":0}]
[null,null,25,{"$f":"'COG-M'!P105","v":0}]
[null,null,26,{"$f":"'COG-M'!P106","v":0}]
[null,null,27,{"$f":"'COG-M'!P107","v":0}]
[135,"Sobrehaberes",null,{"$f":"'COG-M'!P108","v":0}]
[136,"Asignaciones de técnico, de mando, por comisión, de vuelo y de técnico especial",null,{"$f":"'COG-M'!P109","v":0}]
[137,"Honorarios especiales",11,{"$f":"'COG-M'!P110","v":0}]
[null,null,12,{"$f":"'COG-M'!P111","v":0}]
[null,null,13,{"$f":"'COG-M'!P112","v":0}]
[null,null,14,{"$f":"'COG-M'!P113","v":0}]
[null,null,15,{"$f":"'COG-M'!P114","v":0}]
[null,null,16,{"$f":"'COG-M'!P115","v":0}]
[null,null,17,{"$f":"'COG-M'!P116","v":0}]
[null,null,25,{"$f":"'COG-M'!P117","v":0}]
[null,null,26,{"$f":"'COG-M'!P118","v":0}]
[null,null,27,{"$f":"'COG-M'!P119","v":0}]
[138,"Participaciones por vigilancia en el cumplimiento de la leyes y custodia de valores",11,{"$f":"'COG-M'!P120","v":0}]
[null,null,12,{"$f":"'COG-M'!P121","v":0}]
[null,null,13,{"$f":"'COG-M'!P122","v":0}]
[null,null,14,{"$f":"'COG-M'!P123","v":0}]
[null,null,15,{"$f":"'COG-M'!P124","v":0}]
[null,null,16,{"$f":"'COG-M'!P125","v":0}]
[null,null,17,{"$f":"'COG-M'!P126","v":0}]
[null,null,25,{"$f":"'COG-M'!P127","v":0}]
[null,null,26,{"$f":"'COG-M'!P128","v":0}]
[null,null,27,{"$f":"'COG-M'!P129","v":0}]
[1400,"SEGURIDAD SOCIAL",null,{"$f":"'COG-M'!P130","v":0}]
[141,"Aportaciones de seguridad social",11,{"$f":"'COG-M'!P131","v":0}]
[null,null,12,{"$f":"'COG-M'!P132","v":0}]
[null,null,13,{"$f":"'COG-M'!P133","v":0}]
[null,null,14,{"$f":"'COG-M'!P134","v":0}]
[null,null,15,{"$f":"'COG-M'!P135","v":0}]
[null,null,16,{"$f":"'COG-M'!P136","v":0}]
[null,null,17,{"$f":"'COG-M'!P137","v":0}]
[null,null,25,{"$f":"'COG-M'!P138","v":0}]
[null,null,26,{"$f":"'COG-M'!P139","v":0}]
[null,null,27,{"$f":"'COG-M'!P140","v":0}]
[142,"Aportaciones a fondos de vivienda",11,{"$f":"'COG-M'!P141","v":0}]
[null,null,12,{"$f":"'COG-M'!P142","v":0}]
[null,null,13,{"$f":"'COG-M'!P143","v":0}]
[null,null,14,{"$f":"'COG-M'!P144","v":0}]
[null,null,15,{"$f":"'COG-M'!P145","v":0}]
[null,null,16,{"$f":"'COG-M'!P146","v":0}]
[null,null,17,{"$f":"'COG-M'!P147","v":0}]
[null,null,25,{"$f":"'COG-M'!P148","v":0}]
[null,null,26,{"$f":"'COG-M'!P149","v":0}]
[null,null,27,{"$f":"'COG-M'!P150","v":0}]
[143,"Aportaciones al sistema para el retiro",11,{"$f":"'COG-M'!P151","v":0}]
[null,null,12,{"$f":"'COG-M'!P152","v":0}]
[null,null,13,{"$f":"'COG-M'!P153","v":0}]
[null,null,14,{"$f":"'COG-M'!P154","v":0}]
[null,null,15,{"$f":"'COG-M'!P155","v":0}]
[null,null,16,{"$f":"'COG-M'!P156","v":0}]
[null,null,17,{"$f":"'COG-M'!P157","v":0}]
[null,null,25,{"$f":"'COG-M'!P158","v":0}]
[null,null,26,{"$f":"'COG-M'!P159","v":0}]
[null,null,27,{"$f":"'COG-M'!P160","v":0}]
[144,"Aportaciones para seguros",11,{"$f":"'COG-M'!P161","v":0}]
[null,null,12,{"$f":"'COG-M'!P162","v":0}]
[null,null,13,{"$f":"'COG-M'!P163","v":0}]
[null,null,14,{"$f":"'COG-M'!P164","v":0}]
[null,null,15,{"$f":"'COG-M'!P165","v":0}]
[null,null,16,{"$f":"'COG-M'!P166","v":0}]
[null,null,17,{"$f":"'COG-M'!P167","v":0}]
[null,null,25,{"$f":"'COG-M'!P168","v":0}]
[null,null,26,{"$f":"'COG-M'!P169","v":0}]
[null,null,27,{"$f":"'COG-M'!P170","v":0}]
[1500,"OTRAS PRESTACIONES SOCIALES Y ECONÓMICAS",null,{"$f":"'COG-M'!P171","v":{"v":167148,"d":"167,148"}}]
[151,"Cuotas para el fondo de ahorro y fondo de trabajo",11,{"$f":"'COG-M'!P172","v":0}]
[null,null,12,{"$f":"'COG-M'!P173","v":0}]
[null,null,13,{"$f":"'COG-M'!P174","v":0}]
[null,null,14,{"$f":"'COG-M'!P175","v":0}]
[null,null,15,{"$f":"'COG-M'!P176","v":0}]
[null,null,16,{"$f":"'COG-M'!P177","v":0}]
[null,null,17,{"$f":"'COG-M'!P178","v":0}]
[null,null,25,{"$f":"'COG-M'!P179","v":0}]
[null,null,26,{"$f":"'COG-M'!P180","v":0}]
[null,null,27,{"$f":"'COG-M'!P181","v":0}]
[152,"Indemnizaciones",11,{"$f":"'COG-M'!P182","v":{"v":167148,"d":"167,148"}}]
[null,null,12,{"$f":"'COG-M'!P183","v":0}]
[null,null,13,{"$f":"'COG-M'!P184","v":0}]
[null,null,14,{"$f":"'COG-M'!P185","v":0}]
[null,null,15,{"$f":"'COG-M'!P186","v":0}]
[null,null,16,{"$f":"'COG-M'!P187","v":0}]
[null,null,17,{"$f":"'COG-M'!P188","v":0}]
[null,null,25,{"$f":"'COG-M'!P189","v":0}]
[null,null,26,{"$f":"'COG-M'!P190","v":0}]
[null,null,27,{"$f":"'COG-M'!P191","v":0}]
[153,"Prestaciones y haberes de retiro",11,{"$f":"'COG-M'!P192","v":0}]
[null,null,12,{"$f":"'COG-M'!P193","v":0}]
[null,null,13,{"$f":"'COG-M'!P194","v":0}]
[null,null,14,{"$f":"'COG-M'!P195","v":0}]
[null,null,15,{"$f":"'COG-M'!P196","v":0}]
[null,null,16,{"$f":"'COG-M'!P197","v":0}]
[null,null,17,{"$f":"'COG-M'!P198","v":0}]
[null,null,25,{"$f":"'COG-M'!P199","v":0}]
[null,null,26,{"$f":"'COG-M'!P200","v":0}]
[null,null,27,{"$f":"'COG-M'!P201","v":0}]
[154,"Prestaciones contractuales",11,{"$f":"'COG-M'!P202","v":0}]
[null,null,12,{"$f":"'COG-M'!P203","v":0}]
[null,null,13,{"$f":"'COG-M'!P204","v":0}]
[null,null,14,{"$f":"'COG-M'!P205","v":0}]
[null,null,15,{"$f":"'COG-M'!P206","v":0}]
[null,null,16,{"$f":"'COG-M'!P207","v":0}]
[null,null,17,{"$f":"'COG-M'!P208","v":0}]
[null,null,25,{"$f":"'COG-M'!P209","v":0}]
[null,null,26,{"$f":"'COG-M'!P210","v":0}]
[null,null,27,{"$f":"'COG-M'!P211","v":0}]
[155,"Apoyos a la capacitación de los servidores públicos",11,{"$f":"'COG-M'!P212","v":0}]
[null,null,12,{"$f":"'COG-M'!P213","v":0}]
[null,null,13,{"$f":"'COG-M'!P214","v":0}]
[null,null,14,{"$f":"'COG-M'!P215","v":0}]
[null,null,15,{"$f":"'COG-M'!P216","v":0}]
[null,null,16,{"$f":"'COG-M'!P217","v":0}]
[null,null,17,{"$f":"'COG-M'!P218","v":0}]
[null,null,25,{"$f":"'COG-M'!P219","v":0}]
[null,null,26,{"$f":"'COG-M'!P220","v":0}]
[null,null,27,{"$f":"'COG-M'!P221","v":0}]
[159,"Otras prestaciones sociales y económicas",11,{"$f":"'COG-M'!P222","v":0}]
[null,null,12,{"$f":"'COG-M'!P223","v":0}]
[null,null,13,{"$f":"'COG-M'!P224","v":0}]
[null,null,14,{"$f":"'COG-M'!P225","v":0}]
[null,null,15,{"$f":"'COG-M'!P226","v":0}]
[null,null,16,{"$f":"'COG-M'!P227","v":0}]
[null,null,17,{"$f":"'COG-M'!P228","v":0}]
[null,null,25,{"$f":"'COG-M'!P229","v":0}]
[null,null,26,{"$f":"'COG-M'!P230","v":0}]
[null,null,27,{"$f":"'COG-M'!P231","v":0}]
[1600,"PREVISIONES",null,{"$f":"'COG-M'!P232","v":0}]
[161,"Previsiones de carácter laboral, económica y de seguridad social",11,{"$f":"'COG-M'!P233","v":0}]
[null,null,12,{"$f":"'COG-M'!P234","v":0}]
[null,null,13,{"$f":"'COG-M'!P235","v":0}]
[null,null,14,{"$f":"'COG-M'!P236","v":0}]
[null,null,15,{"$f":"'COG-M'!P237","v":0}]
[null,null,16,{"$f":"'COG-M'!P238","v":0}]
[null,null,17,{"$f":"'COG-M'!P239","v":0}]
[null,null,25,{"$f":"'COG-M'!P240","v":0}]
[null,null,26,{"$f":"'COG-M'!P241","v":0}]
[null,null,27,{"$f":"'COG-M'!P242","v":0}]
[1700,"PAGO DE ESTÍMULOS A SERVIDORES PÚBLICOS",null,{"$f":"'COG-M'!P243","v":0}]
[171,"Estímulos",11,{"$f":"'COG-M'!P244","v":0}]
[null,null,12,{"$f":"'COG-M'!P245","v":0}]
[null,null,13,{"$f":"'COG-M'!P246","v":0}]
[null,null,14,{"$f":"'COG-M'!P247","v":0}]
[null,null,15,{"$f":"'COG-M'!P248","v":0}]
[null,null,16,{"$f":"'COG-M'!P249","v":0}]
[null,null,17,{"$f":"'COG-M'!P250","v":0}]
[null,null,25,{"$f":"'COG-M'!P251","v":0}]
[null,null,26,{"$f":"'COG-M'!P252","v":0}]
[null,null,27,{"$f":"'COG-M'!P253","v":0}]
[172,"Recompensas",11,{"$f":"'COG-M'!P254","v":0}]
[null,null,12,{"$f":"'COG-M'!P255","v":0}]
[null,null,13,{"$f":"'COG-M'!P256","v":0}]
[null,null,14,{"$f":"'COG-M'!P257","v":0}]
[null,null,15,{"$f":"'COG-M'!P258","v":0}]
[null,null,16,{"$f":"'COG-M'!P259","v":0}]
[null,null,17,{"$f":"'COG-M'!P260","v":0}]
[null,null,25,{"$f":"'COG-M'!P261","v":0}]
[null,null,26,{"$f":"'COG-M'!P262","v":0}]
[null,null,27,{"$f":"'COG-M'!P263","v":0}]
[2000,"MATERIALES Y SUMINISTROS",null,{"$f":"'COG-M'!P264","v":{"v":21524220,"d":"21,524,220"}}]
[2100,"MATERIALES DE ADMINISTRACIÓN, EMISIÓN DE DOCUMENTOS Y ARTÍCULOS OFICIALES",null,{"$f":"'COG-M'!P265","v":{"v":1852464,"d":"1,852,464"}}]
[211,"Materiales, útiles y equipos menores de oficina",11,{"$f":"'COG-M'!P266","v":{"v":611892,"d":"611,892"}}]
[null,null,12,{"$f":"'COG-M'!P267","v":0}]
[null,null,13,{"$f":"'COG-M'!P268","v":0}]
[null,null,14,{"$f":"'COG-M'!P269","v":0}]
[null,null,15,{"$f":"'COG-M'!P270","v":0}]
[null,null,16,{"$f":"'COG-M'!P271","v":0}]
[null,null,17,{"$f":"'COG-M'!P272","v":0}]
[null,null,25,{"$f":"'COG-M'!P273","v":0}]
[null,null,26,{"$f":"'COG-M'!P274","v":0}]
[null,null,27,{"$f":"'COG-M'!P275","v":0}]
[212,"Materiales y útiles de impresión y reproducción",11,{"$f":"'COG-M'!P276","v":{"v":599712,"d":"599,712"}}]
[null,null,12,{"$f":"'COG-M'!P277","v":0}]
[null,null,13,{"$f":"'COG-M'!P278","v":0}]
[null,null,14,{"$f":"'COG-M'!P279","v":0}]
[null,null,15,{"$f":"'COG-M'!P280","v":0}]
[null,null,16,{"$f":"'COG-M'!P281","v":0}]
[null,null,17,{"$f":"'COG-M'!P282","v":0}]
[null,null,25,{"$f":"'COG-M'!P283","v":0}]
[null,null,26,{"$f":"'COG-M'!P284","v":0}]
[null,null,27,{"$f":"'COG-M'!P285","v":0}]
[213,"Material estadístico y geográfico",11,{"$f":"'COG-M'!P286","v":0}]
[null,null,12,{"$f":"'COG-M'!P287","v":0}]
[null,null,13,{"$f":"'COG-M'!P288","v":0}]
[null,null,14,{"$f":"'COG-M'!P289","v":0}]
[null,null,15,{"$f":"'COG-M'!P290","v":0}]
[null,null,16,{"$f":"'COG-M'!P291","v":0}]
[null,null,17,{"$f":"'COG-M'!P292","v":0}]
[null,null,25,{"$f":"'COG-M'!P293","v":0}]
[null,null,26,{"$f":"'COG-M'!P294","v":0}]
[null,null,27,{"$f":"'COG-M'!P295","v":0}]
[214,"Materiales, útiles y equipos menores de tecnologías de la información y comunicaciones",11,{"$f":"'COG-M'!P296","v":{"v":171672,"d":"171,672"}}]
[null,null,12,{"$f":"'COG-M'!P297","v":0}]
[null,null,13,{"$f":"'COG-M'!P298","v":0}]
[null,null,14,{"$f":"'COG-M'!P299","v":0}]
[null,null,15,{"$f":"'COG-M'!P300","v":0}]
[null,null,16,{"$f":"'COG-M'!P301","v":0}]
[null,null,17,{"$f":"'COG-M'!P302","v":0}]
[null,null,25,{"$f":"'COG-M'!P303","v":0}]
[null,null,26,{"$f":"'COG-M'!P304","v":0}]
[null,null,27,{"$f":"'COG-M'!P305","v":0}]
[215,"Material impreso e información digital",11,{"$f":"'COG-M'!P306","v":0}]
[null,null,12,{"$f":"'COG-M'!P307","v":0}]
[null,null,13,{"$f":"'COG-M'!P308","v":0}]
[null,null,14,{"$f":"'COG-M'!P309","v":0}]
[null,null,15,{"$f":"'COG-M'!P310","v":0}]
[null,null,16,{"$f":"'COG-M'!P311","v":0}]
[null,null,17,{"$f":"'COG-M'!P312","v":0}]
[null,null,25,{"$f":"'COG-M'!P313","v":0}]
[null,null,26,{"$f":"'COG-M'!P314","v":0}]
[null,null,27,{"$f":"'COG-M'!P315","v":0}]
[216,"Material de limpieza",11,{"$f":"'COG-M'!P316","v":{"v":452256,"d":"452,256"}}]
[null,null,12,{"$f":"'COG-M'!P317","v":0}]
[null,null,13,{"$f":"'COG-M'!P318","v":0}]
[null,null,14,{"$f":"'COG-M'!P319","v":0}]
[null,null,15,{"$f":"'COG-M'!P320","v":0}]
[null,null,16,{"$f":"'COG-M'!P321","v":0}]
[null,null,17,{"$f":"'COG-M'!P322","v":0}]
[null,null,25,{"$f":"'COG-M'!P323","v":0}]
[null,null,26,{"$f":"'COG-M'!P324","v":0}]
[null,null,27,{"$f":"'COG-M'!P325","v":0}]
[217,"Materiales y útiles de enseñanza",11,{"$f":"'COG-M'!P326","v":0}]
[null,null,12,{"$f":"'COG-M'!P327","v":0}]
[null,null,13,{"$f":"'COG-M'!P328","v":0}]
[null,null,14,{"$f":"'COG-M'!P329","v":0}]
[null,null,15,{"$f":"'COG-M'!P330","v":0}]
[null,null,16,{"$f":"'COG-M'!P331","v":0}]
[null,null,17,{"$f":"'COG-M'!P332","v":0}]
[null,null,25,{"$f":"'COG-M'!P333","v":0}]
[null,null,26,{"$f":"'COG-M'!P334","v":0}]
[null,null,27,{"$f":"'COG-M'!P335","v":0}]
[218,"Materiales para el registro e identificación de bienes y personas",11,{"$f":"'COG-M'!P336","v":{"v":16932,"d":"16,932"}}]
[null,null,12,{"$f":"'COG-M'!P337","v":0}]
[null,null,13,{"$f":"'COG-M'!P338","v":0}]
[null,null,14,{"$f":"'COG-M'!P339","v":0}]
[null,null,15,{"$f":"'COG-M'!P340","v":0}]
[null,null,16,{"$f":"'COG-M'!P341","v":0}]
[null,null,17,{"$f":"'COG-M'!P342","v":0}]
[null,null,25,{"$f":"'COG-M'!P343","v":0}]
[null,null,26,{"$f":"'COG-M'!P344","v":0}]
[null,null,27,{"$f":"'COG-M'!P345","v":0}]
[2200,"ALIMENTOS Y UTENSILIOS",null,{"$f":"'COG-M'!P346","v":{"v":966084,"d":"966,084"}}]
[221,"Productos alimenticios para personas",11,{"$f":"'COG-M'!P347","v":{"v":538452,"d":"538,452"}}]
[null,null,12,{"$f":"'COG-M'!P348","v":0}]
[null,null,13,{"$f":"'COG-M'!P349","v":0}]
[null,null,14,{"$f":"'COG-M'!P350","v":0}]
[null,null,15,{"$f":"'COG-M'!P351","v":0}]
[null,null,16,{"$f":"'COG-M'!P352","v":0}]
[null,null,17,{"$f":"'COG-M'!P353","v":0}]
[null,null,25,{"$f":"'COG-M'!P354","v":0}]
[null,null,26,{"$f":"'COG-M'!P355","v":0}]
[null,null,27,{"$f":"'COG-M'!P356","v":0}]
[222,"Productos alimenticios para animales",11,{"$f":"'COG-M'!P357","v":0}]
[null,null,12,{"$f":"'COG-M'!P358","v":0}]
[null,null,13,{"$f":"'COG-M'!P359","v":0}]
[null,null,14,{"$f":"'COG-M'!P360","v":0}]
[null,null,15,{"$f":"'COG-M'!P361","v":0}]
[null,null,16,{"$f":"'COG-M'!P362","v":0}]
[null,null,17,{"$f":"'COG-M'!P363","v":0}]
[null,null,25,{"$f":"'COG-M'!P364","v":0}]
[null,null,26,{"$f":"'COG-M'!P365","v":0}]
[null,null,27,{"$f":"'COG-M'!P366","v":0}]
[223,"Utensilios para el servicio de alimentación",11,{"$f":"'COG-M'!P367","v":{"v":427632,"d":"427,632"}}]
[null,null,12,{"$f":"'COG-M'!P368","v":0}]
[null,null,13,{"$f":"'COG-M'!P369","v":0}]
[null,null,14,{"$f":"'COG-M'!P370","v":0}]
[null,null,15,{"$f":"'COG-M'!P371","v":0}]
[null,null,16,{"$f":"'COG-M'!P372","v":0}]
[null,null,17,{"$f":"'COG-M'!P373","v":0}]
[null,null,25,{"$f":"'COG-M'!P374","v":0}]
[null,null,26,{"$f":"'COG-M'!P375","v":0}]
[null,null,27,{"$f":"'COG-M'!P376","v":0}]
[2300,"MATERIAS PRIMAS Y MATERIALES DE PRODUCCIÓN Y COMERCIALIZACIÓN",null,{"$f":"'COG-M'!P377","v":0}]
[231,"Productos alimenticios, agropecuarios y forestales adquiridos como materia prima",null,{"$f":"'COG-M'!P378","v":0}]
[232,"Insumos textiles adquiridos como materia prima",null,{"$f":"'COG-M'!P379","v":0}]
[233,"Productos de papel, cartón e impresos adquiridos como materia prima",null,{"$f":"'COG-M'!P380","v":0}]
[234,"Combustibles, lubricantes, aditivos, carbón y sus derivados adquiridos como materia prima",null,{"$f":"'COG-M'!P381","v":0}]
[235,"Productos químicos, farmacéuticos y de laboratorio adquiridos como materia prima",null,{"$f":"'COG-M'!P382","v":0}]
[236,"Productos metálicos y a base de minerales no metálicos adquiridos como materia prima",null,{"$f":"'COG-M'!P383","v":0}]
[237,"Productos de cuero, piel, plástico y hule adquiridos como materia prima",null,{"$f":"'COG-M'!P384","v":0}]
[238,"Mercancías adquiridas para su comercialización",null,{"$f":"'COG-M'!P385","v":0}]
[239,"Otros productos adquiridos como materia prima",null,{"$f":"'COG-M'!P386","v":0}]
[2400,"MATERIALES Y ARTÍCULOS DE CONSTRUCCIÓN Y DE REPARACIÓN",null,{"$f":"'COG-M'!P387","v":{"v":5118108,"d":"5,118,108"}}]
[241,"Productos minerales no metálicos",11,{"$f":"'COG-M'!P388","v":{"v":571932,"d":"571,932"}}]
[null,null,12,{"$f":"'COG-M'!P389","v":0}]
[null,null,13,{"$f":"'COG-M'!P390","v":0}]
[null,null,14,{"$f":"'COG-M'!P391","v":0}]
[null,null,15,{"$f":"'COG-M'!P392","v":0}]
[null,null,16,{"$f":"'COG-M'!P393","v":0}]
[null,null,17,{"$f":"'COG-M'!P394","v":0}]
[null,null,25,{"$f":"'COG-M'!P395","v":0}]
[null,null,26,{"$f":"'COG-M'!P396","v":0}]
[null,null,27,{"$f":"'COG-M'!P397","v":0}]
[242,"Cemento y productos de concreto",11,{"$f":"'COG-M'!P398","v":{"v":2665764,"d":"2,665,764"}}]
[null,null,12,{"$f":"'COG-M'!P399","v":0}]
[null,null,13,{"$f":"'COG-M'!P400","v":0}]
[null,null,14,{"$f":"'COG-M'!P401","v":0}]
[null,null,15,{"$f":"'COG-M'!P402","v":0}]
[null,null,16,{"$f":"'COG-M'!P403","v":0}]
[null,null,17,{"$f":"'COG-M'!P404","v":0}]
[null,null,25,{"$f":"'COG-M'!P405","v":0}]
[null,null,26,{"$f":"'COG-M'!P406","v":0}]
[null,null,27,{"$f":"'COG-M'!P407","v":0}]
[243,"Cal, yeso y productos de yeso",11,{"$f":"'COG-M'!P408","v":0}]
[null,null,12,{"$f":"'COG-M'!P409","v":0}]
[null,null,13,{"$f":"'COG-M'!P410","v":0}]
[null,null,14,{"$f":"'COG-M'!P411","v":0}]
[null,null,15,{"$f":"'COG-M'!P412","v":0}]
[null,null,16,{"$f":"'COG-M'!P413","v":0}]
[null,null,17,{"$f":"'COG-M'!P414","v":0}]
[null,null,25,{"$f":"'COG-M'!P415","v":0}]
[null,null,26,{"$f":"'COG-M'!P416","v":0}]
[null,null,27,{"$f":"'COG-M'!P417","v":0}]
[244,"Madera y productos de madera",11,{"$f":"'COG-M'!P418","v":{"v":3756,"d":"3,756"}}]
[null,null,12,{"$f":"'COG-M'!P419","v":0}]
[null,null,13,{"$f":"'COG-M'!P420","v":0}]
[null,null,14,{"$f":"'COG-M'!P421","v":0}]
[null,null,15,{"$f":"'COG-M'!P422","v":0}]
[null,null,16,{"$f":"'COG-M'!P423","v":0}]
[null,null,17,{"$f":"'COG-M'!P424","v":0}]
[null,null,25,{"$f":"'COG-M'!P425","v":0}]
[null,null,26,{"$f":"'COG-M'!P426","v":0}]
[null,null,27,{"$f":"'COG-M'!P427","v":0}]
[245,"Vidrio y productos de vidrio",11,{"$f":"'COG-M'!P428","v":0}]
[null,null,12,{"$f":"'COG-M'!P429","v":0}]
[null,null,13,{"$f":"'COG-M'!P430","v":0}]
[null,null,14,{"$f":"'COG-M'!P431","v":0}]
[null,null,15,{"$f":"'COG-M'!P432","v":0}]
[null,null,16,{"$f":"'COG-M'!P433","v":0}]
[null,null,17,{"$f":"'COG-M'!P434","v":0}]
[null,null,25,{"$f":"'COG-M'!P435","v":0}]
[null,null,26,{"$f":"'COG-M'!P436","v":0}]
[null,null,27,{"$f":"'COG-M'!P437","v":0}]
[246,"Material eléctrico y electrónico",11,{"$f":"'COG-M'!P438","v":{"v":959376,"d":"959,376"}}]
[null,null,12,{"$f":"'COG-M'!P439","v":0}]
[null,null,13,{"$f":"'COG-M'!P440","v":0}]
[null,null,14,{"$f":"'COG-M'!P441","v":0}]
[null,null,15,{"$f":"'COG-M'!P442","v":0}]
[null,null,16,{"$f":"'COG-M'!P443","v":0}]
[null,null,17,{"$f":"'COG-M'!P444","v":0}]
[null,null,25,{"$f":"'COG-M'!P445","v":0}]
[null,null,26,{"$f":"'COG-M'!P446","v":0}]
[null,null,27,{"$f":"'COG-M'!P447","v":0}]
[247,"Artículos metálicos para la construcción",11,{"$f":"'COG-M'!P448","v":{"v":299688,"d":"299,688"}}]
[null,null,12,{"$f":"'COG-M'!P449","v":0}]
[null,null,13,{"$f":"'COG-M'!P450","v":0}]
[null,null,14,{"$f":"'COG-M'!P451","v":0}]
[null,null,15,{"$f":"'COG-M'!P452","v":0}]
[null,null,16,{"$f":"'COG-M'!P453","v":0}]
[null,null,17,{"$f":"'COG-M'!P454","v":0}]
[null,null,25,{"$f":"'COG-M'!P455","v":0}]
[null,null,26,{"$f":"'COG-M'!P456","v":0}]
[null,null,27,{"$f":"'COG-M'!P457","v":0}]
[248,"Materiales complementarios",11,{"$f":"'COG-M'!P458","v":0}]
[null,null,12,{"$f":"'COG-M'!P459","v":0}]
[null,null,13,{"$f":"'COG-M'!P460","v":0}]
[null,null,14,{"$f":"'COG-M'!P461","v":0}]
[null,null,15,{"$f":"'COG-M'!P462","v":0}]
[null,null,16,{"$f":"'COG-M'!P463","v":0}]
[null,null,17,{"$f":"'COG-M'!P464","v":0}]
[null,null,25,{"$f":"'COG-M'!P465","v":0}]
[null,null,26,{"$f":"'COG-M'!P466","v":0}]
[null,null,27,{"$f":"'COG-M'!P467","v":0}]
[249,"Otros materiales y artículos de construcción y reparación",11,{"$f":"'COG-M'!P468","v":{"v":617592,"d":"617,592"}}]
[null,null,12,{"$f":"'COG-M'!P469","v":0}]
[null,null,13,{"$f":"'COG-M'!P470","v":0}]
[null,null,14,{"$f":"'COG-M'!P471","v":0}]
[null,null,15,{"$f":"'COG-M'!P472","v":0}]
[null,null,16,{"$f":"'COG-M'!P473","v":0}]
[null,null,17,{"$f":"'COG-M'!P474","v":0}]
[null,null,25,{"$f":"'COG-M'!P475","v":0}]
[null,null,26,{"$f":"'COG-M'!P476","v":0}]
[null,null,27,{"$f":"'COG-M'!P477","v":0}]
[2500,"PRODUCTOS QUÍMICOS, FARMACÉUTICOS Y DE LABORATORIO",null,{"$f":"'COG-M'!P478","v":{"v":629688,"d":"629,688"}}]
[251,"Productos químicos básicos",11,{"$f":"'COG-M'!P479","v":0}]
[null,null,12,{"$f":"'COG-M'!P480","v":0}]
[null,null,13,{"$f":"'COG-M'!P481","v":0}]
[null,null,14,{"$f":"'COG-M'!P482","v":0}]
[null,null,15,{"$f":"'COG-M'!P483","v":0}]
[null,null,16,{"$f":"'COG-M'!P484","v":0}]
[null,null,17,{"$f":"'COG-M'!P485","v":0}]
[null,null,25,{"$f":"'COG-M'!P486","v":0}]
[null,null,26,{"$f":"'COG-M'!P487","v":0}]
[null,null,27,{"$f":"'COG-M'!P488","v":0}]
[252,"Fertilizantes, pesticidas y otros agroquímicos",11,{"$f":"'COG-M'!P489","v":{"v":102756,"d":"102,756"}}]
[null,null,12,{"$f":"'COG-M'!P490","v":0}]
[null,null,13,{"$f":"'COG-M'!P491","v":0}]
[null,null,14,{"$f":"'COG-M'!P492","v":0}]
[null,null,15,{"$f":"'COG-M'!P493","v":0}]
[null,null,16,{"$f":"'COG-M'!P494","v":0}]
[null,null,17,{"$f":"'COG-M'!P495","v":0}]
[null,null,25,{"$f":"'COG-M'!P496","v":0}]
[null,null,26,{"$f":"'COG-M'!P497","v":0}]
[null,null,27,{"$f":"'COG-M'!P498","v":0}]
[253,"Medicinas y productos farmacéuticos",11,{"$f":"'COG-M'!P499","v":{"v":208608,"d":"208,608"}}]
[null,null,12,{"$f":"'COG-M'!P500","v":0}]
[null,null,13,{"$f":"'COG-M'!P501","v":0}]
[null,null,14,{"$f":"'COG-M'!P502","v":0}]
[null,null,15,{"$f":"'COG-M'!P503","v":0}]
[null,null,16,{"$f":"'COG-M'!P504","v":0}]
[null,null,17,{"$f":"'COG-M'!P505","v":0}]
[null,null,25,{"$f":"'COG-M'!P506","v":0}]
[null,null,26,{"$f":"'COG-M'!P507","v":0}]
[null,null,27,{"$f":"'COG-M'!P508","v":0}]
[254,"Materiales, accesorios y suministros médicos",11,{"$f":"'COG-M'!P509","v":{"v":3660,"d":"3,660"}}]
[null,null,12,{"$f":"'COG-M'!P510","v":0}]
[null,null,13,{"$f":"'COG-M'!P511","v":0}]
[null,null,14,{"$f":"'COG-M'!P512","v":0}]
[null,null,15,{"$f":"'COG-M'!P513","v":0}]
[null,null,16,{"$f":"'COG-M'!P514","v":0}]
[null,null,17,{"$f":"'COG-M'!P515","v":0}]
[null,null,25,{"$f":"'COG-M'!P516","v":0}]
[null,null,26,{"$f":"'COG-M'!P517","v":0}]
[null,null,27,{"$f":"'COG-M'!P518","v":0}]
[255,"Materiales, accesorios y suministros de laboratorio",11,{"$f":"'COG-M'!P519","v":0}]
[null,null,12,{"$f":"'COG-M'!P520","v":0}]
[null,null,13,{"$f":"'COG-M'!P521","v":0}]
[null,null,14,{"$f":"'COG-M'!P522","v":0}]
[null,null,15,{"$f":"'COG-M'!P523","v":0}]
[null,null,16,{"$f":"'COG-M'!P524","v":0}]
[null,null,17,{"$f":"'COG-M'!P525","v":0}]
[null,null,25,{"$f":"'COG-M'!P526","v":0}]
[null,null,26,{"$f":"'COG-M'!P527","v":0}]
[null,null,27,{"$f":"'COG-M'!P528","v":0}]
[256,"Fibras sintéticas, hules plásticos y derivados",11,{"$f":"'COG-M'!P529","v":{"v":30000,"d":"30,000"}}]
[null,null,12,{"$f":"'COG-M'!P530","v":0}]
[null,null,13,{"$f":"'COG-M'!P531","v":0}]
[null,null,14,{"$f":"'COG-M'!P532","v":0}]
[null,null,15,{"$f":"'COG-M'!P533","v":0}]
[null,null,16,{"$f":"'COG-M'!P534","v":0}]
[null,null,17,{"$f":"'COG-M'!P535","v":0}]
[null,null,25,{"$f":"'COG-M'!P536","v":0}]
[null,null,26,{"$f":"'COG-M'!P537","v":0}]
[null,null,27,{"$f":"'COG-M'!P538","v":0}]
[259,"Otros productos químicos",11,{"$f":"'COG-M'!P539","v":{"v":284664,"d":"284,664"}}]
[null,null,12,{"$f":"'COG-M'!P540","v":0}]
[null,null,13,{"$f":"'COG-M'!P541","v":0}]
[null,null,14,{"$f":"'COG-M'!P542","v":0}]
[null,null,15,{"$f":"'COG-M'!P543","v":0}]
[null,null,16,{"$f":"'COG-M'!P544","v":0}]
[null,null,17,{"$f":"'COG-M'!P545","v":0}]
[null,null,25,{"$f":"'COG-M'!P546","v":0}]
[null,null,26,{"$f":"'COG-M'!P547","v":0}]
[null,null,27,{"$f":"'COG-M'!P548","v":0}]
[2600,"COMBUSTIBLES, LUBRICANTES Y ADITIVOS",null,{"$f":"'COG-M'!P549","v":{"v":9791304,"d":"9,791,304"}}]
[261,"Combustibles, lubricantes y aditivos",11,{"$f":"'COG-M'!P550","v":{"v":9791304,"d":"9,791,304"}}]
[null,null,12,{"$f":"'COG-M'!P551","v":0}]
[null,null,13,{"$f":"'COG-M'!P552","v":0}]
[null,null,14,{"$f":"'COG-M'!P553","v":0}]
[null,null,15,{"$f":"'COG-M'!P554","v":0}]
[null,null,16,{"$f":"'COG-M'!P555","v":0}]
[null,null,17,{"$f":"'COG-M'!P556","v":0}]
[null,null,25,{"$f":"'COG-M'!P557","v":0}]
[null,null,26,{"$f":"'COG-M'!P558","v":0}]
[null,null,27,{"$f":"'COG-M'!P559","v":0}]
[262,"Carbón y sus derivados",11,{"$f":"'COG-M'!P560","v":0}]
[null,null,12,{"$f":"'COG-M'!P561","v":0}]
[null,null,13,{"$f":"'COG-M'!P562","v":0}]
[null,null,14,{"$f":"'COG-M'!P563","v":0}]
[null,null,15,{"$f":"'COG-M'!P564","v":0}]
[null,null,16,{"$f":"'COG-M'!P565","v":0}]
[null,null,17,{"$f":"'COG-M'!P566","v":0}]
[null,null,25,{"$f":"'COG-M'!P567","v":0}]
[null,null,26,{"$f":"'COG-M'!P568","v":0}]
[null,null,27,{"$f":"'COG-M'!P569","v":0}]
[2700,"VESTUARIO, BLANCOS, PRENDAS DE PROTECCIÓN Y ARTÍCULOS DEPORTIVOS",null,{"$f":"'COG-M'!P570","v":{"v":411108,"d":"411,108"}}]
[271,"Vestuario y uniformes",11,{"$f":"'COG-M'!P571","v":{"v":273168,"d":"273,168"}}]
[null,null,12,{"$f":"'COG-M'!P572","v":0}]
[null,null,13,{"$f":"'COG-M'!P573","v":0}]
[null,null,14,{"$f":"'COG-M'!P574","v":0}]
[null,null,15,{"$f":"'COG-M'!P575","v":0}]
[null,null,16,{"$f":"'COG-M'!P576","v":0}]
[null,null,17,{"$f":"'COG-M'!P577","v":0}]
[null,null,25,{"$f":"'COG-M'!P578","v":0}]
[null,null,26,{"$f":"'COG-M'!P579","v":0}]
[null,null,27,{"$f":"'COG-M'!P580","v":0}]
[272,"Prendas de seguridad y protección personal",11,{"$f":"'COG-M'!P581","v":0}]
[null,null,12,{"$f":"'COG-M'!P582","v":0}]
[null,null,13,{"$f":"'COG-M'!P583","v":0}]
[null,null,14,{"$f":"'COG-M'!P584","v":0}]
[null,null,15,{"$f":"'COG-M'!P585","v":0}]
[null,null,16,{"$f":"'COG-M'!P586","v":0}]
[null,null,17,{"$f":"'COG-M'!P587","v":0}]
[null,null,25,{"$f":"'COG-M'!P588","v":0}]
[null,null,26,{"$f":"'COG-M'!P589","v":0}]
[null,null,27,{"$f":"'COG-M'!P590","v":0}]
[273,"Artículos deportivos",11,{"$f":"'COG-M'!P591","v":{"v":137940,"d":"137,940"}}]
[null,null,12,{"$f":"'COG-M'!P592","v":0}]
[null,null,13,{"$f":"'COG-M'!P593","v":0}]
[null,null,14,{"$f":"'COG-M'!P594","v":0}]
[null,null,15,{"$f":"'COG-M'!P595","v":0}]
[null,null,16,{"$f":"'COG-M'!P596","v":0}]
[null,null,17,{"$f":"'COG-M'!P597","v":0}]
[null,null,25,{"$f":"'COG-M'!P598","v":0}]
[null,null,26,{"$f":"'COG-M'!P599","v":0}]
[null,null,27,{"$f":"'COG-M'!P600","v":0}]
[274,"Productos textiles",11,{"$f":"'COG-M'!P601","v":0}]
[null,null,12,{"$f":"'COG-M'!P602","v":0}]
[null,null,13,{"$f":"'COG-M'!P603","v":0}]
[null,null,14,{"$f":"'COG-M'!P604","v":0}]
[null,null,15,{"$f":"'COG-M'!P605","v":0}]
[null,null,16,{"$f":"'COG-M'!P606","v":0}]
[null,null,17,{"$f":"'COG-M'!P607","v":0}]
[null,null,25,{"$f":"'COG-M'!P608","v":0}]
[null,null,26,{"$f":"'COG-M'!P609","v":0}]
[null,null,27,{"$f":"'COG-M'!P610","v":0}]
[275,"Blancos y otros productos textiles, excepto prendas de vestir",11,{"$f":"'COG-M'!P611","v":0}]
[null,null,12,{"$f":"'COG-M'!P612","v":0}]
[null,null,13,{"$f":"'COG-M'!P613","v":0}]
[null,null,14,{"$f":"'COG-M'!P614","v":0}]
[null,null,15,{"$f":"'COG-M'!P615","v":0}]
[null,null,16,{"$f":"'COG-M'!P616","v":0}]
[null,null,17,{"$f":"'COG-M'!P617","v":0}]
[null,null,25,{"$f":"'COG-M'!P618","v":0}]
[null,null,26,{"$f":"'COG-M'!P619","v":0}]
[null,null,27,{"$f":"'COG-M'!P620","v":0}]
[2800,"MATERIALES Y SUMINISTROS PARA SEGURIDAD",null,{"$f":"'COG-M'!P621","v":{"v":143928,"d":"143,928"}}]
[281,"Sustancias y materiales explosivos",11,{"$f":"'COG-M'!P622","v":0}]
[null,null,12,{"$f":"'COG-M'!P623","v":0}]
[null,null,13,{"$f":"'COG-M'!P624","v":0}]
[null,null,14,{"$f":"'COG-M'!P625","v":0}]
[null,null,15,{"$f":"'COG-M'!P626","v":0}]
[null,null,16,{"$f":"'COG-M'!P627","v":0}]
[null,null,17,{"$f":"'COG-M'!P628","v":0}]
[null,null,25,{"$f":"'COG-M'!P629","v":0}]
[null,null,26,{"$f":"'COG-M'!P630","v":0}]
[null,null,27,{"$f":"'COG-M'!P631","v":0}]
[282,"Materiales de seguridad pública",11,{"$f":"'COG-M'!P632","v":{"v":143928,"d":"143,928"}}]
[null,null,12,{"$f":"'COG-M'!P633","v":0}]
[null,null,13,{"$f":"'COG-M'!P634","v":0}]
[null,null,14,{"$f":"'COG-M'!P635","v":0}]
[null,null,15,{"$f":"'COG-M'!P636","v":0}]
[null,null,16,{"$f":"'COG-M'!P637","v":0}]
[null,null,17,{"$f":"'COG-M'!P638","v":0}]
[null,null,25,{"$f":"'COG-M'!P639","v":0}]
[null,null,26,{"$f":"'COG-M'!P640","v":0}]
[null,null,27,{"$f":"'COG-M'!P641","v":0}]
[283,"Prendas de protección para seguridad pública y nacional",11,{"$f":"'COG-M'!P642","v":0}]
[null,null,12,{"$f":"'COG-M'!P643","v":0}]
[null,null,13,{"$f":"'COG-M'!P644","v":0}]
[null,null,14,{"$f":"'COG-M'!P645","v":0}]
[null,null,15,{"$f":"'COG-M'!P646","v":0}]
[null,null,16,{"$f":"'COG-M'!P647","v":0}]
[null,null,17,{"$f":"'COG-M'!P648","v":0}]
[null,null,25,{"$f":"'COG-M'!P649","v":0}]
[null,null,26,{"$f":"'COG-M'!P650","v":0}]
[null,null,27,{"$f":"'COG-M'!P651","v":0}]
[2900,"HERRAMIENTAS, REFACCIONES Y ACCESORIOS MENORES",null,{"$f":"'COG-M'!P652","v":{"v":2611536,"d":"2,611,536"}}]
[291,"Herramientas menores",11,{"$f":"'COG-M'!P653","v":{"v":484392,"d":"484,392"}}]
[null,null,12,{"$f":"'COG-M'!P654","v":0}]
[null,null,13,{"$f":"'COG-M'!P655","v":0}]
[null,null,14,{"$f":"'COG-M'!P656","v":0}]
[null,null,15,{"$f":"'COG-M'!P657","v":0}]
[null,null,16,{"$f":"'COG-M'!P658","v":0}]
[null,null,17,{"$f":"'COG-M'!P659","v":0}]
[null,null,25,{"$f":"'COG-M'!P660","v":0}]
[null,null,26,{"$f":"'COG-M'!P661","v":0}]
[null,null,27,{"$f":"'COG-M'!P662","v":0}]
[292,"Refacciones y accesorios menores de edificios",11,{"$f":"'COG-M'!P663","v":{"v":37068,"d":"37,068"}}]
[null,null,12,{"$f":"'COG-M'!P664","v":0}]
[null,null,13,{"$f":"'COG-M'!P665","v":0}]
[null,null,14,{"$f":"'COG-M'!P666","v":0}]
[null,null,15,{"$f":"'COG-M'!P667","v":0}]
[null,null,16,{"$f":"'COG-M'!P668","v":0}]
[null,null,17,{"$f":"'COG-M'!P669","v":0}]
[null,null,25,{"$f":"'COG-M'!P670","v":0}]
[null,null,26,{"$f":"'COG-M'!P671","v":0}]
[null,null,27,{"$f":"'COG-M'!P672","v":0}]
[293,"Refacciones y accesorios menores de mobiliario  y equipo de administración, educacional y recreativo",11,{"$f":"'COG-M'!P673","v":{"v":9744,"d":"9,744"}}]
[null,null,12,{"$f":"'COG-M'!P674","v":0}]
[null,null,13,{"$f":"'COG-M'!P675","v":0}]
[null,null,14,{"$f":"'COG-M'!P676","v":0}]
[null,null,15,{"$f":"'COG-M'!P677","v":0}]
[null,null,16,{"$f":"'COG-M'!P678","v":0}]
[null,null,17,{"$f":"'COG-M'!P679","v":0}]
[null,null,25,{"$f":"'COG-M'!P680","v":0}]
[null,null,26,{"$f":"'COG-M'!P681","v":0}]
[null,null,27,{"$f":"'COG-M'!P682","v":0}]
[294,"Refacciones y accesorios menores de equipo de cómputo y tecnologías de la información",11,{"$f":"'COG-M'!P683","v":{"v":59760,"d":"59,760"}}]
[null,null,12,{"$f":"'COG-M'!P684","v":0}]
[null,null,13,{"$f":"'COG-M'!P685","v":0}]
[null,null,14,{"$f":"'COG-M'!P686","v":0}]
[null,null,15,{"$f":"'COG-M'!P687","v":0}]
[null,null,16,{"$f":"'COG-M'!P688","v":0}]
[null,null,17,{"$f":"'COG-M'!P689","v":0}]
[null,null,25,{"$f":"'COG-M'!P690","v":0}]
[null,null,26,{"$f":"'COG-M'!P691","v":0}]
[null,null,27,{"$f":"'COG-M'!P692","v":0}]
[295,"Refacciones y accesorios menores de equipo e instrumental médico y de laboratorio",11,{"$f":"'COG-M'!P693","v":0}]
[null,null,12,{"$f":"'COG-M'!P694","v":0}]
[null,null,13,{"$f":"'COG-M'!P695","v":0}]
[null,null,14,{"$f":"'COG-M'!P696","v":0}]
[null,null,15,{"$f":"'COG-M'!P697","v":0}]
[null,null,16,{"$f":"'COG-M'!P698","v":0}]
[null,null,17,{"$f":"'COG-M'!P699","v":0}]
[null,null,25,{"$f":"'COG-M'!P700","v":0}]
[null,null,26,{"$f":"'COG-M'!P701","v":0}]
[null,null,27,{"$f":"'COG-M'!P702","v":0}]
[296,"Refacciones y accesorios menores de equipo de transporte",11,{"$f":"'COG-M'!P703","v":{"v":1115472,"d":"1,115,472"}}]
[null,null,12,{"$f":"'COG-M'!P704","v":0}]
[null,null,13,{"$f":"'COG-M'!P705","v":0}]
[null,null,14,{"$f":"'COG-M'!P706","v":0}]
[null,null,15,{"$f":"'COG-M'!P707","v":0}]
[null,null,16,{"$f":"'COG-M'!P708","v":0}]
[null,null,17,{"$f":"'COG-M'!P709","v":0}]
[null,null,25,{"$f":"'COG-M'!P710","v":0}]
[null,null,26,{"$f":"'COG-M'!P711","v":0}]
[null,null,27,{"$f":"'COG-M'!P712","v":0}]
[297,"Refacciones y accesorios menores de equipo de defensa y seguridad",11,{"$f":"'COG-M'!P713","v":0}]
[null,null,12,{"$f":"'COG-M'!P714","v":0}]
[null,null,13,{"$f":"'COG-M'!P715","v":0}]
[null,null,14,{"$f":"'COG-M'!P716","v":0}]
[null,null,15,{"$f":"'COG-M'!P717","v":0}]
[null,null,16,{"$f":"'COG-M'!P718","v":0}]
[null,null,17,{"$f":"'COG-M'!P719","v":0}]
[null,null,25,{"$f":"'COG-M'!P720","v":0}]
[null,null,26,{"$f":"'COG-M'!P721","v":0}]
[null,null,27,{"$f":"'COG-M'!P722","v":0}]
[298,"Refacciones y accesorios menores de maquinaria y otros equipos",11,{"$f":"'COG-M'!P723","v":{"v":905100,"d":"905,100"}}]
[null,null,12,{"$f":"'COG-M'!P724","v":0}]
[null,null,13,{"$f":"'COG-M'!P725","v":0}]
[null,null,14,{"$f":"'COG-M'!P726","v":0}]
[null,null,15,{"$f":"'COG-M'!P727","v":0}]
[null,null,16,{"$f":"'COG-M'!P728","v":0}]
[null,null,17,{"$f":"'COG-M'!P729","v":0}]
[null,null,25,{"$f":"'COG-M'!P730","v":0}]
[null,null,26,{"$f":"'COG-M'!P731","v":0}]
[null,null,27,{"$f":"'COG-M'!P732","v":0}]
[299,"Refacciones y accesorios menores otros bienes muebles",11,{"$f":"'COG-M'!P733","v":0}]
[null,null,12,{"$f":"'COG-M'!P734","v":0}]
[null,null,13,{"$f":"'COG-M'!P735","v":0}]
[null,null,14,{"$f":"'COG-M'!P736","v":0}]
[null,null,15,{"$f":"'COG-M'!P737","v":0}]
[null,null,16,{"$f":"'COG-M'!P738","v":0}]
[null,null,17,{"$f":"'COG-M'!P739","v":0}]
[null,null,25,{"$f":"'COG-M'!P740","v":0}]
[null,null,26,{"$f":"'COG-M'!P741","v":0}]
[null,null,27,{"$f":"'COG-M'!P742","v":0}]
[3000,"SERVICIOS GENERALES",null,{"$f":"'COG-M'!P743","v":{"v":28688652,"d":"28,688,652"}}]
[3100,"SERVICIOS BÁSICOS",null,{"$f":"'COG-M'!P744","v":{"v":5368704,"d":"5,368,704"}}]
[311,"Energía eléctrica",11,{"$f":"'COG-M'!P745","v":{"v":4985052,"d":"4,985,052"}}]
[null,null,12,{"$f":"'COG-M'!P746","v":0}]
[null,null,13,{"$f":"'COG-M'!P747","v":0}]
[null,null,14,{"$f":"'COG-M'!P748","v":0}]
[null,null,15,{"$f":"'COG-M'!P749","v":0}]
[null,null,16,{"$f":"'COG-M'!P750","v":0}]
[null,null,17,{"$f":"'COG-M'!P751","v":0}]
[null,null,25,{"$f":"'COG-M'!P752","v":0}]
[null,null,26,{"$f":"'COG-M'!P753","v":0}]
[null,null,27,{"$f":"'COG-M'!P754","v":0}]
[312,"Gas ",11,{"$f":"'COG-M'!P755","v":{"v":25044,"d":"25,044"}}]
[null,null,12,{"$f":"'COG-M'!P756","v":0}]
[null,null,13,{"$f":"'COG-M'!P757","v":0}]
[null,null,14,{"$f":"'COG-M'!P758","v":0}]
[null,null,15,{"$f":"'COG-M'!P759","v":0}]
[null,null,16,{"$f":"'COG-M'!P760","v":0}]
[null,null,17,{"$f":"'COG-M'!P761","v":0}]
[null,null,25,{"$f":"'COG-M'!P762","v":0}]
[null,null,26,{"$f":"'COG-M'!P763","v":0}]
[null,null,27,{"$f":"'COG-M'!P764","v":0}]
[313,"Agua",11,{"$f":"'COG-M'!P765","v":0}]
[null,null,12,{"$f":"'COG-M'!P766","v":0}]
[null,null,13,{"$f":"'COG-M'!P767","v":0}]
[null,null,14,{"$f":"'COG-M'!P768","v":0}]
[null,null,15,{"$f":"'COG-M'!P769","v":0}]
[null,null,16,{"$f":"'COG-M'!P770","v":0}]
[null,null,17,{"$f":"'COG-M'!P771","v":0}]
[null,null,25,{"$f":"'COG-M'!P772","v":0}]
[null,null,26,{"$f":"'COG-M'!P773","v":0}]
[null,null,27,{"$f":"'COG-M'!P774","v":0}]
[314,"Telefonía tradicional",11,{"$f":"'COG-M'!P775","v":{"v":146292,"d":"146,292"}}]
[null,null,12,{"$f":"'COG-M'!P776","v":0}]
[null,null,13,{"$f":"'COG-M'!P777","v":0}]
[null,null,14,{"$f":"'COG-M'!P778","v":0}]
[null,null,15,{"$f":"'COG-M'!P779","v":0}]
[null,null,16,{"$f":"'COG-M'!P780","v":0}]
[null,null,17,{"$f":"'COG-M'!P781","v":0}]
[null,null,25,{"$f":"'COG-M'!P782","v":0}]
[null,null,26,{"$f":"'COG-M'!P783","v":0}]
[null,null,27,{"$f":"'COG-M'!P784","v":0}]
[315,"Telefonía celular",11,{"$f":"'COG-M'!P785","v":{"v":72420,"d":"72,420"}}]
[null,null,12,{"$f":"'COG-M'!P786","v":0}]
[null,null,13,{"$f":"'COG-M'!P787","v":0}]
[null,null,14,{"$f":"'COG-M'!P788","v":0}]
[null,null,15,{"$f":"'COG-M'!P789","v":0}]
[null,null,16,{"$f":"'COG-M'!P790","v":0}]
[null,null,17,{"$f":"'COG-M'!P791","v":0}]
[null,null,25,{"$f":"'COG-M'!P792","v":0}]
[null,null,26,{"$f":"'COG-M'!P793","v":0}]
[null,null,27,{"$f":"'COG-M'!P794","v":0}]
[316,"Servicios de telecomunicaciones y satélites",11,{"$f":"'COG-M'!P795","v":0}]
[null,null,12,{"$f":"'COG-M'!P796","v":0}]
[null,null,13,{"$f":"'COG-M'!P797","v":0}]
[null,null,14,{"$f":"'COG-M'!P798","v":0}]
[null,null,15,{"$f":"'COG-M'!P799","v":0}]
[null,null,16,{"$f":"'COG-M'!P800","v":0}]
[null,null,17,{"$f":"'COG-M'!P801","v":0}]
[null,null,25,{"$f":"'COG-M'!P802","v":0}]
[null,null,26,{"$f":"'COG-M'!P803","v":0}]
[null,null,27,{"$f":"'COG-M'!P804","v":0}]
[317,"Servicios de acceso de Internet, redes y procesamiento de información",11,{"$f":"'COG-M'!P805","v":{"v":139368,"d":"139,368"}}]
[null,null,12,{"$f":"'COG-M'!P806","v":0}]
[null,null,13,{"$f":"'COG-M'!P807","v":0}]
[null,null,14,{"$f":"'COG-M'!P808","v":0}]
[null,null,15,{"$f":"'COG-M'!P809","v":0}]
[null,null,16,{"$f":"'COG-M'!P810","v":0}]
[null,null,17,{"$f":"'COG-M'!P811","v":0}]
[null,null,25,{"$f":"'COG-M'!P812","v":0}]
[null,null,26,{"$f":"'COG-M'!P813","v":0}]
[null,null,27,{"$f":"'COG-M'!P814","v":0}]
[318,"Servicios postales y telegráficos",11,{"$f":"'COG-M'!P815","v":528}]
[null,null,12,{"$f":"'COG-M'!P816","v":0}]
[null,null,13,{"$f":"'COG-M'!P817","v":0}]
[null,null,14,{"$f":"'COG-M'!P818","v":0}]
[null,null,15,{"$f":"'COG-M'!P819","v":0}]
[null,null,16,{"$f":"'COG-M'!P820","v":0}]
[null,null,17,{"$f":"'COG-M'!P821","v":0}]
[null,null,25,{"$f":"'COG-M'!P822","v":0}]
[null,null,26,{"$f":"'COG-M'!P823","v":0}]
[null,null,27,{"$f":"'COG-M'!P824","v":0}]
[319,"Servicios integrales y otros servicios",11,{"$f":"'COG-M'!P825","v":0}]
[null,null,12,{"$f":"'COG-M'!P826","v":0}]
[null,null,13,{"$f":"'COG-M'!P827","v":0}]
[null,null,14,{"$f":"'COG-M'!P828","v":0}]
[null,null,15,{"$f":"'COG-M'!P829","v":0}]
[null,null,16,{"$f":"'COG-M'!P830","v":0}]
[null,null,17,{"$f":"'COG-M'!P831","v":0}]
[null,null,25,{"$f":"'COG-M'!P832","v":0}]
[null,null,26,{"$f":"'COG-M'!P833","v":0}]
[null,null,27,{"$f":"'COG-M'!P834","v":0}]
[3200,"SERVICIOS DE ARRENDAMIENTO",null,{"$f":"'COG-M'!P835","v":{"v":9355956,"d":"9,355,956"}}]
[321,"Arrendamiento de terrenos",11,{"$f":"'COG-M'!P836","v":0}]
[null,null,12,{"$f":"'COG-M'!P837","v":0}]
[null,null,13,{"$f":"'COG-M'!P838","v":0}]
[null,null,14,{"$f":"'COG-M'!P839","v":0}]
[null,null,15,{"$f":"'COG-M'!P840","v":0}]
[null,null,16,{"$f":"'COG-M'!P841","v":0}]
[null,null,17,{"$f":"'COG-M'!P842","v":0}]
[null,null,25,{"$f":"'COG-M'!P843","v":0}]
[null,null,26,{"$f":"'COG-M'!P844","v":0}]
[null,null,27,{"$f":"'COG-M'!P845","v":0}]
[322,"Arrendamiento de edificios",11,{"$f":"'COG-M'!P846","v":{"v":171000,"d":"171,000"}}]
[null,null,12,{"$f":"'COG-M'!P847","v":0}]
[null,null,13,{"$f":"'COG-M'!P848","v":0}]
[null,null,14,{"$f":"'COG-M'!P849","v":0}]
[null,null,15,{"$f":"'COG-M'!P850","v":0}]
[null,null,16,{"$f":"'COG-M'!P851","v":0}]
[null,null,17,{"$f":"'COG-M'!P852","v":0}]
[null,null,25,{"$f":"'COG-M'!P853","v":0}]
[null,null,26,{"$f":"'COG-M'!P854","v":0}]
[null,null,27,{"$f":"'COG-M'!P855","v":0}]
[323,"Arrendamiento de mobiliario y equipo de administración, educacional y recreativo",11,{"$f":"'COG-M'!P856","v":0}]
[null,null,12,{"$f":"'COG-M'!P857","v":0}]
[null,null,13,{"$f":"'COG-M'!P858","v":0}]
[null,null,14,{"$f":"'COG-M'!P859","v":0}]
[null,null,15,{"$f":"'COG-M'!P860","v":0}]
[null,null,16,{"$f":"'COG-M'!P861","v":0}]
[null,null,17,{"$f":"'COG-M'!P862","v":0}]
[null,null,25,{"$f":"'COG-M'!P863","v":0}]
[null,null,26,{"$f":"'COG-M'!P864","v":0}]
[null,null,27,{"$f":"'COG-M'!P865","v":0}]
[324,"Arrendamiento de equipo e instrumental médico y de laboratorio",11,{"$f":"'COG-M'!P866","v":0}]
[null,null,12,{"$f":"'COG-M'!P867","v":0}]
[null,null,13,{"$f":"'COG-M'!P868","v":0}]
[null,null,14,{"$f":"'COG-M'!P869","v":0}]
[null,null,15,{"$f":"'COG-M'!P870","v":0}]
[null,null,16,{"$f":"'COG-M'!P871","v":0}]
[null,null,17,{"$f":"'COG-M'!P872","v":0}]
[null,null,25,{"$f":"'COG-M'!P873","v":0}]
[null,null,26,{"$f":"'COG-M'!P874","v":0}]
[null,null,27,{"$f":"'COG-M'!P875","v":0}]
[325,"Arrendamiento de equipo de transporte",11,{"$f":"'COG-M'!P876","v":0}]
[null,null,12,{"$f":"'COG-M'!P877","v":0}]
[null,null,13,{"$f":"'COG-M'!P878","v":0}]
[null,null,14,{"$f":"'COG-M'!P879","v":0}]
[null,null,15,{"$f":"'COG-M'!P880","v":0}]
[null,null,16,{"$f":"'COG-M'!P881","v":0}]
[null,null,17,{"$f":"'COG-M'!P882","v":0}]
[null,null,25,{"$f":"'COG-M'!P883","v":0}]
[null,null,26,{"$f":"'COG-M'!P884","v":0}]
[null,null,27,{"$f":"'COG-M'!P885","v":0}]
[326,"Arrendamiento de maquinaria, otros equipos y herramientas",11,{"$f":"'COG-M'!P886","v":{"v":9184956,"d":"9,184,956"}}]
[null,null,12,{"$f":"'COG-M'!P887","v":0}]
[null,null,13,{"$f":"'COG-M'!P888","v":0}]
[null,null,14,{"$f":"'COG-M'!P889","v":0}]
[null,null,15,{"$f":"'COG-M'!P890","v":0}]
[null,null,16,{"$f":"'COG-M'!P891","v":0}]
[null,null,17,{"$f":"'COG-M'!P892","v":0}]
[null,null,25,{"$f":"'COG-M'!P893","v":0}]
[null,null,26,{"$f":"'COG-M'!P894","v":0}]
[null,null,27,{"$f":"'COG-M'!P895","v":0}]
[327,"Arrendamiento de activos intangibles",11,{"$f":"'COG-M'!P896","v":0}]
[null,null,12,{"$f":"'COG-M'!P897","v":0}]
[null,null,13,{"$f":"'COG-M'!P898","v":0}]
[null,null,14,{"$f":"'COG-M'!P899","v":0}]
[null,null,15,{"$f":"'COG-M'!P900","v":0}]
[null,null,16,{"$f":"'COG-M'!P901","v":0}]
[null,null,17,{"$f":"'COG-M'!P902","v":0}]
[null,null,25,{"$f":"'COG-M'!P903","v":0}]
[null,null,26,{"$f":"'COG-M'!P904","v":0}]
[null,null,27,{"$f":"'COG-M'!P905","v":0}]
[328,"Arrendamiento financiero",11,{"$f":"'COG-M'!P906","v":0}]
[null,null,12,{"$f":"'COG-M'!P907","v":0}]
[null,null,13,{"$f":"'COG-M'!P908","v":0}]
[null,null,14,{"$f":"'COG-M'!P909","v":0}]
[null,null,15,{"$f":"'COG-M'!P910","v":0}]
[null,null,16,{"$f":"'COG-M'!P911","v":0}]
[null,null,17,{"$f":"'COG-M'!P912","v":0}]
[null,null,25,{"$f":"'COG-M'!P913","v":0}]
[null,null,26,{"$f":"'COG-M'!P914","v":0}]
[null,null,27,{"$f":"'COG-M'!P915","v":0}]
[329,"Otros arrendamientos",11,{"$f":"'COG-M'!P916","v":0}]
[null,null,12,{"$f":"'COG-M'!P917","v":0}]
[null,null,13,{"$f":"'COG-M'!P918","v":0}]
[null,null,14,{"$f":"'COG-M'!P919","v":0}]
[null,null,15,{"$f":"'COG-M'!P920","v":0}]
[null,null,16,{"$f":"'COG-M'!P921","v":0}]
[null,null,17,{"$f":"'COG-M'!P922","v":0}]
[null,null,25,{"$f":"'COG-M'!P923","v":0}]
[null,null,26,{"$f":"'COG-M'!P924","v":0}]
[null,null,27,{"$f":"'COG-M'!P925","v":0}]
[3300,"SERVICIOS PROFESIONALES, CIENTÍFICOS, TÉCNICOS Y OTROS SERVICIOS",null,{"$f":"'COG-M'!P926","v":{"v":1786200,"d":"1,786,200"}}]
[331,"Servicios legales, de contabilidad, auditoría y relacionados",11,{"$f":"'COG-M'!P927","v":{"v":1195776,"d":"1,195,776"}}]
[null,null,12,{"$f":"'COG-M'!P928","v":0}]
[null,null,13,{"$f":"'COG-M'!P929","v":0}]
[null,null,14,{"$f":"'COG-M'!P930","v":0}]
[null,null,15,{"$f":"'COG-M'!P931","v":0}]
[null,null,16,{"$f":"'COG-M'!P932","v":0}]
[null,null,17,{"$f":"'COG-M'!P933","v":0}]
[null,null,25,{"$f":"'COG-M'!P934","v":0}]
[null,null,26,{"$f":"'COG-M'!P935","v":0}]
[null,null,27,{"$f":"'COG-M'!P936","v":0}]
[332,"Servicios de diseño, arquitectura, ingeniería y actividades relacionadas",11,{"$f":"'COG-M'!P937","v":{"v":31140,"d":"31,140"}}]
[null,null,12,{"$f":"'COG-M'!P938","v":0}]
[null,null,13,{"$f":"'COG-M'!P939","v":0}]
[null,null,14,{"$f":"'COG-M'!P940","v":0}]
[null,null,15,{"$f":"'COG-M'!P941","v":0}]
[null,null,16,{"$f":"'COG-M'!P942","v":0}]
[null,null,17,{"$f":"'COG-M'!P943","v":0}]
[null,null,25,{"$f":"'COG-M'!P944","v":0}]
[null,null,26,{"$f":"'COG-M'!P945","v":0}]
[null,null,27,{"$f":"'COG-M'!P946","v":0}]
[333,"Servicios de consultoría administrativa, procesos, técnica y en tecnologías de la información",11,{"$f":"'COG-M'!P947","v":0}]
[null,null,12,{"$f":"'COG-M'!P948","v":0}]
[null,null,13,{"$f":"'COG-M'!P949","v":0}]
[null,null,14,{"$f":"'COG-M'!P950","v":0}]
[null,null,15,{"$f":"'COG-M'!P951","v":0}]
[null,null,16,{"$f":"'COG-M'!P952","v":0}]
[null,null,17,{"$f":"'COG-M'!P953","v":0}]
[null,null,25,{"$f":"'COG-M'!P954","v":0}]
[null,null,26,{"$f":"'COG-M'!P955","v":0}]
[null,null,27,{"$f":"'COG-M'!P956","v":0}]
[334,"Servicios de capacitación",11,{"$f":"'COG-M'!P957","v":{"v":389508,"d":"389,508"}}]
[null,null,12,{"$f":"'COG-M'!P958","v":0}]
[null,null,13,{"$f":"'COG-M'!P959","v":0}]
[null,null,14,{"$f":"'COG-M'!P960","v":0}]
[null,null,15,{"$f":"'COG-M'!P961","v":0}]
[null,null,16,{"$f":"'COG-M'!P962","v":0}]
[null,null,17,{"$f":"'COG-M'!P963","v":0}]
[null,null,25,{"$f":"'COG-M'!P964","v":0}]
[null,null,26,{"$f":"'COG-M'!P965","v":0}]
[null,null,27,{"$f":"'COG-M'!P966","v":0}]
[335,"Servicios de investigación científica y desarrollo",11,{"$f":"'COG-M'!P967","v":0}]
[null,null,12,{"$f":"'COG-M'!P968","v":0}]
[null,null,13,{"$f":"'COG-M'!P969","v":0}]
[null,null,14,{"$f":"'COG-M'!P970","v":0}]
[null,null,15,{"$f":"'COG-M'!P971","v":0}]
[null,null,16,{"$f":"'COG-M'!P972","v":0}]
[null,null,17,{"$f":"'COG-M'!P973","v":0}]
[null,null,25,{"$f":"'COG-M'!P974","v":0}]
[null,null,26,{"$f":"'COG-M'!P975","v":0}]
[null,null,27,{"$f":"'COG-M'!P976","v":0}]
[336,"Servicios de apoyo administrativo, traducción, fotocopiado e impresión",11,{"$f":"'COG-M'!P977","v":{"v":169776,"d":"169,776"}}]
[null,null,12,{"$f":"'COG-M'!P978","v":0}]
[null,null,13,{"$f":"'COG-M'!P979","v":0}]
[null,null,14,{"$f":"'COG-M'!P980","v":0}]
[null,null,15,{"$f":"'COG-M'!P981","v":0}]
[null,null,16,{"$f":"'COG-M'!P982","v":0}]
[null,null,17,{"$f":"'COG-M'!P983","v":0}]
[null,null,25,{"$f":"'COG-M'!P984","v":0}]
[null,null,26,{"$f":"'COG-M'!P985","v":0}]
[null,null,27,{"$f":"'COG-M'!P986","v":0}]
[337,"Servicios de protección y seguridad",11,{"$f":"'COG-M'!P987","v":0}]
[null,null,12,{"$f":"'COG-M'!P988","v":0}]
[null,null,13,{"$f":"'COG-M'!P989","v":0}]
[null,null,14,{"$f":"'COG-M'!P990","v":0}]
[null,null,15,{"$f":"'COG-M'!P991","v":0}]
[null,null,16,{"$f":"'COG-M'!P992","v":0}]
[null,null,17,{"$f":"'COG-M'!P993","v":0}]
[null,null,25,{"$f":"'COG-M'!P994","v":0}]
[null,null,26,{"$f":"'COG-M'!P995","v":0}]
[null,null,27,{"$f":"'COG-M'!P996","v":0}]
[338,"Servicios de vigilancia",11,{"$f":"'COG-M'!P997","v":0}]
[null,null,12,{"$f":"'COG-M'!P998","v":0}]
[null,null,13,{"$f":"'COG-M'!P999","v":0}]
[null,null,14,{"$f":"'COG-M'!P1000","v":0}]
[null,null,15,{"$f":"'COG-M'!P1001","v":0}]
[null,null,16,{"$f":"'COG-M'!P1002","v":0}]
[null,null,17,{"$f":"'COG-M'!P1003","v":0}]
[null,null,25,{"$f":"'COG-M'!P1004","v":0}]
[null,null,26,{"$f":"'COG-M'!P1005","v":0}]
[null,null,27,{"$f":"'COG-M'!P1006","v":0}]
[339,"Servicios profesionales, científicos y técnicos integrales",11,{"$f":"'COG-M'!P1007","v":0}]
[null,null,12,{"$f":"'COG-M'!P1008","v":0}]
[null,null,13,{"$f":"'COG-M'!P1009","v":0}]
[null,null,14,{"$f":"'COG-M'!P1010","v":0}]
[null,null,15,{"$f":"'COG-M'!P1011","v":0}]
[null,null,16,{"$f":"'COG-M'!P1012","v":0}]
[null,null,17,{"$f":"'COG-M'!P1013","v":0}]
[null,null,25,{"$f":"'COG-M'!P1014","v":0}]
[null,null,26,{"$f":"'COG-M'!P1015","v":0}]
[null,null,27,{"$f":"'COG-M'!P1016","v":0}]
[3400,"SERVICIOS FINANCIEROS, BANCARIOS Y COMERCIALES",null,{"$f":"'COG-M'!P1017","v":{"v":642672,"d":"642,672"}}]
[341,"Servicios financieros y bancarios",11,{"$f":"'COG-M'!P1018","v":{"v":107568,"d":"107,568"}}]
[null,null,12,{"$f":"'COG-M'!P1019","v":0}]
[null,null,13,{"$f":"'COG-M'!P1020","v":0}]
[null,null,14,{"$f":"'COG-M'!P1021","v":0}]
[null,null,15,{"$f":"'COG-M'!P1022","v":0}]
[null,null,16,{"$f":"'COG-M'!P1023","v":0}]
[null,null,17,{"$f":"'COG-M'!P1024","v":0}]
[null,null,25,{"$f":"'COG-M'!P1025","v":0}]
[null,null,26,{"$f":"'COG-M'!P1026","v":0}]
[null,null,27,{"$f":"'COG-M'!P1027","v":0}]
[342,"Servicios de cobranza, investigación crediticia y similar",11,{"$f":"'COG-M'!P1028","v":0}]
[null,null,12,{"$f":"'COG-M'!P1029","v":0}]
[null,null,13,{"$f":"'COG-M'!P1030","v":0}]
[null,null,14,{"$f":"'COG-M'!P1031","v":0}]
[null,null,15,{"$f":"'COG-M'!P1032","v":0}]
[null,null,16,{"$f":"'COG-M'!P1033","v":0}]
[null,null,17,{"$f":"'COG-M'!P1034","v":0}]
[null,null,25,{"$f":"'COG-M'!P1035","v":0}]
[null,null,26,{"$f":"'COG-M'!P1036","v":0}]
[null,null,27,{"$f":"'COG-M'!P1037","v":0}]
[343,"Servicios de recaudación, traslado y custodia de valores",11,{"$f":"'COG-M'!P1038","v":0}]
[null,null,12,{"$f":"'COG-M'!P1039","v":0}]
[null,null,13,{"$f":"'COG-M'!P1040","v":0}]
[null,null,14,{"$f":"'COG-M'!P1041","v":0}]
[null,null,15,{"$f":"'COG-M'!P1042","v":0}]
[null,null,16,{"$f":"'COG-M'!P1043","v":0}]
[null,null,17,{"$f":"'COG-M'!P1044","v":0}]
[null,null,25,{"$f":"'COG-M'!P1045","v":0}]
[null,null,26,{"$f":"'COG-M'!P1046","v":0}]
[null,null,27,{"$f":"'COG-M'!P1047","v":0}]
[344,"Seguros de responsabilidad patrimonial y fianzas",11,{"$f":"'COG-M'!P1048","v":{"v":120000,"d":"120,000"}}]
[null,null,12,{"$f":"'COG-M'!P1049","v":0}]
[null,null,13,{"$f":"'COG-M'!P1050","v":0}]
[null,null,14,{"$f":"'COG-M'!P1051","v":0}]
[null,null,15,{"$f":"'COG-M'!P1052","v":0}]
[null,null,16,{"$f":"'COG-M'!P1053","v":0}]
[null,null,17,{"$f":"'COG-M'!P1054","v":0}]
[null,null,25,{"$f":"'COG-M'!P1055","v":0}]
[null,null,26,{"$f":"'COG-M'!P1056","v":0}]
[null,null,27,{"$f":"'COG-M'!P1057","v":0}]
[345,"Seguro de bienes patrimoniales",11,{"$f":"'COG-M'!P1058","v":{"v":219996,"d":"219,996"}}]
[null,null,12,{"$f":"'COG-M'!P1059","v":0}]
[null,null,13,{"$f":"'COG-M'!P1060","v":0}]
[null,null,14,{"$f":"'COG-M'!P1061","v":0}]
[null,null,15,{"$f":"'COG-M'!P1062","v":0}]
[null,null,16,{"$f":"'COG-M'!P1063","v":0}]
[null,null,17,{"$f":"'COG-M'!P1064","v":0}]
[null,null,25,{"$f":"'COG-M'!P1065","v":0}]
[null,null,26,{"$f":"'COG-M'!P1066","v":0}]
[null,null,27,{"$f":"'COG-M'!P1067","v":0}]
[346,"Almacenaje, envase y embalaje",11,{"$f":"'COG-M'!P1068","v":0}]
[null,null,12,{"$f":"'COG-M'!P1069","v":0}]
[null,null,13,{"$f":"'COG-M'!P1070","v":0}]
[null,null,14,{"$f":"'COG-M'!P1071","v":0}]
[null,null,15,{"$f":"'COG-M'!P1072","v":0}]
[null,null,16,{"$f":"'COG-M'!P1073","v":0}]
[null,null,17,{"$f":"'COG-M'!P1074","v":0}]
[null,null,25,{"$f":"'COG-M'!P1075","v":0}]
[null,null,26,{"$f":"'COG-M'!P1076","v":0}]
[null,null,27,{"$f":"'COG-M'!P1077","v":0}]
[347,"Fletes y maniobras",11,{"$f":"'COG-M'!P1078","v":{"v":187572,"d":"187,572"}}]
[null,null,12,{"$f":"'COG-M'!P1079","v":0}]
[null,null,13,{"$f":"'COG-M'!P1080","v":0}]
[null,null,14,{"$f":"'COG-M'!P1081","v":0}]
[null,null,15,{"$f":"'COG-M'!P1082","v":0}]
[null,null,16,{"$f":"'COG-M'!P1083","v":0}]
[null,null,17,{"$f":"'COG-M'!P1084","v":0}]
[null,null,25,{"$f":"'COG-M'!P1085","v":0}]
[null,null,26,{"$f":"'COG-M'!P1086","v":0}]
[null,null,27,{"$f":"'COG-M'!P1087","v":0}]
[348,"Comisiones por ventas",11,{"$f":"'COG-M'!P1088","v":0}]
[null,null,12,{"$f":"'COG-M'!P1089","v":0}]
[null,null,13,{"$f":"'COG-M'!P1090","v":0}]
[null,null,14,{"$f":"'COG-M'!P1091","v":0}]
[null,null,15,{"$f":"'COG-M'!P1092","v":0}]
[null,null,16,{"$f":"'COG-M'!P1093","v":0}]
[null,null,17,{"$f":"'COG-M'!P1094","v":0}]
[null,null,25,{"$f":"'COG-M'!P1095","v":0}]
[null,null,26,{"$f":"'COG-M'!P1096","v":0}]
[null,null,27,{"$f":"'COG-M'!P1097","v":0}]
[349,"Servicios financieros, bancarios y comerciales integrales",11,{"$f":"'COG-M'!P1098","v":{"v":7536,"d":"7,536"}}]
[null,null,12,{"$f":"'COG-M'!P1099","v":0}]
[null,null,13,{"$f":"'COG-M'!P1100","v":0}]
[null,null,14,{"$f":"'COG-M'!P1101","v":0}]
[null,null,15,{"$f":"'COG-M'!P1102","v":0}]
[null,null,16,{"$f":"'COG-M'!P1103","v":0}]
[null,null,17,{"$f":"'COG-M'!P1104","v":0}]
[null,null,25,{"$f":"'COG-M'!P1105","v":0}]
[null,null,26,{"$f":"'COG-M'!P1106","v":0}]
[null,null,27,{"$f":"'COG-M'!P1107","v":0}]
[3500,"SERVICIOS DE INSTALACIÓN, REPARACIÓN, MANTENIMIENTO Y CONSERVACIÓN",null,{"$f":"'COG-M'!P1108","v":{"v":5236836,"d":"5,236,836"}}]
[351,"Conservación y mantenimiento menor de inmuebles",11,{"$f":"'COG-M'!P1109","v":{"v":1816188,"d":"1,816,188"}}]
[null,null,12,{"$f":"'COG-M'!P1110","v":0}]
[null,null,13,{"$f":"'COG-M'!P1111","v":0}]
[null,null,14,{"$f":"'COG-M'!P1112","v":0}]
[null,null,15,{"$f":"'COG-M'!P1113","v":0}]
[null,null,16,{"$f":"'COG-M'!P1114","v":0}]
[null,null,17,{"$f":"'COG-M'!P1115","v":0}]
[null,null,25,{"$f":"'COG-M'!P1116","v":0}]
[null,null,26,{"$f":"'COG-M'!P1117","v":0}]
[null,null,27,{"$f":"'COG-M'!P1118","v":0}]
[352,"Instalación, reparación y mantenimiento de mobiliario y equipo de administración, educacional y recreativo",11,{"$f":"'COG-M'!P1119","v":{"v":32712,"d":"32,712"}}]
[null,null,12,{"$f":"'COG-M'!P1120","v":0}]
[null,null,13,{"$f":"'COG-M'!P1121","v":0}]
[null,null,14,{"$f":"'COG-M'!P1122","v":0}]
[null,null,15,{"$f":"'COG-M'!P1123","v":0}]
[null,null,16,{"$f":"'COG-M'!P1124","v":0}]
[null,null,17,{"$f":"'COG-M'!P1125","v":0}]
[null,null,25,{"$f":"'COG-M'!P1126","v":0}]
[null,null,26,{"$f":"'COG-M'!P1127","v":0}]
[null,null,27,{"$f":"'COG-M'!P1128","v":0}]
[353,"Instalación, reparación y mantenimiento de equipo de cómputo y tecnología de la información",11,{"$f":"'COG-M'!P1129","v":0}]
[null,null,12,{"$f":"'COG-M'!P1130","v":0}]
[null,null,13,{"$f":"'COG-M'!P1131","v":0}]
[null,null,14,{"$f":"'COG-M'!P1132","v":0}]
[null,null,15,{"$f":"'COG-M'!P1133","v":0}]
[null,null,16,{"$f":"'COG-M'!P1134","v":0}]
[null,null,17,{"$f":"'COG-M'!P1135","v":0}]
[null,null,25,{"$f":"'COG-M'!P1136","v":0}]
[null,null,26,{"$f":"'COG-M'!P1137","v":0}]
[null,null,27,{"$f":"'COG-M'!P1138","v":0}]
[354,"Instalación, reparación y mantenimiento de equipo e instrumental médico y de laboratorio",11,{"$f":"'COG-M'!P1139","v":0}]
[null,null,12,{"$f":"'COG-M'!P1140","v":0}]
[null,null,13,{"$f":"'COG-M'!P1141","v":0}]
[null,null,14,{"$f":"'COG-M'!P1142","v":0}]
[null,null,15,{"$f":"'COG-M'!P1143","v":0}]
[null,null,16,{"$f":"'COG-M'!P1144","v":0}]
[null,null,17,{"$f":"'COG-M'!P1145","v":0}]
[null,null,25,{"$f":"'COG-M'!P1146","v":0}]
[null,null,26,{"$f":"'COG-M'!P1147","v":0}]
[null,null,27,{"$f":"'COG-M'!P1148","v":0}]
[355,"Reparación y mantenimiento de equipo de transporte",11,{"$f":"'COG-M'!P1149","v":{"v":2399880,"d":"2,399,880"}}]
[null,null,12,{"$f":"'COG-M'!P1150","v":0}]
[null,null,13,{"$f":"'COG-M'!P1151","v":0}]
[null,null,14,{"$f":"'COG-M'!P1152","v":0}]
[null,null,15,{"$f":"'COG-M'!P1153","v":0}]
[null,null,16,{"$f":"'COG-M'!P1154","v":0}]
[null,null,17,{"$f":"'COG-M'!P1155","v":0}]
[null,null,25,{"$f":"'COG-M'!P1156","v":0}]
[null,null,26,{"$f":"'COG-M'!P1157","v":0}]
[null,null,27,{"$f":"'COG-M'!P1158","v":0}]
[356,"Reparación y mantenimiento de equipo de defensa y seguridad",11,{"$f":"'COG-M'!P1159","v":0}]
[null,null,12,{"$f":"'COG-M'!P1160","v":0}]
[null,null,13,{"$f":"'COG-M'!P1161","v":0}]
[null,null,14,{"$f":"'COG-M'!P1162","v":0}]
[null,null,15,{"$f":"'COG-M'!P1163","v":0}]
[null,null,16,{"$f":"'COG-M'!P1164","v":0}]
[null,null,17,{"$f":"'COG-M'!P1165","v":0}]
[null,null,25,{"$f":"'COG-M'!P1166","v":0}]
[null,null,26,{"$f":"'COG-M'!P1167","v":0}]
[null,null,27,{"$f":"'COG-M'!P1168","v":0}]
[357,"Instalación, reparación y mantenimiento de maquinaria, otros equipos y herramienta",11,{"$f":"'COG-M'!P1169","v":{"v":557088,"d":"557,088"}}]
[null,null,12,{"$f":"'COG-M'!P1170","v":0}]
[null,null,13,{"$f":"'COG-M'!P1171","v":0}]
[null,null,14,{"$f":"'COG-M'!P1172","v":0}]
[null,null,15,{"$f":"'COG-M'!P1173","v":0}]
[null,null,16,{"$f":"'COG-M'!P1174","v":0}]
[null,null,17,{"$f":"'COG-M'!P1175","v":0}]
[null,null,25,{"$f":"'COG-M'!P1176","v":0}]
[null,null,26,{"$f":"'COG-M'!P1177","v":0}]
[null,null,27,{"$f":"'COG-M'!P1178","v":0}]
[358,"Servicios de limpieza y manejo de desechos",11,{"$f":"'COG-M'!P1179","v":{"v":247056,"d":"247,056"}}]
[null,null,12,{"$f":"'COG-M'!P1180","v":0}]
[null,null,13,{"$f":"'COG-M'!P1181","v":0}]
[null,null,14,{"$f":"'COG-M'!P1182","v":0}]
[null,null,15,{"$f":"'COG-M'!P1183","v":0}]
[null,null,16,{"$f":"'COG-M'!P1184","v":0}]
[null,null,17,{"$f":"'COG-M'!P1185","v":0}]
[null,null,25,{"$f":"'COG-M'!P1186","v":0}]
[null,null,26,{"$f":"'COG-M'!P1187","v":0}]
[null,null,27,{"$f":"'COG-M'!P1188","v":0}]
[359,"Servicios de jardinería y fumigación",11,{"$f":"'COG-M'!P1189","v":{"v":183912,"d":"183,912"}}]
[null,null,12,{"$f":"'COG-M'!P1190","v":0}]
[null,null,13,{"$f":"'COG-M'!P1191","v":0}]
[null,null,14,{"$f":"'COG-M'!P1192","v":0}]
[null,null,15,{"$f":"'COG-M'!P1193","v":0}]
[null,null,16,{"$f":"'COG-M'!P1194","v":0}]
[null,null,17,{"$f":"'COG-M'!P1195","v":0}]
[null,null,25,{"$f":"'COG-M'!P1196","v":0}]
[null,null,26,{"$f":"'COG-M'!P1197","v":0}]
[null,null,27,{"$f":"'COG-M'!P1198","v":0}]
[3600,"SERVICIOS DE COMUNICACIÓN SOCIAL Y PUBLICIDAD",null,{"$f":"'COG-M'!P1199","v":{"v":40272,"d":"40,272"}}]
[361,"Difusión por radio, televisión y otros medios de mensajes sobre programas y actividades gubernamentales",11,{"$f":"'COG-M'!P1200","v":{"v":40272,"d":"40,272"}}]
[null,null,12,{"$f":"'COG-M'!P1201","v":0}]
[null,null,13,{"$f":"'COG-M'!P1202","v":0}]
[null,null,14,{"$f":"'COG-M'!P1203","v":0}]
[null,null,15,{"$f":"'COG-M'!P1204","v":0}]
[null,null,16,{"$f":"'COG-M'!P1205","v":0}]
[null,null,17,{"$f":"'COG-M'!P1206","v":0}]
[null,null,25,{"$f":"'COG-M'!P1207","v":0}]
[null,null,26,{"$f":"'COG-M'!P1208","v":0}]
[null,null,27,{"$f":"'COG-M'!P1209","v":0}]
[362,"Difusión por radio,  televisión y otros medios de mensajes comerciales para promover la venta de bienes o servicios",11,{"$f":"'COG-M'!P1210","v":0}]
[null,null,12,{"$f":"'COG-M'!P1211","v":0}]
[null,null,13,{"$f":"'COG-M'!P1212","v":0}]
[null,null,14,{"$f":"'COG-M'!P1213","v":0}]
[null,null,15,{"$f":"'COG-M'!P1214","v":0}]
[null,null,16,{"$f":"'COG-M'!P1215","v":0}]
[null,null,17,{"$f":"'COG-M'!P1216","v":0}]
[null,null,25,{"$f":"'COG-M'!P1217","v":0}]
[null,null,26,{"$f":"'COG-M'!P1218","v":0}]
[null,null,27,{"$f":"'COG-M'!P1219","v":0}]
[363,"Servicios de creatividad, preproducción y producción de publicidad, excepto Internet",11,{"$f":"'COG-M'!P1220","v":0}]
[null,null,12,{"$f":"'COG-M'!P1221","v":0}]
[null,null,13,{"$f":"'COG-M'!P1222","v":0}]
[null,null,14,{"$f":"'COG-M'!P1223","v":0}]
[null,null,15,{"$f":"'COG-M'!P1224","v":0}]
[null,null,16,{"$f":"'COG-M'!P1225","v":0}]
[null,null,17,{"$f":"'COG-M'!P1226","v":0}]
[null,null,25,{"$f":"'COG-M'!P1227","v":0}]
[null,null,26,{"$f":"'COG-M'!P1228","v":0}]
[null,null,27,{"$f":"'COG-M'!P1229","v":0}]
[364,"Servicios de revelado de  fotografías",11,{"$f":"'COG-M'!P1230","v":0}]
[null,null,12,{"$f":"'COG-M'!P1231","v":0}]
[null,null,13,{"$f":"'COG-M'!P1232","v":0}]
[null,null,14,{"$f":"'COG-M'!P1233","v":0}]
[null,null,15,{"$f":"'COG-M'!P1234","v":0}]
[null,null,16,{"$f":"'COG-M'!P1235","v":0}]
[null,null,17,{"$f":"'COG-M'!P1236","v":0}]
[null,null,25,{"$f":"'COG-M'!P1237","v":0}]
[null,null,26,{"$f":"'COG-M'!P1238","v":0}]
[null,null,27,{"$f":"'COG-M'!P1239","v":0}]
[365,"Servicios de la industria fílmica, del sonido y del video",11,{"$f":"'COG-M'!P1240","v":0}]
[null,null,12,{"$f":"'COG-M'!P1241","v":0}]
[null,null,13,{"$f":"'COG-M'!P1242","v":0}]
[null,null,14,{"$f":"'COG-M'!P1243","v":0}]
[null,null,15,{"$f":"'COG-M'!P1244","v":0}]
[null,null,16,{"$f":"'COG-M'!P1245","v":0}]
[null,null,17,{"$f":"'COG-M'!P1246","v":0}]
[null,null,25,{"$f":"'COG-M'!P1247","v":0}]
[null,null,26,{"$f":"'COG-M'!P1248","v":0}]
[null,null,27,{"$f":"'COG-M'!P1249","v":0}]
[366,"Servicio de creación y difusión de contenido exclusivamente a través de Internet",11,{"$f":"'COG-M'!P1250","v":0}]
[null,null,12,{"$f":"'COG-M'!P1251","v":0}]
[null,null,13,{"$f":"'COG-M'!P1252","v":0}]
[null,null,14,{"$f":"'COG-M'!P1253","v":0}]
[null,null,15,{"$f":"'COG-M'!P1254","v":0}]
[null,null,16,{"$f":"'COG-M'!P1255","v":0}]
[null,null,17,{"$f":"'COG-M'!P1256","v":0}]
[null,null,25,{"$f":"'COG-M'!P1257","v":0}]
[null,null,26,{"$f":"'COG-M'!P1258","v":0}]
[null,null,27,{"$f":"'COG-M'!P1259","v":0}]
[369,"Otros servicios de información",11,{"$f":"'COG-M'!P1260","v":0}]
[null,null,12,{"$f":"'COG-M'!P1261","v":0}]
[null,null,13,{"$f":"'COG-M'!P1262","v":0}]
[null,null,14,{"$f":"'COG-M'!P1263","v":0}]
[null,null,15,{"$f":"'COG-M'!P1264","v":0}]
[null,null,16,{"$f":"'COG-M'!P1265","v":0}]
[null,null,17,{"$f":"'COG-M'!P1266","v":0}]
[null,null,25,{"$f":"'COG-M'!P1267","v":0}]
[null,null,26,{"$f":"'COG-M'!P1268","v":0}]
[null,null,27,{"$f":"'COG-M'!P1269","v":0}]
[3700,"SERVICIOS DE TRASLADO Y VIÁTICOS",null,{"$f":"'COG-M'!P1270","v":{"v":1063620,"d":"1,063,620"}}]
[371,"Pasajes aéreos",11,{"$f":"'COG-M'!P1271","v":0}]
[null,null,12,{"$f":"'COG-M'!P1272","v":0}]
[null,null,13,{"$f":"'COG-M'!P1273","v":0}]
[null,null,14,{"$f":"'COG-M'!P1274","v":0}]
[null,null,15,{"$f":"'COG-M'!P1275","v":0}]
[null,null,16,{"$f":"'COG-M'!P1276","v":0}]
[null,null,17,{"$f":"'COG-M'!P1277","v":0}]
[null,null,25,{"$f":"'COG-M'!P1278","v":0}]
[null,null,26,{"$f":"'COG-M'!P1279","v":0}]
[null,null,27,{"$f":"'COG-M'!P1280","v":0}]
[372,"Pasajes terrestres",11,{"$f":"'COG-M'!P1281","v":0}]
[null,null,12,{"$f":"'COG-M'!P1282","v":0}]
[null,null,13,{"$f":"'COG-M'!P1283","v":0}]
[null,null,14,{"$f":"'COG-M'!P1284","v":0}]
[null,null,15,{"$f":"'COG-M'!P1285","v":0}]
[null,null,16,{"$f":"'COG-M'!P1286","v":0}]
[null,null,17,{"$f":"'COG-M'!P1287","v":0}]
[null,null,25,{"$f":"'COG-M'!P1288","v":0}]
[null,null,26,{"$f":"'COG-M'!P1289","v":0}]
[null,null,27,{"$f":"'COG-M'!P1290","v":0}]
[373,"Pasajes marítimos, lacustres y fluviales",11,{"$f":"'COG-M'!P1291","v":0}]
[null,null,12,{"$f":"'COG-M'!P1292","v":0}]
[null,null,13,{"$f":"'COG-M'!P1293","v":0}]
[null,null,14,{"$f":"'COG-M'!P1294","v":0}]
[null,null,15,{"$f":"'COG-M'!P1295","v":0}]
[null,null,16,{"$f":"'COG-M'!P1296","v":0}]
[null,null,17,{"$f":"'COG-M'!P1297","v":0}]
[null,null,25,{"$f":"'COG-M'!P1298","v":0}]
[null,null,26,{"$f":"'COG-M'!P1299","v":0}]
[null,null,27,{"$f":"'COG-M'!P1300","v":0}]
[374,"Autotransporte",11,{"$f":"'COG-M'!P1301","v":0}]
[null,null,12,{"$f":"'COG-M'!P1302","v":0}]
[null,null,13,{"$f":"'COG-M'!P1303","v":0}]
[null,null,14,{"$f":"'COG-M'!P1304","v":0}]
[null,null,15,{"$f":"'COG-M'!P1305","v":0}]
[null,null,16,{"$f":"'COG-M'!P1306","v":0}]
[null,null,17,{"$f":"'COG-M'!P1307","v":0}]
[null,null,25,{"$f":"'COG-M'!P1308","v":0}]
[null,null,26,{"$f":"'COG-M'!P1309","v":0}]
[null,null,27,{"$f":"'COG-M'!P1310","v":0}]
[375,"Viáticos en el país",11,{"$f":"'COG-M'!P1311","v":{"v":1063620,"d":"1,063,620"}}]
[null,null,12,{"$f":"'COG-M'!P1312","v":0}]
[null,null,13,{"$f":"'COG-M'!P1313","v":0}]
[null,null,14,{"$f":"'COG-M'!P1314","v":0}]
[null,null,15,{"$f":"'COG-M'!P1315","v":0}]
[null,null,16,{"$f":"'COG-M'!P1316","v":0}]
[null,null,17,{"$f":"'COG-M'!P1317","v":0}]
[null,null,25,{"$f":"'COG-M'!P1318","v":0}]
[null,null,26,{"$f":"'COG-M'!P1319","v":0}]
[null,null,27,{"$f":"'COG-M'!P1320","v":0}]
[376,"Viáticos en el extranjero ",11,{"$f":"'COG-M'!P1321","v":0}]
[null,null,12,{"$f":"'COG-M'!P1322","v":0}]
[null,null,13,{"$f":"'COG-M'!P1323","v":0}]
[null,null,14,{"$f":"'COG-M'!P1324","v":0}]
[null,null,15,{"$f":"'COG-M'!P1325","v":0}]
[null,null,16,{"$f":"'COG-M'!P1326","v":0}]
[null,null,17,{"$f":"'COG-M'!P1327","v":0}]
[null,null,25,{"$f":"'COG-M'!P1328","v":0}]
[null,null,26,{"$f":"'COG-M'!P1329","v":0}]
[null,null,27,{"$f":"'COG-M'!P1330","v":0}]
[377,"Gastos de instalación y traslado de menaje",11,{"$f":"'COG-M'!P1331","v":0}]
[null,null,12,{"$f":"'COG-M'!P1332","v":0}]
[null,null,13,{"$f":"'COG-M'!P1333","v":0}]
[null,null,14,{"$f":"'COG-M'!P1334","v":0}]
[null,null,15,{"$f":"'COG-M'!P1335","v":0}]
[null,null,16,{"$f":"'COG-M'!P1336","v":0}]
[null,null,17,{"$f":"'COG-M'!P1337","v":0}]
[null,null,25,{"$f":"'COG-M'!P1338","v":0}]
[null,null,26,{"$f":"'COG-M'!P1339","v":0}]
[null,null,27,{"$f":"'COG-M'!P1340","v":0}]
[378,"Servicios integrales de traslado y viáticos",11,{"$f":"'COG-M'!P1341","v":0}]
[null,null,12,{"$f":"'COG-M'!P1342","v":0}]
[null,null,13,{"$f":"'COG-M'!P1343","v":0}]
[null,null,14,{"$f":"'COG-M'!P1344","v":0}]
[null,null,15,{"$f":"'COG-M'!P1345","v":0}]
[null,null,16,{"$f":"'COG-M'!P1346","v":0}]
[null,null,17,{"$f":"'COG-M'!P1347","v":0}]
[null,null,25,{"$f":"'COG-M'!P1348","v":0}]
[null,null,26,{"$f":"'COG-M'!P1349","v":0}]
[null,null,27,{"$f":"'COG-M'!P1350","v":0}]
[379,"Otros servicios de traslado y hospedaje",11,{"$f":"'COG-M'!P1351","v":0}]
[null,null,12,{"$f":"'COG-M'!P1352","v":0}]
[null,null,13,{"$f":"'COG-M'!P1353","v":0}]
[null,null,14,{"$f":"'COG-M'!P1354","v":0}]
[null,null,15,{"$f":"'COG-M'!P1355","v":0}]
[null,null,16,{"$f":"'COG-M'!P1356","v":0}]
[null,null,17,{"$f":"'COG-M'!P1357","v":0}]
[null,null,25,{"$f":"'COG-M'!P1358","v":0}]
[null,null,26,{"$f":"'COG-M'!P1359","v":0}]
[null,null,27,{"$f":"'COG-M'!P1360","v":0}]
[3800,"SERVICIOS OFICIALES",null,{"$f":"'COG-M'!P1361","v":{"v":2825100,"d":"2,825,100"}}]
[381,"Gastos de ceremonial",11,{"$f":"'COG-M'!P1362","v":0}]
[null,null,12,{"$f":"'COG-M'!P1363","v":0}]
[null,null,13,{"$f":"'COG-M'!P1364","v":0}]
[null,null,14,{"$f":"'COG-M'!P1365","v":0}]
[null,null,15,{"$f":"'COG-M'!P1366","v":0}]
[null,null,16,{"$f":"'COG-M'!P1367","v":0}]
[null,null,17,{"$f":"'COG-M'!P1368","v":0}]
[null,null,25,{"$f":"'COG-M'!P1369","v":0}]
[null,null,26,{"$f":"'COG-M'!P1370","v":0}]
[null,null,27,{"$f":"'COG-M'!P1371","v":0}]
[382,"Gastos de orden  social y cultural",11,{"$f":"'COG-M'!P1372","v":{"v":2825100,"d":"2,825,100"}}]
[null,null,12,{"$f":"'COG-M'!P1373","v":0}]
[null,null,13,{"$f":"'COG-M'!P1374","v":0}]
[null,null,14,{"$f":"'COG-M'!P1375","v":0}]
[null,null,15,{"$f":"'COG-M'!P1376","v":0}]
[null,null,16,{"$f":"'COG-M'!P1377","v":0}]
[null,null,17,{"$f":"'COG-M'!P1378","v":0}]
[null,null,25,{"$f":"'COG-M'!P1379","v":0}]
[null,null,26,{"$f":"'COG-M'!P1380","v":0}]
[null,null,27,{"$f":"'COG-M'!P1381","v":0}]
[383,"Congresos y convenciones",11,{"$f":"'COG-M'!P1382","v":0}]
[null,null,12,{"$f":"'COG-M'!P1383","v":0}]
[null,null,13,{"$f":"'COG-M'!P1384","v":0}]
[null,null,14,{"$f":"'COG-M'!P1385","v":0}]
[null,null,15,{"$f":"'COG-M'!P1386","v":0}]
[null,null,16,{"$f":"'COG-M'!P1387","v":0}]
[null,null,17,{"$f":"'COG-M'!P1388","v":0}]
[null,null,25,{"$f":"'COG-M'!P1389","v":0}]
[null,null,26,{"$f":"'COG-M'!P1390","v":0}]
[null,null,27,{"$f":"'COG-M'!P1391","v":0}]
[384,"Exposiciones",11,{"$f":"'COG-M'!P1392","v":0}]
[null,null,12,{"$f":"'COG-M'!P1393","v":0}]
[null,null,13,{"$f":"'COG-M'!P1394","v":0}]
[null,null,14,{"$f":"'COG-M'!P1395","v":0}]
[null,null,15,{"$f":"'COG-M'!P1396","v":0}]
[null,null,16,{"$f":"'COG-M'!P1397","v":0}]
[null,null,17,{"$f":"'COG-M'!P1398","v":0}]
[null,null,25,{"$f":"'COG-M'!P1399","v":0}]
[null,null,26,{"$f":"'COG-M'!P1400","v":0}]
[null,null,27,{"$f":"'COG-M'!P1401","v":0}]
[385,"Gastos de representación",11,{"$f":"'COG-M'!P1402","v":0}]
[null,null,12,{"$f":"'COG-M'!P1403","v":0}]
[null,null,13,{"$f":"'COG-M'!P1404","v":0}]
[null,null,14,{"$f":"'COG-M'!P1405","v":0}]
[null,null,15,{"$f":"'COG-M'!P1406","v":0}]
[null,null,16,{"$f":"'COG-M'!P1407","v":0}]
[null,null,17,{"$f":"'COG-M'!P1408","v":0}]
[null,null,25,{"$f":"'COG-M'!P1409","v":0}]
[null,null,26,{"$f":"'COG-M'!P1410","v":0}]
[null,null,27,{"$f":"'COG-M'!P1411","v":0}]
[3900,"OTROS SERVICIOS GENERALES",null,{"$f":"'COG-M'!P1412","v":{"v":2369292,"d":"2,369,292"}}]
[391,"Servicios funerarios y de cementerios",11,{"$f":"'COG-M'!P1413","v":{"v":240000,"d":"240,000"}}]
[null,null,12,{"$f":"'COG-M'!P1414","v":0}]
[null,null,13,{"$f":"'COG-M'!P1415","v":0}]
[null,null,14,{"$f":"'COG-M'!P1416","v":0}]
[null,null,15,{"$f":"'COG-M'!P1417","v":0}]
[null,null,16,{"$f":"'COG-M'!P1418","v":0}]
[null,null,17,{"$f":"'COG-M'!P1419","v":0}]
[null,null,25,{"$f":"'COG-M'!P1420","v":0}]
[null,null,26,{"$f":"'COG-M'!P1421","v":0}]
[null,null,27,{"$f":"'COG-M'!P1422","v":0}]
[392,"Impuestos y derechos",11,{"$f":"'COG-M'!P1423","v":{"v":349296,"d":"349,296"}}]
[null,null,12,{"$f":"'COG-M'!P1424","v":0}]
[null,null,13,{"$f":"'COG-M'!P1425","v":0}]
[null,null,14,{"$f":"'COG-M'!P1426","v":0}]
[null,null,15,{"$f":"'COG-M'!P1427","v":0}]
[null,null,16,{"$f":"'COG-M'!P1428","v":0}]
[null,null,17,{"$f":"'COG-M'!P1429","v":0}]
[null,null,25,{"$f":"'COG-M'!P1430","v":0}]
[null,null,26,{"$f":"'COG-M'!P1431","v":0}]
[null,null,27,{"$f":"'COG-M'!P1432","v":0}]
[393,"Impuestos y derechos de importación",11,{"$f":"'COG-M'!P1433","v":0}]
[null,null,12,{"$f":"'COG-M'!P1434","v":0}]
[null,null,13,{"$f":"'COG-M'!P1435","v":0}]
[null,null,14,{"$f":"'COG-M'!P1436","v":0}]
[null,null,15,{"$f":"'COG-M'!P1437","v":0}]
[null,null,16,{"$f":"'COG-M'!P1438","v":0}]
[null,null,17,{"$f":"'COG-M'!P1439","v":0}]
[null,null,25,{"$f":"'COG-M'!P1440","v":0}]
[null,null,26,{"$f":"'COG-M'!P1441","v":0}]
[null,null,27,{"$f":"'COG-M'!P1442","v":0}]
[394,"Sentencias y resoluciones por autoridad competente",11,{"$f":"'COG-M'!P1443","v":0}]
[null,null,12,{"$f":"'COG-M'!P1444","v":0}]
[null,null,13,{"$f":"'COG-M'!P1445","v":0}]
[null,null,14,{"$f":"'COG-M'!P1446","v":0}]
[null,null,15,{"$f":"'COG-M'!P1447","v":0}]
[null,null,16,{"$f":"'COG-M'!P1448","v":0}]
[null,null,17,{"$f":"'COG-M'!P1449","v":0}]
[null,null,25,{"$f":"'COG-M'!P1450","v":0}]
[null,null,26,{"$f":"'COG-M'!P1451","v":0}]
[null,null,27,{"$f":"'COG-M'!P1452","v":0}]
[395,"Penas, multas, accesorios y actualizaciones",11,{"$f":"'COG-M'!P1453","v":{"v":180000,"d":"180,000"}}]
[null,null,12,{"$f":"'COG-M'!P1454","v":0}]
[null,null,13,{"$f":"'COG-M'!P1455","v":0}]
[null,null,14,{"$f":"'COG-M'!P1456","v":0}]
[null,null,15,{"$f":"'COG-M'!P1457","v":0}]
[null,null,16,{"$f":"'COG-M'!P1458","v":0}]
[null,null,17,{"$f":"'COG-M'!P1459","v":0}]
[null,null,25,{"$f":"'COG-M'!P1460","v":0}]
[null,null,26,{"$f":"'COG-M'!P1461","v":0}]
[null,null,27,{"$f":"'COG-M'!P1462","v":0}]
[396,"Otros gastos por responsabilidades",11,{"$f":"'COG-M'!P1463","v":0}]
[null,null,12,{"$f":"'COG-M'!P1464","v":0}]
[null,null,13,{"$f":"'COG-M'!P1465","v":0}]
[null,null,14,{"$f":"'COG-M'!P1466","v":0}]
[null,null,15,{"$f":"'COG-M'!P1467","v":0}]
[null,null,16,{"$f":"'COG-M'!P1468","v":0}]
[null,null,17,{"$f":"'COG-M'!P1469","v":0}]
[null,null,25,{"$f":"'COG-M'!P1470","v":0}]
[null,null,26,{"$f":"'COG-M'!P1471","v":0}]
[null,null,27,{"$f":"'COG-M'!P1472","v":0}]
[397,"Utilidades",null,{"$f":"'COG-M'!P1473","v":0}]
[398,"Impuesto sobre nómina y otros que se deriven de una relación laboral",11,{"$f":"'COG-M'!P1474","v":{"v":1599996,"d":"1,599,996"}}]
[null,null,12,{"$f":"'COG-M'!P1475","v":0}]
[null,null,13,{"$f":"'COG-M'!P1476","v":0}]
[null,null,14,{"$f":"'COG-M'!P1477","v":0}]
[null,null,15,{"$f":"'COG-M'!P1478","v":0}]
[null,null,16,{"$f":"'COG-M'!P1479","v":0}]
[null,null,17,{"$f":"'COG-M'!P1480","v":0}]
[null,null,25,{"$f":"'COG-M'!P1481","v":0}]
[null,null,26,{"$f":"'COG-M'!P1482","v":0}]
[null,null,27,{"$f":"'COG-M'!P1483","v":0}]
[399,"Otros servicios generales",11,{"$f":"'COG-M'!P1484","v":0}]
[null,null,12,{"$f":"'COG-M'!P1485","v":0}]
[null,null,13,{"$f":"'COG-M'!P1486","v":0}]
[null,null,14,{"$f":"'COG-M'!P1487","v":0}]
[null,null,15,{"$f":"'COG-M'!P1488","v":0}]
[null,null,16,{"$f":"'COG-M'!P1489","v":0}]
[null,null,17,{"$f":"'COG-M'!P1490","v":0}]
[null,null,25,{"$f":"'COG-M'!P1491","v":0}]
[null,null,26,{"$f":"'COG-M'!P1492","v":0}]
[null,null,27,{"$f":"'COG-M'!P1493","v":0}]
[4000,"TRANSFERENCIAS, ASIGNACIONES, SUBSIDIOS Y OTRAS  AYUDAS",null,{"$f":"'COG-M'!P1494","v":{"v":8791056,"d":"8,791,056"}}]
[4100,"TRANSFERENCIAS INTERNAS Y ASIGNACIONES AL SECTOR PÚBLICO",null,{"$f":"'COG-M'!P1495","v":0}]
[411,"Asignaciones presupuestarias al Poder Ejecutivo",null,{"$f":"'COG-M'!P1496","v":0}]
[412,"Asignaciones presupuestarias al Poder Legislativo",null,{"$f":"'COG-M'!P1497","v":0}]
[413,"Asignaciones presupuestarias al Poder Judicial",null,{"$f":"'COG-M'!P1498","v":0}]
[414,"Asignaciones presupuestarias a Órganos Autónomos",null,{"$f":"'COG-M'!P1499","v":0}]
[415,"Transferencias internas otorgadas a entidades paraestatales no empresariales y no financieras",11,{"$f":"'COG-M'!P1500","v":0}]
[null,null,12,{"$f":"'COG-M'!P1501","v":0}]
[null,null,13,{"$f":"'COG-M'!P1502","v":0}]
[null,null,14,{"$f":"'COG-M'!P1503","v":0}]
[null,null,15,{"$f":"'COG-M'!P1504","v":0}]
[null,null,16,{"$f":"'COG-M'!P1505","v":0}]
[null,null,17,{"$f":"'COG-M'!P1506","v":0}]
[null,null,25,{"$f":"'COG-M'!P1507","v":0}]
[null,null,26,{"$f":"'COG-M'!P1508","v":0}]
[null,null,27,{"$f":"'COG-M'!P1509","v":0}]
[416,"Transferencias internas otorgadas a entidades paraestatales empresariales y no financieras",null,{"$f":"'COG-M'!P1510","v":0}]
[417,"Transferencias internas otorgadas a fideicomisos públicos empresariales y no financieros",11,{"$f":"'COG-M'!P1511","v":0}]
[null,null,12,{"$f":"'COG-M'!P1512","v":0}]
[null,null,13,{"$f":"'COG-M'!P1513","v":0}]
[null,null,14,{"$f":"'COG-M'!P1514","v":0}]
[null,null,15,{"$f":"'COG-M'!P1515","v":0}]
[null,null,16,{"$f":"'COG-M'!P1516","v":0}]
[null,null,17,{"$f":"'COG-M'!P1517","v":0}]
[null,null,25,{"$f":"'COG-M'!P1518","v":0}]
[null,null,26,{"$f":"'COG-M'!P1519","v":0}]
[null,null,27,{"$f":"'COG-M'!P1520","v":0}]
[418,"Transferencias internas otorgadas a instituciones paraestatales públicas financieras",null,{"$f":"'COG-M'!P1521","v":0}]
[419,"Transferencias internas otorgadas a fideicomisos públicos financieros",null,{"$f":"'COG-M'!P1522","v":0}]
[4200,"TRANSFERENCIAS AL RESTO DEL SECTOR PÚBLICO",null,{"$f":"'COG-M'!P1523","v":{"v":764832,"d":"764,832"}}]
[421,"Transferencias otorgadas a entidades paraestatales no empresariales y no financieras",11,{"$f":"'COG-M'!P1524","v":{"v":764832,"d":"764,832"}}]
[null,null,12,{"$f":"'COG-M'!P1525","v":0}]
[null,null,13,{"$f":"'COG-M'!P1526","v":0}]
[null,null,14,{"$f":"'COG-M'!P1527","v":0}]
[null,null,15,{"$f":"'COG-M'!P1528","v":0}]
[null,null,16,{"$f":"'COG-M'!P1529","v":0}]
[null,null,17,{"$f":"'COG-M'!P1530","v":0}]
[null,null,25,{"$f":"'COG-M'!P1531","v":0}]
[null,null,26,{"$f":"'COG-M'!P1532","v":0}]
[null,null,27,{"$f":"'COG-M'!P1533","v":0}]
[422,"Transferencias otorgadas para entidades paraestatales empresariales y no financieras",null,{"$f":"'COG-M'!P1534","v":0}]
[423,"Transferencias otorgadas para instituciones paraestatales públicas financieras  ",null,{"$f":"'COG-M'!P1535","v":0}]
[424,"Transferencias otorgadas a entidades federativas y municipios",null,{"$f":"'COG-M'!P1536","v":0}]
[425,"Transferencias a fideicomisos de entidades federativas y municipios",null,{"$f":"'COG-M'!P1537","v":0}]
[4300,"SUBSIDIOS Y SUBVENCIONES",null,{"$f":"'COG-M'!P1538","v":0}]
[431,"Subsidios a la producción",11,{"$f":"'COG-M'!P1539","v":0}]
[null,null,12,{"$f":"'COG-M'!P1540","v":0}]
[null,null,13,{"$f":"'COG-M'!P1541","v":0}]
[null,null,14,{"$f":"'COG-M'!P1542","v":0}]
[null,null,15,{"$f":"'COG-M'!P1543","v":0}]
[null,null,16,{"$f":"'COG-M'!P1544","v":0}]
[null,null,17,{"$f":"'COG-M'!P1545","v":0}]
[null,null,25,{"$f":"'COG-M'!P1546","v":0}]
[null,null,26,{"$f":"'COG-M'!P1547","v":0}]
[null,null,27,{"$f":"'COG-M'!P1548","v":0}]
[432,"Subsidios a la distribución",11,{"$f":"'COG-M'!P1549","v":0}]
[null,null,12,{"$f":"'COG-M'!P1550","v":0}]
[null,null,13,{"$f":"'COG-M'!P1551","v":0}]
[null,null,14,{"$f":"'COG-M'!P1552","v":0}]
[null,null,15,{"$f":"'COG-M'!P1553","v":0}]
[null,null,16,{"$f":"'COG-M'!P1554","v":0}]
[null,null,17,{"$f":"'COG-M'!P1555","v":0}]
[null,null,25,{"$f":"'COG-M'!P1556","v":0}]
[null,null,26,{"$f":"'COG-M'!P1557","v":0}]
[null,null,27,{"$f":"'COG-M'!P1558","v":0}]
[433,"Subsidios a la inversión",11,{"$f":"'COG-M'!P1559","v":0}]
[null,null,12,{"$f":"'COG-M'!P1560","v":0}]
[null,null,13,{"$f":"'COG-M'!P1561","v":0}]
[null,null,14,{"$f":"'COG-M'!P1562","v":0}]
[null,null,15,{"$f":"'COG-M'!P1563","v":0}]
[null,null,16,{"$f":"'COG-M'!P1564","v":0}]
[null,null,17,{"$f":"'COG-M'!P1565","v":0}]
[null,null,25,{"$f":"'COG-M'!P1566","v":0}]
[null,null,26,{"$f":"'COG-M'!P1567","v":0}]
[null,null,27,{"$f":"'COG-M'!P1568","v":0}]
[434,"Subsidios a la prestación de servicios públicos",11,{"$f":"'COG-M'!P1569","v":0}]
[null,null,12,{"$f":"'COG-M'!P1570","v":0}]
[null,null,13,{"$f":"'COG-M'!P1571","v":0}]
[null,null,14,{"$f":"'COG-M'!P1572","v":0}]
[null,null,15,{"$f":"'COG-M'!P1573","v":0}]
[null,null,16,{"$f":"'COG-M'!P1574","v":0}]
[null,null,17,{"$f":"'COG-M'!P1575","v":0}]
[null,null,25,{"$f":"'COG-M'!P1576","v":0}]
[null,null,26,{"$f":"'COG-M'!P1577","v":0}]
[null,null,27,{"$f":"'COG-M'!P1578","v":0}]
[435,"Subsidios para cubrir diferenciales de tasas de interés",11,{"$f":"'COG-M'!P1579","v":0}]
[null,null,12,{"$f":"'COG-M'!P1580","v":0}]
[null,null,13,{"$f":"'COG-M'!P1581","v":0}]
[null,null,14,{"$f":"'COG-M'!P1582","v":0}]
[null,null,15,{"$f":"'COG-M'!P1583","v":0}]
[null,null,16,{"$f":"'COG-M'!P1584","v":0}]
[null,null,17,{"$f":"'COG-M'!P1585","v":0}]
[null,null,25,{"$f":"'COG-M'!P1586","v":0}]
[null,null,26,{"$f":"'COG-M'!P1587","v":0}]
[null,null,27,{"$f":"'COG-M'!P1588","v":0}]
[436,"Subsidios a la vivienda ",11,{"$f":"'COG-M'!P1589","v":0}]
[null,null,12,{"$f":"'COG-M'!P1590","v":0}]
[null,null,13,{"$f":"'COG-M'!P1591","v":0}]
[null,null,14,{"$f":"'COG-M'!P1592","v":0}]
[null,null,15,{"$f":"'COG-M'!P1593","v":0}]
[null,null,16,{"$f":"'COG-M'!P1594","v":0}]
[null,null,17,{"$f":"'COG-M'!P1595","v":0}]
[null,null,25,{"$f":"'COG-M'!P1596","v":0}]
[null,null,26,{"$f":"'COG-M'!P1597","v":0}]
[null,null,27,{"$f":"'COG-M'!P1598","v":0}]
[437,"Subvenciones al consumo",11,{"$f":"'COG-M'!P1599","v":0}]
[null,null,12,{"$f":"'COG-M'!P1600","v":0}]
[null,null,13,{"$f":"'COG-M'!P1601","v":0}]
[null,null,14,{"$f":"'COG-M'!P1602","v":0}]
[null,null,15,{"$f":"'COG-M'!P1603","v":0}]
[null,null,16,{"$f":"'COG-M'!P1604","v":0}]
[null,null,17,{"$f":"'COG-M'!P1605","v":0}]
[null,null,25,{"$f":"'COG-M'!P1606","v":0}]
[null,null,26,{"$f":"'COG-M'!P1607","v":0}]
[null,null,27,{"$f":"'COG-M'!P1608","v":0}]
[438,"Subsidios a entidades federativas y municipios",null,{"$f":"'COG-M'!P1609","v":0}]
[439,"Otros subsidios",11,{"$f":"'COG-M'!P1610","v":0}]
[null,null,12,{"$f":"'COG-M'!P1611","v":0}]
[null,null,13,{"$f":"'COG-M'!P1612","v":0}]
[null,null,14,{"$f":"'COG-M'!P1613","v":0}]
[null,null,15,{"$f":"'COG-M'!P1614","v":0}]
[null,null,16,{"$f":"'COG-M'!P1615","v":0}]
[null,null,17,{"$f":"'COG-M'!P1616","v":0}]
[null,null,25,{"$f":"'COG-M'!P1617","v":0}]
[null,null,26,{"$f":"'COG-M'!P1618","v":0}]
[null,null,27,{"$f":"'COG-M'!P1619","v":0}]
[4400,"AYUDAS SOCIALES",null,{"$f":"'COG-M'!P1620","v":{"v":7879128,"d":"7,879,128"}}]
[441,"Ayudas sociales a personas ",11,{"$f":"'COG-M'!P1621","v":{"v":6882480,"d":"6,882,480"}}]
[null,null,12,{"$f":"'COG-M'!P1622","v":0}]
[null,null,13,{"$f":"'COG-M'!P1623","v":0}]
[null,null,14,{"$f":"'COG-M'!P1624","v":0}]
[null,null,15,{"$f":"'COG-M'!P1625","v":0}]
[null,null,16,{"$f":"'COG-M'!P1626","v":0}]
[null,null,17,{"$f":"'COG-M'!P1627","v":0}]
[null,null,25,{"$f":"'COG-M'!P1628","v":0}]
[null,null,26,{"$f":"'COG-M'!P1629","v":0}]
[null,null,27,{"$f":"'COG-M'!P1630","v":0}]
[442,"Becas y otras ayudas para programas de capacitación",11,{"$f":"'COG-M'!P1631","v":0}]
[null,null,12,{"$f":"'COG-M'!P1632","v":0}]
[null,null,13,{"$f":"'COG-M'!P1633","v":0}]
[null,null,14,{"$f":"'COG-M'!P1634","v":0}]
[null,null,15,{"$f":"'COG-M'!P1635","v":0}]
[null,null,16,{"$f":"'COG-M'!P1636","v":0}]
[null,null,17,{"$f":"'COG-M'!P1637","v":0}]
[null,null,25,{"$f":"'COG-M'!P1638","v":0}]
[null,null,26,{"$f":"'COG-M'!P1639","v":0}]
[null,null,27,{"$f":"'COG-M'!P1640","v":0}]
[443,"Ayudas sociales a instituciones de enseñanza",11,{"$f":"'COG-M'!P1641","v":{"v":829824,"d":"829,824"}}]
[null,null,12,{"$f":"'COG-M'!P1642","v":0}]
[null,null,13,{"$f":"'COG-M'!P1643","v":0}]
[null,null,14,{"$f":"'COG-M'!P1644","v":0}]
[null,null,15,{"$f":"'COG-M'!P1645","v":0}]
[null,null,16,{"$f":"'COG-M'!P1646","v":0}]
[null,null,17,{"$f":"'COG-M'!P1647","v":0}]
[null,null,25,{"$f":"'COG-M'!P1648","v":0}]
[null,null,26,{"$f":"'COG-M'!P1649","v":0}]
[null,null,27,{"$f":"'COG-M'!P1650","v":0}]
[444,"Ayudas sociales a actividades científicas o académicas",11,{"$f":"'COG-M'!P1651","v":0}]
[null,null,12,{"$f":"'COG-M'!P1652","v":0}]
[null,null,13,{"$f":"'COG-M'!P1653","v":0}]
[null,null,14,{"$f":"'COG-M'!P1654","v":0}]
[null,null,15,{"$f":"'COG-M'!P1655","v":0}]
[null,null,16,{"$f":"'COG-M'!P1656","v":0}]
[null,null,17,{"$f":"'COG-M'!P1657","v":0}]
[null,null,25,{"$f":"'COG-M'!P1658","v":0}]
[null,null,26,{"$f":"'COG-M'!P1659","v":0}]
[null,null,27,{"$f":"'COG-M'!P1660","v":0}]
[445,"Ayudas sociales a instituciones sin fines de lucro",11,{"$f":"'COG-M'!P1661","v":0}]
[null,null,12,{"$f":"'COG-M'!P1662","v":0}]
[null,null,13,{"$f":"'COG-M'!P1663","v":0}]
[null,null,14,{"$f":"'COG-M'!P1664","v":0}]
[null,null,15,{"$f":"'COG-M'!P1665","v":0}]
[null,null,16,{"$f":"'COG-M'!P1666","v":0}]
[null,null,17,{"$f":"'COG-M'!P1667","v":0}]
[null,null,25,{"$f":"'COG-M'!P1668","v":0}]
[null,null,26,{"$f":"'COG-M'!P1669","v":0}]
[null,null,27,{"$f":"'COG-M'!P1670","v":0}]
[446,"Ayudas sociales a cooperativas",11,{"$f":"'COG-M'!P1671","v":0}]
[null,null,12,{"$f":"'COG-M'!P1672","v":0}]
[null,null,13,{"$f":"'COG-M'!P1673","v":0}]
[null,null,14,{"$f":"'COG-M'!P1674","v":0}]
[null,null,15,{"$f":"'COG-M'!P1675","v":0}]
[null,null,16,{"$f":"'COG-M'!P1676","v":0}]
[null,null,17,{"$f":"'COG-M'!P1677","v":0}]
[null,null,25,{"$f":"'COG-M'!P1678","v":0}]
[null,null,26,{"$f":"'COG-M'!P1679","v":0}]
[null,null,27,{"$f":"'COG-M'!P1680","v":0}]
[447,"Ayudas sociales a entidades de interés público",11,{"$f":"'COG-M'!P1681","v":{"v":166824,"d":"166,824"}}]
[null,null,12,{"$f":"'COG-M'!P1682","v":0}]
[null,null,13,{"$f":"'COG-M'!P1683","v":0}]
[null,null,14,{"$f":"'COG-M'!P1684","v":0}]
[null,null,15,{"$f":"'COG-M'!P1685","v":0}]
[null,null,16,{"$f":"'COG-M'!P1686","v":0}]
[null,null,17,{"$f":"'COG-M'!P1687","v":0}]
[null,null,25,{"$f":"'COG-M'!P1688","v":0}]
[null,null,26,{"$f":"'COG-M'!P1689","v":0}]
[null,null,27,{"$f":"'COG-M'!P1690","v":0}]
[448,"Ayudas por desastres naturales y otros siniestros",11,{"$f":"'COG-M'!P1691","v":0}]
[null,null,12,{"$f":"'COG-M'!P1692","v":0}]
[null,null,13,{"$f":"'COG-M'!P1693","v":0}]
[null,null,14,{"$f":"'COG-M'!P1694","v":0}]
[null,null,15,{"$f":"'COG-M'!P1695","v":0}]
[null,null,16,{"$f":"'COG-M'!P1696","v":0}]
[null,null,17,{"$f":"'COG-M'!P1697","v":0}]
[null,null,25,{"$f":"'COG-M'!P1698","v":0}]
[null,null,26,{"$f":"'COG-M'!P1699","v":0}]
[null,null,27,{"$f":"'COG-M'!P1700","v":0}]
[4500,"PENSIONES Y JUBILACIONES",null,{"$f":"'COG-M'!P1701","v":{"v":147096,"d":"147,096"}}]
[451,"Pensiones",11,{"$f":"'COG-M'!P1702","v":{"v":147096,"d":"147,096"}}]
[null,null,12,{"$f":"'COG-M'!P1703","v":0}]
[null,null,13,{"$f":"'COG-M'!P1704","v":0}]
[null,null,14,{"$f":"'COG-M'!P1705","v":0}]
[null,null,15,{"$f":"'COG-M'!P1706","v":0}]
[null,null,16,{"$f":"'COG-M'!P1707","v":0}]
[null,null,17,{"$f":"'COG-M'!P1708","v":0}]
[null,null,25,{"$f":"'COG-M'!P1709","v":0}]
[null,null,26,{"$f":"'COG-M'!P1710","v":0}]
[null,null,27,{"$f":"'COG-M'!P1711","v":0}]
[452,"Jubilaciones",11,{"$f":"'COG-M'!P1712","v":0}]
[null,null,12,{"$f":"'COG-M'!P1713","v":0}]
[null,null,13,{"$f":"'COG-M'!P1714","v":0}]
[null,null,14,{"$f":"'COG-M'!P1715","v":0}]
[null,null,15,{"$f":"'COG-M'!P1716","v":0}]
[null,null,16,{"$f":"'COG-M'!P1717","v":0}]
[null,null,17,{"$f":"'COG-M'!P1718","v":0}]
[null,null,25,{"$f":"'COG-M'!P1719","v":0}]
[null,null,26,{"$f":"'COG-M'!P1720","v":0}]
[null,null,27,{"$f":"'COG-M'!P1721","v":0}]
[459,"Otras pensiones y jubilaciones",11,{"$f":"'COG-M'!P1722","v":0}]
[null,null,12,{"$f":"'COG-M'!P1723","v":0}]
[null,null,13,{"$f":"'COG-M'!P1724","v":0}]
[null,null,14,{"$f":"'COG-M'!P1725","v":0}]
[null,null,15,{"$f":"'COG-M'!P1726","v":0}]
[null,null,16,{"$f":"'COG-M'!P1727","v":0}]
[null,null,17,{"$f":"'COG-M'!P1728","v":0}]
[null,null,25,{"$f":"'COG-M'!P1729","v":0}]
[null,null,26,{"$f":"'COG-M'!P1730","v":0}]
[null,null,27,{"$f":"'COG-M'!P1731","v":0}]
[4600,"TRANSFERENCIAS A FIDEICOMISOS, MANDATOS Y OTROS ANÁLOGOS",null,{"$f":"'COG-M'!P1732","v":0}]
[461,"Transferencias a fideicomisos del Poder Ejecutivo",11,{"$f":"'COG-M'!P1733","v":0}]
[null,null,12,{"$f":"'COG-M'!P1734","v":0}]
[null,null,13,{"$f":"'COG-M'!P1735","v":0}]
[null,null,14,{"$f":"'COG-M'!P1736","v":0}]
[null,null,15,{"$f":"'COG-M'!P1737","v":0}]
[null,null,16,{"$f":"'COG-M'!P1738","v":0}]
[null,null,17,{"$f":"'COG-M'!P1739","v":0}]
[null,null,25,{"$f":"'COG-M'!P1740","v":0}]
[null,null,26,{"$f":"'COG-M'!P1741","v":0}]
[null,null,27,{"$f":"'COG-M'!P1742","v":0}]
[462,"Transferencias a fideicomisos del Poder Legislativo",null,{"$f":"'COG-M'!P1743","v":0}]
[463,"Transferencias a fideicomisos del Poder Judicial",null,{"$f":"'COG-M'!P1744","v":0}]
[464,"Trasferencias a fideicomisos públicos de entidades paraestatales no empresariales y no financieras",11,{"$f":"'COG-M'!P1745","v":0}]
[null,null,12,{"$f":"'COG-M'!P1746","v":0}]
[null,null,13,{"$f":"'COG-M'!P1747","v":0}]
[null,null,14,{"$f":"'COG-M'!P1748","v":0}]
[null,null,15,{"$f":"'COG-M'!P1749","v":0}]
[null,null,16,{"$f":"'COG-M'!P1750","v":0}]
[null,null,17,{"$f":"'COG-M'!P1751","v":0}]
[null,null,25,{"$f":"'COG-M'!P1752","v":0}]
[null,null,26,{"$f":"'COG-M'!P1753","v":0}]
[null,null,27,{"$f":"'COG-M'!P1754","v":0}]
[465,"Transferencias a fideicomisos públicos de entidades paraestatales empresariales y no financieras",null,{"$f":"'COG-M'!P1755","v":0}]
[466,"Transferencias a fideicomisos de instituciones públicas financieras",null,{"$f":"'COG-M'!P1756","v":0}]
[469,"Otras transferencias a fideicomisos   ",11,{"$f":"'COG-M'!P1757","v":0}]
[null,null,12,{"$f":"'COG-M'!P1758","v":0}]
[null,null,13,{"$f":"'COG-M'!P1759","v":0}]
[null,null,14,{"$f":"'COG-M'!P1760","v":0}]
[null,null,15,{"$f":"'COG-M'!P1761","v":0}]
[null,null,16,{"$f":"'COG-M'!P1762","v":0}]
[null,null,17,{"$f":"'COG-M'!P1763","v":0}]
[null,null,25,{"$f":"'COG-M'!P1764","v":0}]
[null,null,26,{"$f":"'COG-M'!P1765","v":0}]
[null,null,27,{"$f":"'COG-M'!P1766","v":0}]
[4700,"TRANSFERENCIAS A LA SEGURIDAD SOCIAL",null,{"$f":"'COG-M'!P1767","v":0}]
[471,"Transferencias por obligación de ley",11,{"$f":"'COG-M'!P1768","v":0}]
[null,null,12,{"$f":"'COG-M'!P1769","v":0}]
[null,null,13,{"$f":"'COG-M'!P1770","v":0}]
[null,null,14,{"$f":"'COG-M'!P1771","v":0}]
[null,null,15,{"$f":"'COG-M'!P1772","v":0}]
[null,null,16,{"$f":"'COG-M'!P1773","v":0}]
[null,null,17,{"$f":"'COG-M'!P1774","v":0}]
[null,null,25,{"$f":"'COG-M'!P1775","v":0}]
[null,null,26,{"$f":"'COG-M'!P1776","v":0}]
[null,null,27,{"$f":"'COG-M'!P1777","v":0}]
[4800,"DONATIVOS",null,{"$f":"'COG-M'!P1778","v":0}]
[481,"Donativos a instituciones sin fines de lucro",11,{"$f":"'COG-M'!P1779","v":0}]
[null,null,12,{"$f":"'COG-M'!P1780","v":0}]
[null,null,13,{"$f":"'COG-M'!P1781","v":0}]
[null,null,14,{"$f":"'COG-M'!P1782","v":0}]
[null,null,15,{"$f":"'COG-M'!P1783","v":0}]
[null,null,16,{"$f":"'COG-M'!P1784","v":0}]
[null,null,17,{"$f":"'COG-M'!P1785","v":0}]
[null,null,25,{"$f":"'COG-M'!P1786","v":0}]
[null,null,26,{"$f":"'COG-M'!P1787","v":0}]
[null,null,27,{"$f":"'COG-M'!P1788","v":0}]
[482,"Donativos a entidades federativas ",11,{"$f":"'COG-M'!P1789","v":0}]
[null,null,12,{"$f":"'COG-M'!P1790","v":0}]
[null,null,13,{"$f":"'COG-M'!P1791","v":0}]
[null,null,14,{"$f":"'COG-M'!P1792","v":0}]
[null,null,15,{"$f":"'COG-M'!P1793","v":0}]
[null,null,16,{"$f":"'COG-M'!P1794","v":0}]
[null,null,17,{"$f":"'COG-M'!P1795","v":0}]
[null,null,25,{"$f":"'COG-M'!P1796","v":0}]
[null,null,26,{"$f":"'COG-M'!P1797","v":0}]
[null,null,27,{"$f":"'COG-M'!P1798","v":0}]
[483,"Donativos a fideicomisos privados",11,{"$f":"'COG-M'!P1799","v":0}]
[null,null,12,{"$f":"'COG-M'!P1800","v":0}]
[null,null,13,{"$f":"'COG-M'!P1801","v":0}]
[null,null,14,{"$f":"'COG-M'!P1802","v":0}]
[null,null,15,{"$f":"'COG-M'!P1803","v":0}]
[null,null,16,{"$f":"'COG-M'!P1804","v":0}]
[null,null,17,{"$f":"'COG-M'!P1805","v":0}]
[null,null,25,{"$f":"'COG-M'!P1806","v":0}]
[null,null,26,{"$f":"'COG-M'!P1807","v":0}]
[null,null,27,{"$f":"'COG-M'!P1808","v":0}]
[484,"Donativos a fideicomisos estatales",11,{"$f":"'COG-M'!P1809","v":0}]
[null,null,12,{"$f":"'COG-M'!P1810","v":0}]
[null,null,13,{"$f":"'COG-M'!P1811","v":0}]
[null,null,14,{"$f":"'COG-M'!P1812","v":0}]
[null,null,15,{"$f":"'COG-M'!P1813","v":0}]
[null,null,16,{"$f":"'COG-M'!P1814","v":0}]
[null,null,17,{"$f":"'COG-M'!P1815","v":0}]
[null,null,25,{"$f":"'COG-M'!P1816","v":0}]
[null,null,26,{"$f":"'COG-M'!P1817","v":0}]
[null,null,27,{"$f":"'COG-M'!P1818","v":0}]
[485,"Donativos internacionales",11,{"$f":"'COG-M'!P1819","v":0}]
[null,null,12,{"$f":"'COG-M'!P1820","v":0}]
[null,null,13,{"$f":"'COG-M'!P1821","v":0}]
[null,null,14,{"$f":"'COG-M'!P1822","v":0}]
[null,null,15,{"$f":"'COG-M'!P1823","v":0}]
[null,null,16,{"$f":"'COG-M'!P1824","v":0}]
[null,null,17,{"$f":"'COG-M'!P1825","v":0}]
[null,null,25,{"$f":"'COG-M'!P1826","v":0}]
[null,null,26,{"$f":"'COG-M'!P1827","v":0}]
[null,null,27,{"$f":"'COG-M'!P1828","v":0}]
[4900,"TRANSFERENCIAS AL EXTERIOR",null,{"$f":"'COG-M'!P1829","v":0}]
[491,"Transferencias para gobiernos extranjeros",11,{"$f":"'COG-M'!P1830","v":0}]
[null,null,12,{"$f":"'COG-M'!P1831","v":0}]
[null,null,13,{"$f":"'COG-M'!P1832","v":0}]
[null,null,14,{"$f":"'COG-M'!P1833","v":0}]
[null,null,15,{"$f":"'COG-M'!P1834","v":0}]
[null,null,16,{"$f":"'COG-M'!P1835","v":0}]
[null,null,17,{"$f":"'COG-M'!P1836","v":0}]
[null,null,25,{"$f":"'COG-M'!P1837","v":0}]
[null,null,26,{"$f":"'COG-M'!P1838","v":0}]
[null,null,27,{"$f":"'COG-M'!P1839","v":0}]
[492,"Transferencias para organismos internacionales",11,{"$f":"'COG-M'!P1840","v":0}]
[null,null,12,{"$f":"'COG-M'!P1841","v":0}]
[null,null,13,{"$f":"'COG-M'!P1842","v":0}]
[null,null,14,{"$f":"'COG-M'!P1843","v":0}]
[null,null,15,{"$f":"'COG-M'!P1844","v":0}]
[null,null,16,{"$f":"'COG-M'!P1845","v":0}]
[null,null,17,{"$f":"'COG-M'!P1846","v":0}]
[null,null,25,{"$f":"'COG-M'!P1847","v":0}]
[null,null,26,{"$f":"'COG-M'!P1848","v":0}]
[null,null,27,{"$f":"'COG-M'!P1849","v":0}]
[493,"Transferencias para el sector privado externo",11,{"$f":"'COG-M'!P1850","v":0}]
[null,null,12,{"$f":"'COG-M'!P1851","v":0}]
[null,null,13,{"$f":"'COG-M'!P1852","v":0}]
[null,null,14,{"$f":"'COG-M'!P1853","v":0}]
[null,null,15,{"$f":"'COG-M'!P1854","v":0}]
[null,null,16,{"$f":"'COG-M'!P1855","v":0}]
[null,null,17,{"$f":"'COG-M'!P1856","v":0}]
[null,null,25,{"$f":"'COG-M'!P1857","v":0}]
[null,null,26,{"$f":"'COG-M'!P1858","v":0}]
[null,null,27,{"$f":"'COG-M'!P1859","v":0}]
[5000,"BIENES MUEBLES, INMUEBLES E INTANGIBLES ",null,{"$f":"'COG-M'!P1860","v":{"v":2052348,"d":"2,052,348"}}]
[5100,"MOBILIARIO Y EQUIPO DE ADMINISTRACIÓN",null,{"$f":"'COG-M'!P1861","v":{"v":1643004,"d":"1,643,004"}}]
[511,"Muebles de oficina y estantería ",11,{"$f":"'COG-M'!P1862","v":{"v":1200000,"d":"1,200,000"}}]
[null,null,12,{"$f":"'COG-M'!P1863","v":0}]
[null,null,13,{"$f":"'COG-M'!P1864","v":0}]
[null,null,14,{"$f":"'COG-M'!P1865","v":0}]
[null,null,15,{"$f":"'COG-M'!P1866","v":0}]
[null,null,16,{"$f":"'COG-M'!P1867","v":0}]
[null,null,17,{"$f":"'COG-M'!P1868","v":0}]
[null,null,25,{"$f":"'COG-M'!P1869","v":0}]
[null,null,26,{"$f":"'COG-M'!P1870","v":0}]
[null,null,27,{"$f":"'COG-M'!P1871","v":0}]
[512,"Muebles, excepto de oficina y estantería",11,{"$f":"'COG-M'!P1872","v":0}]
[null,null,12,{"$f":"'COG-M'!P1873","v":0}]
[null,null,13,{"$f":"'COG-M'!P1874","v":0}]
[null,null,14,{"$f":"'COG-M'!P1875","v":0}]
[null,null,15,{"$f":"'COG-M'!P1876","v":0}]
[null,null,16,{"$f":"'COG-M'!P1877","v":0}]
[null,null,17,{"$f":"'COG-M'!P1878","v":0}]
[null,null,25,{"$f":"'COG-M'!P1879","v":0}]
[null,null,26,{"$f":"'COG-M'!P1880","v":0}]
[null,null,27,{"$f":"'COG-M'!P1881","v":0}]
[513,"Bienes artísticos, culturales y científicos",11,{"$f":"'COG-M'!P1882","v":0}]
[null,null,12,{"$f":"'COG-M'!P1883","v":0}]
[null,null,13,{"$f":"'COG-M'!P1884","v":0}]
[null,null,14,{"$f":"'COG-M'!P1885","v":0}]
[null,null,15,{"$f":"'COG-M'!P1886","v":0}]
[null,null,16,{"$f":"'COG-M'!P1887","v":0}]
[null,null,17,{"$f":"'COG-M'!P1888","v":0}]
[null,null,25,{"$f":"'COG-M'!P1889","v":0}]
[null,null,26,{"$f":"'COG-M'!P1890","v":0}]
[null,null,27,{"$f":"'COG-M'!P1891","v":0}]
[514,"Objetos de valor",11,{"$f":"'COG-M'!P1892","v":0}]
[null,null,12,{"$f":"'COG-M'!P1893","v":0}]
[null,null,13,{"$f":"'COG-M'!P1894","v":0}]
[null,null,14,{"$f":"'COG-M'!P1895","v":0}]
[null,null,15,{"$f":"'COG-M'!P1896","v":0}]
[null,null,16,{"$f":"'COG-M'!P1897","v":0}]
[null,null,17,{"$f":"'COG-M'!P1898","v":0}]
[null,null,25,{"$f":"'COG-M'!P1899","v":0}]
[null,null,26,{"$f":"'COG-M'!P1900","v":0}]
[null,null,27,{"$f":"'COG-M'!P1901","v":0}]
[515,"Equipo de cómputo de tecnologías de la información",11,{"$f":"'COG-M'!P1902","v":{"v":443004,"d":"443,004"}}]
[null,null,12,{"$f":"'COG-M'!P1903","v":0}]
[null,null,13,{"$f":"'COG-M'!P1904","v":0}]
[null,null,14,{"$f":"'COG-M'!P1905","v":0}]
[null,null,15,{"$f":"'COG-M'!P1906","v":0}]
[null,null,16,{"$f":"'COG-M'!P1907","v":0}]
[null,null,17,{"$f":"'COG-M'!P1908","v":0}]
[null,null,25,{"$f":"'COG-M'!P1909","v":0}]
[null,null,26,{"$f":"'COG-M'!P1910","v":0}]
[null,null,27,{"$f":"'COG-M'!P1911","v":0}]
[519,"Otros mobiliarios y equipos de administración",11,{"$f":"'COG-M'!P1912","v":0}]
[null,null,12,{"$f":"'COG-M'!P1913","v":0}]
[null,null,13,{"$f":"'COG-M'!P1914","v":0}]
[null,null,14,{"$f":"'COG-M'!P1915","v":0}]
[null,null,15,{"$f":"'COG-M'!P1916","v":0}]
[null,null,16,{"$f":"'COG-M'!P1917","v":0}]
[null,null,17,{"$f":"'COG-M'!P1918","v":0}]
[null,null,25,{"$f":"'COG-M'!P1919","v":0}]
[null,null,26,{"$f":"'COG-M'!P1920","v":0}]
[null,null,27,{"$f":"'COG-M'!P1921","v":0}]
[5200,"MOBILIARIO Y EQUIPO EDUCACIONAL Y RECREATIVO",null,{"$f":"'COG-M'!P1922","v":{"v":12480,"d":"12,480"}}]
[521,"Equipos y aparatos audiovisuales",11,{"$f":"'COG-M'!P1923","v":0}]
[null,null,12,{"$f":"'COG-M'!P1924","v":0}]
[null,null,13,{"$f":"'COG-M'!P1925","v":0}]
[null,null,14,{"$f":"'COG-M'!P1926","v":0}]
[null,null,15,{"$f":"'COG-M'!P1927","v":0}]
[null,null,16,{"$f":"'COG-M'!P1928","v":0}]
[null,null,17,{"$f":"'COG-M'!P1929","v":0}]
[null,null,25,{"$f":"'COG-M'!P1930","v":0}]
[null,null,26,{"$f":"'COG-M'!P1931","v":0}]
[null,null,27,{"$f":"'COG-M'!P1932","v":0}]
[522,"Aparatos deportivos",11,{"$f":"'COG-M'!P1933","v":0}]
[null,null,12,{"$f":"'COG-M'!P1934","v":0}]
[null,null,13,{"$f":"'COG-M'!P1935","v":0}]
[null,null,14,{"$f":"'COG-M'!P1936","v":0}]
[null,null,15,{"$f":"'COG-M'!P1937","v":0}]
[null,null,16,{"$f":"'COG-M'!P1938","v":0}]
[null,null,17,{"$f":"'COG-M'!P1939","v":0}]
[null,null,25,{"$f":"'COG-M'!P1940","v":0}]
[null,null,26,{"$f":"'COG-M'!P1941","v":0}]
[null,null,27,{"$f":"'COG-M'!P1942","v":0}]
[523,"Cámaras fotográficas y de video",11,{"$f":"'COG-M'!P1943","v":{"v":12480,"d":"12,480"}}]
[null,null,12,{"$f":"'COG-M'!P1944","v":0}]
[null,null,13,{"$f":"'COG-M'!P1945","v":0}]
[null,null,14,{"$f":"'COG-M'!P1946","v":0}]
[null,null,15,{"$f":"'COG-M'!P1947","v":0}]
[null,null,16,{"$f":"'COG-M'!P1948","v":0}]
[null,null,17,{"$f":"'COG-M'!P1949","v":0}]
[null,null,25,{"$f":"'COG-M'!P1950","v":0}]
[null,null,26,{"$f":"'COG-M'!P1951","v":0}]
[null,null,27,{"$f":"'COG-M'!P1952","v":0}]
[529,"Otro mobiliario y equipo educacional y recreativo ",11,{"$f":"'COG-M'!P1953","v":0}]
[null,null,12,{"$f":"'COG-M'!P1954","v":0}]
[null,null,13,{"$f":"'COG-M'!P1955","v":0}]
[null,null,14,{"$f":"'COG-M'!P1956","v":0}]
[null,null,15,{"$f":"'COG-M'!P1957","v":0}]
[null,null,16,{"$f":"'COG-M'!P1958","v":0}]
[null,null,17,{"$f":"'COG-M'!P1959","v":0}]
[null,null,25,{"$f":"'COG-M'!P1960","v":0}]
[null,null,26,{"$f":"'COG-M'!P1961","v":0}]
[null,null,27,{"$f":"'COG-M'!P1962","v":0}]
[5300,"EQUIPO E INSTRUMENTAL MÉDICO Y DE LABORATORIO",null,{"$f":"'COG-M'!P1963","v":0}]
[531,"Equipo médico y de laboratorio",11,{"$f":"'COG-M'!P1964","v":0}]
[null,null,12,{"$f":"'COG-M'!P1965","v":0}]
[null,null,13,{"$f":"'COG-M'!P1966","v":0}]
[null,null,14,{"$f":"'COG-M'!P1967","v":0}]
[null,null,15,{"$f":"'COG-M'!P1968","v":0}]
[null,null,16,{"$f":"'COG-M'!P1969","v":0}]
[null,null,17,{"$f":"'COG-M'!P1970","v":0}]
[null,null,25,{"$f":"'COG-M'!P1971","v":0}]
[null,null,26,{"$f":"'COG-M'!P1972","v":0}]
[null,null,27,{"$f":"'COG-M'!P1973","v":0}]
[532,"Instrumental médico y de laboratorio",11,{"$f":"'COG-M'!P1974","v":0}]
[null,null,12,{"$f":"'COG-M'!P1975","v":0}]
[null,null,13,{"$f":"'COG-M'!P1976","v":0}]
[null,null,14,{"$f":"'COG-M'!P1977","v":0}]
[null,null,15,{"$f":"'COG-M'!P1978","v":0}]
[null,null,16,{"$f":"'COG-M'!P1979","v":0}]
[null,null,17,{"$f":"'COG-M'!P1980","v":0}]
[null,null,25,{"$f":"'COG-M'!P1981","v":0}]
[null,null,26,{"$f":"'COG-M'!P1982","v":0}]
[null,null,27,{"$f":"'COG-M'!P1983","v":0}]
[5400,"VEHÍCULOS Y EQUIPO DE TRANSPORTE",null,{"$f":"'COG-M'!P1984","v":{"v":214260,"d":"214,260"}}]
[541,"Vehículos y equipo terrestre",11,{"$f":"'COG-M'!P1985","v":{"v":214260,"d":"214,260"}}]
[null,null,12,{"$f":"'COG-M'!P1986","v":0}]
[null,null,13,{"$f":"'COG-M'!P1987","v":0}]
[null,null,14,{"$f":"'COG-M'!P1988","v":0}]
[null,null,15,{"$f":"'COG-M'!P1989","v":0}]
[null,null,16,{"$f":"'COG-M'!P1990","v":0}]
[null,null,17,{"$f":"'COG-M'!P1991","v":0}]
[null,null,25,{"$f":"'COG-M'!P1992","v":0}]
[null,null,26,{"$f":"'COG-M'!P1993","v":0}]
[null,null,27,{"$f":"'COG-M'!P1994","v":0}]
[542,"Carrocerías  y remolques",11,{"$f":"'COG-M'!P1995","v":0}]
[null,null,12,{"$f":"'COG-M'!P1996","v":0}]
[null,null,13,{"$f":"'COG-M'!P1997","v":0}]
[null,null,14,{"$f":"'COG-M'!P1998","v":0}]
[null,null,15,{"$f":"'COG-M'!P1999","v":0}]
[null,null,16,{"$f":"'COG-M'!P2000","v":0}]
[null,null,17,{"$f":"'COG-M'!P2001","v":0}]
[null,null,25,{"$f":"'COG-M'!P2002","v":0}]
[null,null,26,{"$f":"'COG-M'!P2003","v":0}]
[null,null,27,{"$f":"'COG-M'!P2004","v":0}]
[543,"Equipo aeroespacial",11,{"$f":"'COG-M'!P2005","v":0}]
[null,null,12,{"$f":"'COG-M'!P2006","v":0}]
[null,null,13,{"$f":"'COG-M'!P2007","v":0}]
[null,null,14,{"$f":"'COG-M'!P2008","v":0}]
[null,null,15,{"$f":"'COG-M'!P2009","v":0}]
[null,null,16,{"$f":"'COG-M'!P2010","v":0}]
[null,null,17,{"$f":"'COG-M'!P2011","v":0}]
[null,null,25,{"$f":"'COG-M'!P2012","v":0}]
[null,null,26,{"$f":"'COG-M'!P2013","v":0}]
[null,null,27,{"$f":"'COG-M'!P2014","v":0}]
[544,"Equipo ferroviario",11,{"$f":"'COG-M'!P2015","v":0}]
[null,null,12,{"$f":"'COG-M'!P2016","v":0}]
[null,null,13,{"$f":"'COG-M'!P2017","v":0}]
[null,null,14,{"$f":"'COG-M'!P2018","v":0}]
[null,null,15,{"$f":"'COG-M'!P2019","v":0}]
[null,null,16,{"$f":"'COG-M'!P2020","v":0}]
[null,null,17,{"$f":"'COG-M'!P2021","v":0}]
[null,null,25,{"$f":"'COG-M'!P2022","v":0}]
[null,null,26,{"$f":"'COG-M'!P2023","v":0}]
[null,null,27,{"$f":"'COG-M'!P2024","v":0}]
[545,"Embarcaciones",11,{"$f":"'COG-M'!P2025","v":0}]
[null,null,12,{"$f":"'COG-M'!P2026","v":0}]
[null,null,13,{"$f":"'COG-M'!P2027","v":0}]
[null,null,14,{"$f":"'COG-M'!P2028","v":0}]
[null,null,15,{"$f":"'COG-M'!P2029","v":0}]
[null,null,16,{"$f":"'COG-M'!P2030","v":0}]
[null,null,17,{"$f":"'COG-M'!P2031","v":0}]
[null,null,25,{"$f":"'COG-M'!P2032","v":0}]
[null,null,26,{"$f":"'COG-M'!P2033","v":0}]
[null,null,27,{"$f":"'COG-M'!P2034","v":0}]
[549,"Otros equipo de transporte",11,{"$f":"'COG-M'!P2035","v":0}]
[null,null,12,{"$f":"'COG-M'!P2036","v":0}]
[null,null,13,{"$f":"'COG-M'!P2037","v":0}]
[null,null,14,{"$f":"'COG-M'!P2038","v":0}]
[null,null,15,{"$f":"'COG-M'!P2039","v":0}]
[null,null,16,{"$f":"'COG-M'!P2040","v":0}]
[null,null,17,{"$f":"'COG-M'!P2041","v":0}]
[null,null,25,{"$f":"'COG-M'!P2042","v":0}]
[null,null,26,{"$f":"'COG-M'!P2043","v":0}]
[null,null,27,{"$f":"'COG-M'!P2044","v":0}]
[5500,"EQUIPO DE DEFENSA Y SEGURIDAD",null,{"$f":"'COG-M'!P2045","v":0}]
[551,"Equipo de defensa y seguridad",11,{"$f":"'COG-M'!P2046","v":0}]
[null,null,12,{"$f":"'COG-M'!P2047","v":0}]
[null,null,13,{"$f":"'COG-M'!P2048","v":0}]
[null,null,14,{"$f":"'COG-M'!P2049","v":0}]
[null,null,15,{"$f":"'COG-M'!P2050","v":0}]
[null,null,16,{"$f":"'COG-M'!P2051","v":0}]
[null,null,17,{"$f":"'COG-M'!P2052","v":0}]
[null,null,25,{"$f":"'COG-M'!P2053","v":0}]
[null,null,26,{"$f":"'COG-M'!P2054","v":0}]
[null,null,27,{"$f":"'COG-M'!P2055","v":0}]
[5600,"MAQUINARIA, OTROS EQUIPOS Y HERRAMIENTAS",null,{"$f":"'COG-M'!P2056","v":{"v":119604,"d":"119,604"}}]
[561,"Maquinaria y equipo agropecuario",11,{"$f":"'COG-M'!P2057","v":0}]
[null,null,12,{"$f":"'COG-M'!P2058","v":0}]
[null,null,13,{"$f":"'COG-M'!P2059","v":0}]
[null,null,14,{"$f":"'COG-M'!P2060","v":0}]
[null,null,15,{"$f":"'COG-M'!P2061","v":0}]
[null,null,16,{"$f":"'COG-M'!P2062","v":0}]
[null,null,17,{"$f":"'COG-M'!P2063","v":0}]
[null,null,25,{"$f":"'COG-M'!P2064","v":0}]
[null,null,26,{"$f":"'COG-M'!P2065","v":0}]
[null,null,27,{"$f":"'COG-M'!P2066","v":0}]
[562,"Maquinaria y equipo industrial",11,{"$f":"'COG-M'!P2067","v":0}]
[null,null,12,{"$f":"'COG-M'!P2068","v":0}]
[null,null,13,{"$f":"'COG-M'!P2069","v":0}]
[null,null,14,{"$f":"'COG-M'!P2070","v":0}]
[null,null,15,{"$f":"'COG-M'!P2071","v":0}]
[null,null,16,{"$f":"'COG-M'!P2072","v":0}]
[null,null,17,{"$f":"'COG-M'!P2073","v":0}]
[null,null,25,{"$f":"'COG-M'!P2074","v":0}]
[null,null,26,{"$f":"'COG-M'!P2075","v":0}]
[null,null,27,{"$f":"'COG-M'!P2076","v":0}]
[563,"Maquinaria y equipo de construcción",11,{"$f":"'COG-M'!P2077","v":0}]
[null,null,12,{"$f":"'COG-M'!P2078","v":0}]
[null,null,13,{"$f":"'COG-M'!P2079","v":0}]
[null,null,14,{"$f":"'COG-M'!P2080","v":0}]
[null,null,15,{"$f":"'COG-M'!P2081","v":0}]
[null,null,16,{"$f":"'COG-M'!P2082","v":0}]
[null,null,17,{"$f":"'COG-M'!P2083","v":0}]
[null,null,25,{"$f":"'COG-M'!P2084","v":0}]
[null,null,26,{"$f":"'COG-M'!P2085","v":0}]
[null,null,27,{"$f":"'COG-M'!P2086","v":0}]
[564,"Sistemas de aire acondicionado, calefacción y de refrigeración industrial y comercial",11,{"$f":"'COG-M'!P2087","v":0}]
[null,null,12,{"$f":"'COG-M'!P2088","v":0}]
[null,null,13,{"$f":"'COG-M'!P2089","v":0}]
[null,null,14,{"$f":"'COG-M'!P2090","v":0}]
[null,null,15,{"$f":"'COG-M'!P2091","v":0}]
[null,null,16,{"$f":"'COG-M'!P2092","v":0}]
[null,null,17,{"$f":"'COG-M'!P2093","v":0}]
[null,null,25,{"$f":"'COG-M'!P2094","v":0}]
[null,null,26,{"$f":"'COG-M'!P2095","v":0}]
[null,null,27,{"$f":"'COG-M'!P2096","v":0}]
[565,"Equipo de comunicación y telecomunicación",11,{"$f":"'COG-M'!P2097","v":0}]
[null,null,12,{"$f":"'COG-M'!P2098","v":0}]
[null,null,13,{"$f":"'COG-M'!P2099","v":0}]
[null,null,14,{"$f":"'COG-M'!P2100","v":0}]
[null,null,15,{"$f":"'COG-M'!P2101","v":0}]
[null,null,16,{"$f":"'COG-M'!P2102","v":0}]
[null,null,17,{"$f":"'COG-M'!P2103","v":0}]
[null,null,25,{"$f":"'COG-M'!P2104","v":0}]
[null,null,26,{"$f":"'COG-M'!P2105","v":0}]
[null,null,27,{"$f":"'COG-M'!P2106","v":0}]
[566,"Equipo de generación eléctrica, aparatos y accesorios eléctricos",11,{"$f":"'COG-M'!P2107","v":0}]
[null,null,12,{"$f":"'COG-M'!P2108","v":0}]
[null,null,13,{"$f":"'COG-M'!P2109","v":0}]
[null,null,14,{"$f":"'COG-M'!P2110","v":0}]
[null,null,15,{"$f":"'COG-M'!P2111","v":0}]
[null,null,16,{"$f":"'COG-M'!P2112","v":0}]
[null,null,17,{"$f":"'COG-M'!P2113","v":0}]
[null,null,25,{"$f":"'COG-M'!P2114","v":0}]
[null,null,26,{"$f":"'COG-M'!P2115","v":0}]
[null,null,27,{"$f":"'COG-M'!P2116","v":0}]
[567,"Herramientas y máquinas-herramienta",11,{"$f":"'COG-M'!P2117","v":{"v":119604,"d":"119,604"}}]
[null,null,12,{"$f":"'COG-M'!P2118","v":0}]
[null,null,13,{"$f":"'COG-M'!P2119","v":0}]
[null,null,14,{"$f":"'COG-M'!P2120","v":0}]
[null,null,15,{"$f":"'COG-M'!P2121","v":0}]
[null,null,16,{"$f":"'COG-M'!P2122","v":0}]
[null,null,17,{"$f":"'COG-M'!P2123","v":0}]
[null,null,25,{"$f":"'COG-M'!P2124","v":0}]
[null,null,26,{"$f":"'COG-M'!P2125","v":0}]
[null,null,27,{"$f":"'COG-M'!P2126","v":0}]
[569,"Otros equipos",11,{"$f":"'COG-M'!P2127","v":0}]
[null,null,12,{"$f":"'COG-M'!P2128","v":0}]
[null,null,13,{"$f":"'COG-M'!P2129","v":0}]
[null,null,14,{"$f":"'COG-M'!P2130","v":0}]
[null,null,15,{"$f":"'COG-M'!P2131","v":0}]
[null,null,16,{"$f":"'COG-M'!P2132","v":0}]
[null,null,17,{"$f":"'COG-M'!P2133","v":0}]
[null,null,25,{"$f":"'COG-M'!P2134","v":0}]
[null,null,26,{"$f":"'COG-M'!P2135","v":0}]
[null,null,27,{"$f":"'COG-M'!P2136","v":0}]
[5700,"ACTIVOS BIOLÓGICOS",null,{"$f":"'COG-M'!P2137","v":0}]
[571,"Bovinos",11,{"$f":"'COG-M'!P2138","v":0}]
[null,null,12,{"$f":"'COG-M'!P2139","v":0}]
[null,null,13,{"$f":"'COG-M'!P2140","v":0}]
[null,null,14,{"$f":"'COG-M'!P2141","v":0}]
[null,null,15,{"$f":"'COG-M'!P2142","v":0}]
[null,null,16,{"$f":"'COG-M'!P2143","v":0}]
[null,null,17,{"$f":"'COG-M'!P2144","v":0}]
[null,null,25,{"$f":"'COG-M'!P2145","v":0}]
[null,null,26,{"$f":"'COG-M'!P2146","v":0}]
[null,null,27,{"$f":"'COG-M'!P2147","v":0}]
[572,"Porcinos",11,{"$f":"'COG-M'!P2148","v":0}]
[null,null,12,{"$f":"'COG-M'!P2149","v":0}]
[null,null,13,{"$f":"'COG-M'!P2150","v":0}]
[null,null,14,{"$f":"'COG-M'!P2151","v":0}]
[null,null,15,{"$f":"'COG-M'!P2152","v":0}]
[null,null,16,{"$f":"'COG-M'!P2153","v":0}]
[null,null,17,{"$f":"'COG-M'!P2154","v":0}]
[null,null,25,{"$f":"'COG-M'!P2155","v":0}]
[null,null,26,{"$f":"'COG-M'!P2156","v":0}]
[null,null,27,{"$f":"'COG-M'!P2157","v":0}]
[573,"Aves",11,{"$f":"'COG-M'!P2158","v":0}]
[null,null,12,{"$f":"'COG-M'!P2159","v":0}]
[null,null,13,{"$f":"'COG-M'!P2160","v":0}]
[null,null,14,{"$f":"'COG-M'!P2161","v":0}]
[null,null,15,{"$f":"'COG-M'!P2162","v":0}]
[null,null,16,{"$f":"'COG-M'!P2163","v":0}]
[null,null,17,{"$f":"'COG-M'!P2164","v":0}]
[null,null,25,{"$f":"'COG-M'!P2165","v":0}]
[null,null,26,{"$f":"'COG-M'!P2166","v":0}]
[null,null,27,{"$f":"'COG-M'!P2167","v":0}]
[574,"Ovinos y caprinos ",11,{"$f":"'COG-M'!P2168","v":0}]
[null,null,12,{"$f":"'COG-M'!P2169","v":0}]
[null,null,13,{"$f":"'COG-M'!P2170","v":0}]
[null,null,14,{"$f":"'COG-M'!P2171","v":0}]
[null,null,15,{"$f":"'COG-M'!P2172","v":0}]
[null,null,16,{"$f":"'COG-M'!P2173","v":0}]
[null,null,17,{"$f":"'COG-M'!P2174","v":0}]
[null,null,25,{"$f":"'COG-M'!P2175","v":0}]
[null,null,26,{"$f":"'COG-M'!P2176","v":0}]
[null,null,27,{"$f":"'COG-M'!P2177","v":0}]
[575,"Peces y acuicultura",11,{"$f":"'COG-M'!P2178","v":0}]
[null,null,12,{"$f":"'COG-M'!P2179","v":0}]
[null,null,13,{"$f":"'COG-M'!P2180","v":0}]
[null,null,14,{"$f":"'COG-M'!P2181","v":0}]
[null,null,15,{"$f":"'COG-M'!P2182","v":0}]
[null,null,16,{"$f":"'COG-M'!P2183","v":0}]
[null,null,17,{"$f":"'COG-M'!P2184","v":0}]
[null,null,25,{"$f":"'COG-M'!P2185","v":0}]
[null,null,26,{"$f":"'COG-M'!P2186","v":0}]
[null,null,27,{"$f":"'COG-M'!P2187","v":0}]
[576,"Equinos",11,{"$f":"'COG-M'!P2188","v":0}]
[null,null,12,{"$f":"'COG-M'!P2189","v":0}]
[null,null,13,{"$f":"'COG-M'!P2190","v":0}]
[null,null,14,{"$f":"'COG-M'!P2191","v":0}]
[null,null,15,{"$f":"'COG-M'!P2192","v":0}]
[null,null,16,{"$f":"'COG-M'!P2193","v":0}]
[null,null,17,{"$f":"'COG-M'!P2194","v":0}]
[null,null,25,{"$f":"'COG-M'!P2195","v":0}]
[null,null,26,{"$f":"'COG-M'!P2196","v":0}]
[null,null,27,{"$f":"'COG-M'!P2197","v":0}]
[577,"Especies menores y de zoológico",11,{"$f":"'COG-M'!P2198","v":0}]
[null,null,12,{"$f":"'COG-M'!P2199","v":0}]
[null,null,13,{"$f":"'COG-M'!P2200","v":0}]
[null,null,14,{"$f":"'COG-M'!P2201","v":0}]
[null,null,15,{"$f":"'COG-M'!P2202","v":0}]
[null,null,16,{"$f":"'COG-M'!P2203","v":0}]
[null,null,17,{"$f":"'COG-M'!P2204","v":0}]
[null,null,25,{"$f":"'COG-M'!P2205","v":0}]
[null,null,26,{"$f":"'COG-M'!P2206","v":0}]
[null,null,27,{"$f":"'COG-M'!P2207","v":0}]
[578,"Árboles y plantas",11,{"$f":"'COG-M'!P2208","v":0}]
[null,null,12,{"$f":"'COG-M'!P2209","v":0}]
[null,null,13,{"$f":"'COG-M'!P2210","v":0}]
[null,null,14,{"$f":"'COG-M'!P2211","v":0}]
[null,null,15,{"$f":"'COG-M'!P2212","v":0}]
[null,null,16,{"$f":"'COG-M'!P2213","v":0}]
[null,null,17,{"$f":"'COG-M'!P2214","v":0}]
[null,null,25,{"$f":"'COG-M'!P2215","v":0}]
[null,null,26,{"$f":"'COG-M'!P2216","v":0}]
[null,null,27,{"$f":"'COG-M'!P2217","v":0}]
[579,"Otros activos biológicos",11,{"$f":"'COG-M'!P2218","v":0}]
[null,null,12,{"$f":"'COG-M'!P2219","v":0}]
[null,null,13,{"$f":"'COG-M'!P2220","v":0}]
[null,null,14,{"$f":"'COG-M'!P2221","v":0}]
[null,null,15,{"$f":"'COG-M'!P2222","v":0}]
[null,null,16,{"$f":"'COG-M'!P2223","v":0}]
[null,null,17,{"$f":"'COG-M'!P2224","v":0}]
[null,null,25,{"$f":"'COG-M'!P2225","v":0}]
[null,null,26,{"$f":"'COG-M'!P2226","v":0}]
[null,null,27,{"$f":"'COG-M'!P2227","v":0}]
[5800,"BIENES INMUEBLES",null,{"$f":"'COG-M'!P2228","v":0}]
[581,"Terrenos",11,{"$f":"'COG-M'!P2229","v":0}]
[null,null,12,{"$f":"'COG-M'!P2230","v":0}]
[null,null,13,{"$f":"'COG-M'!P2231","v":0}]
[null,null,14,{"$f":"'COG-M'!P2232","v":0}]
[null,null,15,{"$f":"'COG-M'!P2233","v":0}]
[null,null,16,{"$f":"'COG-M'!P2234","v":0}]
[null,null,17,{"$f":"'COG-M'!P2235","v":0}]
[null,null,25,{"$f":"'COG-M'!P2236","v":0}]
[null,null,26,{"$f":"'COG-M'!P2237","v":0}]
[null,null,27,{"$f":"'COG-M'!P2238","v":0}]
[582,"Viviendas ",11,{"$f":"'COG-M'!P2239","v":0}]
[null,null,12,{"$f":"'COG-M'!P2240","v":0}]
[null,null,13,{"$f":"'COG-M'!P2241","v":0}]
[null,null,14,{"$f":"'COG-M'!P2242","v":0}]
[null,null,15,{"$f":"'COG-M'!P2243","v":0}]
[null,null,16,{"$f":"'COG-M'!P2244","v":0}]
[null,null,17,{"$f":"'COG-M'!P2245","v":0}]
[null,null,25,{"$f":"'COG-M'!P2246","v":0}]
[null,null,26,{"$f":"'COG-M'!P2247","v":0}]
[null,null,27,{"$f":"'COG-M'!P2248","v":0}]
[583,"Edificios no residenciales",11,{"$f":"'COG-M'!P2249","v":0}]
[null,null,12,{"$f":"'COG-M'!P2250","v":0}]
[null,null,13,{"$f":"'COG-M'!P2251","v":0}]
[null,null,14,{"$f":"'COG-M'!P2252","v":0}]
[null,null,15,{"$f":"'COG-M'!P2253","v":0}]
[null,null,16,{"$f":"'COG-M'!P2254","v":0}]
[null,null,17,{"$f":"'COG-M'!P2255","v":0}]
[null,null,25,{"$f":"'COG-M'!P2256","v":0}]
[null,null,26,{"$f":"'COG-M'!P2257","v":0}]
[null,null,27,{"$f":"'COG-M'!P2258","v":0}]
[589,"Otros bienes inmuebles",11,{"$f":"'COG-M'!P2259","v":0}]
[null,null,12,{"$f":"'COG-M'!P2260","v":0}]
[null,null,13,{"$f":"'COG-M'!P2261","v":0}]
[null,null,14,{"$f":"'COG-M'!P2262","v":0}]
[null,null,15,{"$f":"'COG-M'!P2263","v":0}]
[null,null,16,{"$f":"'COG-M'!P2264","v":0}]
[null,null,17,{"$f":"'COG-M'!P2265","v":0}]
[null,null,25,{"$f":"'COG-M'!P2266","v":0}]
[null,null,26,{"$f":"'COG-M'!P2267","v":0}]
[null,null,27,{"$f":"'COG-M'!P2268","v":0}]
[5900,"ACTIVOS INTANGIBLES",null,{"$f":"'COG-M'!P2269","v":{"v":63000,"d":"63,000"}}]
[591,"Software",11,{"$f":"'COG-M'!P2270","v":{"v":63000,"d":"63,000"}}]
[null,null,12,{"$f":"'COG-M'!P2271","v":0}]
[null,null,13,{"$f":"'COG-M'!P2272","v":0}]
[null,null,14,{"$f":"'COG-M'!P2273","v":0}]
[null,null,15,{"$f":"'COG-M'!P2274","v":0}]
[null,null,16,{"$f":"'COG-M'!P2275","v":0}]
[null,null,17,{"$f":"'COG-M'!P2276","v":0}]
[null,null,25,{"$f":"'COG-M'!P2277","v":0}]
[null,null,26,{"$f":"'COG-M'!P2278","v":0}]
[null,null,27,{"$f":"'COG-M'!P2279","v":0}]
[592,"Patentes",11,{"$f":"'COG-M'!P2280","v":0}]
[null,null,12,{"$f":"'COG-M'!P2281","v":0}]
[null,null,13,{"$f":"'COG-M'!P2282","v":0}]
[null,null,14,{"$f":"'COG-M'!P2283","v":0}]
[null,null,15,{"$f":"'COG-M'!P2284","v":0}]
[null,null,16,{"$f":"'COG-M'!P2285","v":0}]
[null,null,17,{"$f":"'COG-M'!P2286","v":0}]
[null,null,25,{"$f":"'COG-M'!P2287","v":0}]
[null,null,26,{"$f":"'COG-M'!P2288","v":0}]
[null,null,27,{"$f":"'COG-M'!P2289","v":0}]
[593,"Marcas",11,{"$f":"'COG-M'!P2290","v":0}]
[null,null,12,{"$f":"'COG-M'!P2291","v":0}]
[null,null,13,{"$f":"'COG-M'!P2292","v":0}]
[null,null,14,{"$f":"'COG-M'!P2293","v":0}]
[null,null,15,{"$f":"'COG-M'!P2294","v":0}]
[null,null,16,{"$f":"'COG-M'!P2295","v":0}]
[null,null,17,{"$f":"'COG-M'!P2296","v":0}]
[null,null,25,{"$f":"'COG-M'!P2297","v":0}]
[null,null,26,{"$f":"'COG-M'!P2298","v":0}]
[null,null,27,{"$f":"'COG-M'!P2299","v":0}]
[594,"Derechos",11,{"$f":"'COG-M'!P2300","v":0}]
[null,null,12,{"$f":"'COG-M'!P2301","v":0}]
[null,null,13,{"$f":"'COG-M'!P2302","v":0}]
[null,null,14,{"$f":"'COG-M'!P2303","v":0}]
[null,null,15,{"$f":"'COG-M'!P2304","v":0}]
[null,null,16,{"$f":"'COG-M'!P2305","v":0}]
[null,null,17,{"$f":"'COG-M'!P2306","v":0}]
[null,null,25,{"$f":"'COG-M'!P2307","v":0}]
[null,null,26,{"$f":"'COG-M'!P2308","v":0}]
[null,null,27,{"$f":"'COG-M'!P2309","v":0}]
[595,"Concesiones",11,{"$f":"'COG-M'!P2310","v":0}]
[null,null,12,{"$f":"'COG-M'!P2311","v":0}]
[null,null,13,{"$f":"'COG-M'!P2312","v":0}]
[null,null,14,{"$f":"'COG-M'!P2313","v":0}]
[null,null,15,{"$f":"'COG-M'!P2314","v":0}]
[null,null,16,{"$f":"'COG-M'!P2315","v":0}]
[null,null,17,{"$f":"'COG-M'!P2316","v":0}]
[null,null,25,{"$f":"'COG-M'!P2317","v":0}]
[null,null,26,{"$f":"'COG-M'!P2318","v":0}]
[null,null,27,{"$f":"'COG-M'!P2319","v":0}]
[596,"Franquicias",11,{"$f":"'COG-M'!P2320","v":0}]
[null,null,12,{"$f":"'COG-M'!P2321","v":0}]
[null,null,13,{"$f":"'COG-M'!P2322","v":0}]
[null,null,14,{"$f":"'COG-M'!P2323","v":0}]
[null,null,15,{"$f":"'COG-M'!P2324","v":0}]
[null,null,16,{"$f":"'COG-M'!P2325","v":0}]
[null,null,17,{"$f":"'COG-M'!P2326","v":0}]
[null,null,25,{"$f":"'COG-M'!P2327","v":0}]
[null,null,26,{"$f":"'COG-M'!P2328","v":0}]
[null,null,27,{"$f":"'COG-M'!P2329","v":0}]
[597,"Licencias informáticas e intelectuales",11,{"$f":"'COG-M'!P2330","v":0}]
[null,null,12,{"$f":"'COG-M'!P2331","v":0}]
[null,null,13,{"$f":"'COG-M'!P2332","v":0}]
[null,null,14,{"$f":"'COG-M'!P2333","v":0}]
[null,null,15,{"$f":"'COG-M'!P2334","v":0}]
[null,null,16,{"$f":"'COG-M'!P2335","v":0}]
[null,null,17,{"$f":"'COG-M'!P2336","v":0}]
[null,null,25,{"$f":"'COG-M'!P2337","v":0}]
[null,null,26,{"$f":"'COG-M'!P2338","v":0}]
[null,null,27,{"$f":"'COG-M'!P2339","v":0}]
[598,"Licencias industriales, comerciales y otras",11,{"$f":"'COG-M'!P2340","v":0}]
[null,null,12,{"$f":"'COG-M'!P2341","v":0}]
[null,null,13,{"$f":"'COG-M'!P2342","v":0}]
[null,null,14,{"$f":"'COG-M'!P2343","v":0}]
[null,null,15,{"$f":"'COG-M'!P2344","v":0}]
[null,null,16,{"$f":"'COG-M'!P2345","v":0}]
[null,null,17,{"$f":"'COG-M'!P2346","v":0}]
[null,null,25,{"$f":"'COG-M'!P2347","v":0}]
[null,null,26,{"$f":"'COG-M'!P2348","v":0}]
[null,null,27,{"$f":"'COG-M'!P2349","v":0}]
[599,"Otros activos intangibles",11,{"$f":"'COG-M'!P2350","v":0}]
[null,null,12,{"$f":"'COG-M'!P2351","v":0}]
[null,null,13,{"$f":"'COG-M'!P2352","v":0}]
[null,null,14,{"$f":"'COG-M'!P2353","v":0}]
[null,null,15,{"$f":"'COG-M'!P2354","v":0}]
[null,null,16,{"$f":"'COG-M'!P2355","v":0}]
[null,null,17,{"$f":"'COG-M'!P2356","v":0}]
[null,null,25,{"$f":"'COG-M'!P2357","v":0}]
[null,null,26,{"$f":"'COG-M'!P2358","v":0}]
[null,null,27,{"$f":"'COG-M'!P2359","v":0}]
[6000,"INVERSIÓN PÚBLICA",null,{"$f":"'COG-M'!P2360","v":{"v":21100680,"d":"21,100,680"}}]
[6100,"OBRA PÚBLICA EN BIENES DE DOMINIO PÚBLICO",null,{"$f":"'COG-M'!P2361","v":{"v":21100680,"d":"21,100,680"}}]
[611,"Edificación habitacional",11,{"$f":"'COG-M'!P2362","v":0}]
[null,null,12,{"$f":"'COG-M'!P2363","v":0}]
[null,null,13,{"$f":"'COG-M'!P2364","v":0}]
[null,null,14,{"$f":"'COG-M'!P2365","v":0}]
[null,null,15,{"$f":"'COG-M'!P2366","v":0}]
[null,null,16,{"$f":"'COG-M'!P2367","v":0}]
[null,null,17,{"$f":"'COG-M'!P2368","v":0}]
[null,null,25,{"$f":"'COG-M'!P2369","v":0}]
[null,null,26,{"$f":"'COG-M'!P2370","v":0}]
[null,null,27,{"$f":"'COG-M'!P2371","v":0}]
[612,"Edificación no  habitacional",11,{"$f":"'COG-M'!P2372","v":{"v":4468176,"d":"4,468,176"}}]
[null,null,12,{"$f":"'COG-M'!P2373","v":0}]
[null,null,13,{"$f":"'COG-M'!P2374","v":0}]
[null,null,14,{"$f":"'COG-M'!P2375","v":0}]
[null,null,15,{"$f":"'COG-M'!P2376","v":0}]
[null,null,16,{"$f":"'COG-M'!P2377","v":0}]
[null,null,17,{"$f":"'COG-M'!P2378","v":0}]
[null,null,25,{"$f":"'COG-M'!P2379","v":0}]
[null,null,26,{"$f":"'COG-M'!P2380","v":0}]
[null,null,27,{"$f":"'COG-M'!P2381","v":0}]
[613,"Construcción de obras para el abastecimiento de agua, petróleo, gas, electricidad y telecomunicaciones",11,{"$f":"'COG-M'!P2382","v":{"v":3578316,"d":"3,578,316"}}]
[null,null,12,{"$f":"'COG-M'!P2383","v":0}]
[null,null,13,{"$f":"'COG-M'!P2384","v":0}]
[null,null,14,{"$f":"'COG-M'!P2385","v":0}]
[null,null,15,{"$f":"'COG-M'!P2386","v":0}]
[null,null,16,{"$f":"'COG-M'!P2387","v":0}]
[null,null,17,{"$f":"'COG-M'!P2388","v":0}]
[null,null,25,{"$f":"'COG-M'!P2389","v":{"v":714180,"d":"714,180"}}]
[null,null,26,{"$f":"'COG-M'!P2390","v":0}]
[null,null,27,{"$f":"'COG-M'!P2391","v":0}]
[614,"División de terrenos y construcción de obras de urbanización",11,{"$f":"'COG-M'!P2392","v":{"v":2189808,"d":"2,189,808"}}]
[null,null,12,{"$f":"'COG-M'!P2393","v":0}]
[null,null,13,{"$f":"'COG-M'!P2394","v":0}]
[null,null,14,{"$f":"'COG-M'!P2395","v":0}]
[null,null,15,{"$f":"'COG-M'!P2396","v":0}]
[null,null,16,{"$f":"'COG-M'!P2397","v":0}]
[null,null,17,{"$f":"'COG-M'!P2398","v":0}]
[null,null,25,{"$f":"'COG-M'!P2399","v":{"v":63108,"d":"63,108"}}]
[null,null,26,{"$f":"'COG-M'!P2400","v":0}]
[null,null,27,{"$f":"'COG-M'!P2401","v":0}]
[615,"Construcción de vías de comunicación",11,{"$f":"'COG-M'!P2402","v":{"v":7579152,"d":"7,579,152"}}]
[null,null,12,{"$f":"'COG-M'!P2403","v":0}]
[null,null,13,{"$f":"'COG-M'!P2404","v":0}]
[null,null,14,{"$f":"'COG-M'!P2405","v":0}]
[null,null,15,{"$f":"'COG-M'!P2406","v":0}]
[null,null,16,{"$f":"'COG-M'!P2407","v":0}]
[null,null,17,{"$f":"'COG-M'!P2408","v":0}]
[null,null,25,{"$f":"'COG-M'!P2409","v":{"v":1856868,"d":"1,856,868"}}]
[null,null,26,{"$f":"'COG-M'!P2410","v":0}]
[null,null,27,{"$f":"'COG-M'!P2411","v":0}]
[616,"Otras construcciones de ingeniería civil u obra pesada",11,{"$f":"'COG-M'!P2412","v":0}]
[null,null,12,{"$f":"'COG-M'!P2413","v":0}]
[null,null,13,{"$f":"'COG-M'!P2414","v":0}]
[null,null,14,{"$f":"'COG-M'!P2415","v":0}]
[null,null,15,{"$f":"'COG-M'!P2416","v":0}]
[null,null,16,{"$f":"'COG-M'!P2417","v":0}]
[null,null,17,{"$f":"'COG-M'!P2418","v":0}]
[null,null,25,{"$f":"'COG-M'!P2419","v":0}]
[null,null,26,{"$f":"'COG-M'!P2420","v":0}]
[null,null,27,{"$f":"'COG-M'!P2421","v":0}]
[617,"Instalaciones y equipamiento en construcciones",11,{"$f":"'COG-M'!P2422","v":0}]
[null,null,12,{"$f":"'COG-M'!P2423","v":0}]
[null,null,13,{"$f":"'COG-M'!P2424","v":0}]
[null,null,14,{"$f":"'COG-M'!P2425","v":0}]
[null,null,15,{"$f":"'COG-M'!P2426","v":0}]
[null,null,16,{"$f":"'COG-M'!P2427","v":0}]
[null,null,17,{"$f":"'COG-M'!P2428","v":0}]
[null,null,25,{"$f":"'COG-M'!P2429","v":{"v":651072,"d":"651,072"}}]
[null,null,26,{"$f":"'COG-M'!P2430","v":0}]
[null,null,27,{"$f":"'COG-M'!P2431","v":0}]
[619,"Trabajo de acabados en edificaciones y otros trabajos especializados",11,{"$f":"'COG-M'!P2432","v":0}]
[null,null,12,{"$f":"'COG-M'!P2433","v":0}]
[null,null,13,{"$f":"'COG-M'!P2434","v":0}]
[null,null,14,{"$f":"'COG-M'!P2435","v":0}]
[null,null,15,{"$f":"'COG-M'!P2436","v":0}]
[null,null,16,{"$f":"'COG-M'!P2437","v":0}]
[null,null,17,{"$f":"'COG-M'!P2438","v":0}]
[null,null,25,{"$f":"'COG-M'!P2439","v":0}]
[null,null,26,{"$f":"'COG-M'!P2440","v":0}]
[null,null,27,{"$f":"'COG-M'!P2441","v":0}]
[6200,"OBRA PÚBLICA EN BIENES PROPIOS",null,{"$f":"'COG-M'!P2442","v":0}]
[621,"Edificación habitacional",11,{"$f":"'COG-M'!P2443","v":0}]
[null,null,12,{"$f":"'COG-M'!P2444","v":0}]
[null,null,13,{"$f":"'COG-M'!P2445","v":0}]
[null,null,14,{"$f":"'COG-M'!P2446","v":0}]
[null,null,15,{"$f":"'COG-M'!P2447","v":0}]
[null,null,16,{"$f":"'COG-M'!P2448","v":0}]
[null,null,17,{"$f":"'COG-M'!P2449","v":0}]
[null,null,25,{"$f":"'COG-M'!P2450","v":0}]
[null,null,26,{"$f":"'COG-M'!P2451","v":0}]
[null,null,27,{"$f":"'COG-M'!P2452","v":0}]
[622,"Edificación no habitacional",11,{"$f":"'COG-M'!P2453","v":0}]
[null,null,12,{"$f":"'COG-M'!P2454","v":0}]
[null,null,13,{"$f":"'COG-M'!P2455","v":0}]
[null,null,14,{"$f":"'COG-M'!P2456","v":0}]
[null,null,15,{"$f":"'COG-M'!P2457","v":0}]
[null,null,16,{"$f":"'COG-M'!P2458","v":0}]
[null,null,17,{"$f":"'COG-M'!P2459","v":0}]
[null,null,25,{"$f":"'COG-M'!P2460","v":0}]
[null,null,26,{"$f":"'COG-M'!P2461","v":0}]
[null,null,27,{"$f":"'COG-M'!P2462","v":0}]
[623,"Construcción de obras para  el abastecimiento de agua,  petróleo, gas, electricidad y telecomunicaciones",11,{"$f":"'COG-M'!P2463","v":0}]
[null,null,12,{"$f":"'COG-M'!P2464","v":0}]
[null,null,13,{"$f":"'COG-M'!P2465","v":0}]
[null,null,14,{"$f":"'COG-M'!P2466","v":0}]
[null,null,15,{"$f":"'COG-M'!P2467","v":0}]
[null,null,16,{"$f":"'COG-M'!P2468","v":0}]
[null,null,17,{"$f":"'COG-M'!P2469","v":0}]
[null,null,25,{"$f":"'COG-M'!P2470","v":0}]
[null,null,26,{"$f":"'COG-M'!P2471","v":0}]
[null,null,27,{"$f":"'COG-M'!P2472","v":0}]
[624,"División de terrenos y construcción de obras de urbanización",11,{"$f":"'COG-M'!P2473","v":0}]
[null,null,12,{"$f":"'COG-M'!P2474","v":0}]
[null,null,13,{"$f":"'COG-M'!P2475","v":0}]
[null,null,14,{"$f":"'COG-M'!P2476","v":0}]
[null,null,15,{"$f":"'COG-M'!P2477","v":0}]
[null,null,16,{"$f":"'COG-M'!P2478","v":0}]
[null,null,17,{"$f":"'COG-M'!P2479","v":0}]
[null,null,25,{"$f":"'COG-M'!P2480","v":0}]
[null,null,26,{"$f":"'COG-M'!P2481","v":0}]
[null,null,27,{"$f":"'COG-M'!P2482","v":0}]
[625,"Construcción de vías de comunicación",11,{"$f":"'COG-M'!P2483","v":0}]
[null,null,12,{"$f":"'COG-M'!P2484","v":0}]
[null,null,13,{"$f":"'COG-M'!P2485","v":0}]
[null,null,14,{"$f":"'COG-M'!P2486","v":0}]
[null,null,15,{"$f":"'COG-M'!P2487","v":0}]
[null,null,16,{"$f":"'COG-M'!P2488","v":0}]
[null,null,17,{"$f":"'COG-M'!P2489","v":0}]
[null,null,25,{"$f":"'COG-M'!P2490","v":0}]
[null,null,26,{"$f":"'COG-M'!P2491","v":0}]
[null,null,27,{"$f":"'COG-M'!P2492","v":0}]
[626,"Otras construcciones de ingeniería civil u obra pesada",11,{"$f":"'COG-M'!P2493","v":0}]
[null,null,12,{"$f":"'COG-M'!P2494","v":0}]
[null,null,13,{"$f":"'COG-M'!P2495","v":0}]
[null,null,14,{"$f":"'COG-M'!P2496","v":0}]
[null,null,15,{"$f":"'COG-M'!P2497","v":0}]
[null,null,16,{"$f":"'COG-M'!P2498","v":0}]
[null,null,17,{"$f":"'COG-M'!P2499","v":0}]
[null,null,25,{"$f":"'COG-M'!P2500","v":0}]
[null,null,26,{"$f":"'COG-M'!P2501","v":0}]
[null,null,27,{"$f":"'COG-M'!P2502","v":0}]
[627,"Instalaciones y equipamiento en construcciones",11,{"$f":"'COG-M'!P2503","v":0}]
[null,null,12,{"$f":"'COG-M'!P2504","v":0}]
[null,null,13,{"$f":"'COG-M'!P2505","v":0}]
[null,null,14,{"$f":"'COG-M'!P2506","v":0}]
[null,null,15,{"$f":"'COG-M'!P2507","v":0}]
[null,null,16,{"$f":"'COG-M'!P2508","v":0}]
[null,null,17,{"$f":"'COG-M'!P2509","v":0}]
[null,null,25,{"$f":"'COG-M'!P2510","v":0}]
[null,null,26,{"$f":"'COG-M'!P2511","v":0}]
[null,null,27,{"$f":"'COG-M'!P2512","v":0}]
[629,"Trabajos de acabados en edificaciones y otros trabajos especializados",11,{"$f":"'COG-M'!P2513","v":0}]
[null,null,12,{"$f":"'COG-M'!P2514","v":0}]
[null,null,13,{"$f":"'COG-M'!P2515","v":0}]
[null,null,14,{"$f":"'COG-M'!P2516","v":0}]
[null,null,15,{"$f":"'COG-M'!P2517","v":0}]
[null,null,16,{"$f":"'COG-M'!P2518","v":0}]
[null,null,17,{"$f":"'COG-M'!P2519","v":0}]
[null,null,25,{"$f":"'COG-M'!P2520","v":0}]
[null,null,26,{"$f":"'COG-M'!P2521","v":0}]
[null,null,27,{"$f":"'COG-M'!P2522","v":0}]
[6300,"PROYECTOS PRODUCTIVOS Y ACCIONES DE FOMENTO",null,{"$f":"'COG-M'!P2523","v":0}]
[631,"Estudios, formulación y evaluación de proyectos productivos no incluidos en conceptos anteriores de este capítulo",11,{"$f":"'COG-M'!P2524","v":0}]
[null,null,12,{"$f":"'COG-M'!P2525","v":0}]
[null,null,13,{"$f":"'COG-M'!P2526","v":0}]
[null,null,14,{"$f":"'COG-M'!P2527","v":0}]
[null,null,15,{"$f":"'COG-M'!P2528","v":0}]
[null,null,16,{"$f":"'COG-M'!P2529","v":0}]
[null,null,17,{"$f":"'COG-M'!P2530","v":0}]
[null,null,25,{"$f":"'COG-M'!P2531","v":0}]
[null,null,26,{"$f":"'COG-M'!P2532","v":0}]
[null,null,27,{"$f":"'COG-M'!P2533","v":0}]
[632,"Ejecución de proyectos productivos no incluidos en conceptos anteriores de este capítulo",11,{"$f":"'COG-M'!P2534","v":0}]
[null,null,12,{"$f":"'COG-M'!P2535","v":0}]
[null,null,13,{"$f":"'COG-M'!P2536","v":0}]
[null,null,14,{"$f":"'COG-M'!P2537","v":0}]
[null,null,15,{"$f":"'COG-M'!P2538","v":0}]
[null,null,16,{"$f":"'COG-M'!P2539","v":0}]
[null,null,17,{"$f":"'COG-M'!P2540","v":0}]
[null,null,25,{"$f":"'COG-M'!P2541","v":0}]
[null,null,26,{"$f":"'COG-M'!P2542","v":0}]
[null,null,27,{"$f":"'COG-M'!P2543","v":0}]
[7000,"INVERSIONES FINANCIERAS Y OTRAS PROVISIONES",null,{"$f":"'COG-M'!P2544","v":0}]
[7100,"INVERSIONES PARA EL FOMENTO DE ACTIVIDADES PRODUCTIVAS",null,{"$f":"'COG-M'!P2545","v":0}]
[711,"Créditos otorgados por entidades federativas y municipios al sector social y privado para el fomento de actividades productivas",11,{"$f":"'COG-M'!P2546","v":0}]
[null,null,12,{"$f":"'COG-M'!P2547","v":0}]
[null,null,13,{"$f":"'COG-M'!P2548","v":0}]
[null,null,14,{"$f":"'COG-M'!P2549","v":0}]
[null,null,15,{"$f":"'COG-M'!P2550","v":0}]
[null,null,16,{"$f":"'COG-M'!P2551","v":0}]
[null,null,17,{"$f":"'COG-M'!P2552","v":0}]
[null,null,25,{"$f":"'COG-M'!P2553","v":0}]
[null,null,26,{"$f":"'COG-M'!P2554","v":0}]
[null,null,27,{"$f":"'COG-M'!P2555","v":0}]
[712,"Créditos otorgados por las entidades federativas a municipios para el fomento de actividades productivas",null,{"$f":"'COG-M'!P2556","v":0}]
[7200,"ACCIONES Y PARTICIPACIONES DE CAPITAL",null,{"$f":"'COG-M'!P2557","v":0}]
[721,"Acciones y participaciones de capital en entidades paraestatales no empresariales y no financieras con fines de política económica",11,{"$f":"'COG-M'!P2558","v":0}]
[null,null,12,{"$f":"'COG-M'!P2559","v":0}]
[null,null,13,{"$f":"'COG-M'!P2560","v":0}]
[null,null,14,{"$f":"'COG-M'!P2561","v":0}]
[null,null,15,{"$f":"'COG-M'!P2562","v":0}]
[null,null,16,{"$f":"'COG-M'!P2563","v":0}]
[null,null,17,{"$f":"'COG-M'!P2564","v":0}]
[null,null,25,{"$f":"'COG-M'!P2565","v":0}]
[null,null,26,{"$f":"'COG-M'!P2566","v":0}]
[null,null,27,{"$f":"'COG-M'!P2567","v":0}]
[722,"Acciones y participaciones de capital en entidades paraestatales empresariales y no financieras con fines de política económica",null,{"$f":"'COG-M'!P2568","v":0}]
[723,"Acciones  y participaciones de capital en instituciones paraestatales públicas financieras con fines de política económica",null,{"$f":"'COG-M'!P2569","v":0}]
[724,"Acciones y participaciones  de capital en el sector privado con fines de política económica",11,{"$f":"'COG-M'!P2570","v":0}]
[null,null,12,{"$f":"'COG-M'!P2571","v":0}]
[null,null,13,{"$f":"'COG-M'!P2572","v":0}]
[null,null,14,{"$f":"'COG-M'!P2573","v":0}]
[null,null,15,{"$f":"'COG-M'!P2574","v":0}]
[null,null,16,{"$f":"'COG-M'!P2575","v":0}]
[null,null,17,{"$f":"'COG-M'!P2576","v":0}]
[null,null,25,{"$f":"'COG-M'!P2577","v":0}]
[null,null,26,{"$f":"'COG-M'!P2578","v":0}]
[null,null,27,{"$f":"'COG-M'!P2579","v":0}]
[725,"Acciones y participaciones de capital en organismos internacionales con fines de política económica",11,{"$f":"'COG-M'!P2580","v":0}]
[null,null,12,{"$f":"'COG-M'!P2581","v":0}]
[null,null,13,{"$f":"'COG-M'!P2582","v":0}]
[null,null,14,{"$f":"'COG-M'!P2583","v":0}]
[null,null,15,{"$f":"'COG-M'!P2584","v":0}]
[null,null,16,{"$f":"'COG-M'!P2585","v":0}]
[null,null,17,{"$f":"'COG-M'!P2586","v":0}]
[null,null,25,{"$f":"'COG-M'!P2587","v":0}]
[null,null,26,{"$f":"'COG-M'!P2588","v":0}]
[null,null,27,{"$f":"'COG-M'!P2589","v":0}]
[726,"Acciones y participaciones de capital en el sector externo con fines de política económica",11,{"$f":"'COG-M'!P2590","v":0}]
[null,null,12,{"$f":"'COG-M'!P2591","v":0}]
[null,null,13,{"$f":"'COG-M'!P2592","v":0}]
[null,null,14,{"$f":"'COG-M'!P2593","v":0}]
[null,null,15,{"$f":"'COG-M'!P2594","v":0}]
[null,null,16,{"$f":"'COG-M'!P2595","v":0}]
[null,null,17,{"$f":"'COG-M'!P2596","v":0}]
[null,null,25,{"$f":"'COG-M'!P2597","v":0}]
[null,null,26,{"$f":"'COG-M'!P2598","v":0}]
[null,null,27,{"$f":"'COG-M'!P2599","v":0}]
[727,"Acciones y participaciones de capital en el sector público con fines de gestión de la liquidez",11,{"$f":"'COG-M'!P2600","v":0}]
[null,null,12,{"$f":"'COG-M'!P2601","v":0}]
[null,null,13,{"$f":"'COG-M'!P2602","v":0}]
[null,null,14,{"$f":"'COG-M'!P2603","v":0}]
[null,null,15,{"$f":"'COG-M'!P2604","v":0}]
[null,null,16,{"$f":"'COG-M'!P2605","v":0}]
[null,null,17,{"$f":"'COG-M'!P2606","v":0}]
[null,null,25,{"$f":"'COG-M'!P2607","v":0}]
[null,null,26,{"$f":"'COG-M'!P2608","v":0}]
[null,null,27,{"$f":"'COG-M'!P2609","v":0}]
[728,"Acciones y participaciones de capital  en el sector privado con fines de gestión de liquidez",11,{"$f":"'COG-M'!P2610","v":0}]
[null,null,12,{"$f":"'COG-M'!P2611","v":0}]
[null,null,13,{"$f":"'COG-M'!P2612","v":0}]
[null,null,14,{"$f":"'COG-M'!P2613","v":0}]
[null,null,15,{"$f":"'COG-M'!P2614","v":0}]
[null,null,16,{"$f":"'COG-M'!P2615","v":0}]
[null,null,17,{"$f":"'COG-M'!P2616","v":0}]
[null,null,25,{"$f":"'COG-M'!P2617","v":0}]
[null,null,26,{"$f":"'COG-M'!P2618","v":0}]
[null,null,27,{"$f":"'COG-M'!P2619","v":0}]
[729,"Acciones y participaciones de capital en el sector externo con fines de gestión  de liquidez",11,{"$f":"'COG-M'!P2620","v":0}]
[null,null,12,{"$f":"'COG-M'!P2621","v":0}]
[null,null,13,{"$f":"'COG-M'!P2622","v":0}]
[null,null,14,{"$f":"'COG-M'!P2623","v":0}]
[null,null,15,{"$f":"'COG-M'!P2624","v":0}]
[null,null,16,{"$f":"'COG-M'!P2625","v":0}]
[null,null,17,{"$f":"'COG-M'!P2626","v":0}]
[null,null,25,{"$f":"'COG-M'!P2627","v":0}]
[null,null,26,{"$f":"'COG-M'!P2628","v":0}]
[null,null,27,{"$f":"'COG-M'!P2629","v":0}]
[7300,"COMPRA DE TÍTULOS Y VALORES",null,{"$f":"'COG-M'!P2630","v":0}]
[731,"Bonos",11,{"$f":"'COG-M'!P2631","v":0}]
[null,null,12,{"$f":"'COG-M'!P2632","v":0}]
[null,null,13,{"$f":"'COG-M'!P2633","v":0}]
[null,null,14,{"$f":"'COG-M'!P2634","v":0}]
[null,null,15,{"$f":"'COG-M'!P2635","v":0}]
[null,null,16,{"$f":"'COG-M'!P2636","v":0}]
[null,null,17,{"$f":"'COG-M'!P2637","v":0}]
[null,null,25,{"$f":"'COG-M'!P2638","v":0}]
[null,null,26,{"$f":"'COG-M'!P2639","v":0}]
[null,null,27,{"$f":"'COG-M'!P2640","v":0}]
[732,"Valores representativos de deuda adquiridos con fines de política económica",11,{"$f":"'COG-M'!P2641","v":0}]
[null,null,12,{"$f":"'COG-M'!P2642","v":0}]
[null,null,13,{"$f":"'COG-M'!P2643","v":0}]
[null,null,14,{"$f":"'COG-M'!P2644","v":0}]
[null,null,15,{"$f":"'COG-M'!P2645","v":0}]
[null,null,16,{"$f":"'COG-M'!P2646","v":0}]
[null,null,17,{"$f":"'COG-M'!P2647","v":0}]
[null,null,25,{"$f":"'COG-M'!P2648","v":0}]
[null,null,26,{"$f":"'COG-M'!P2649","v":0}]
[null,null,27,{"$f":"'COG-M'!P2650","v":0}]
[733,"Valores representativos de deuda  adquiridos con fines de gestión de liquidez",11,{"$f":"'COG-M'!P2651","v":0}]
[null,null,12,{"$f":"'COG-M'!P2652","v":0}]
[null,null,13,{"$f":"'COG-M'!P2653","v":0}]
[null,null,14,{"$f":"'COG-M'!P2654","v":0}]
[null,null,15,{"$f":"'COG-M'!P2655","v":0}]
[null,null,16,{"$f":"'COG-M'!P2656","v":0}]
[null,null,17,{"$f":"'COG-M'!P2657","v":0}]
[null,null,25,{"$f":"'COG-M'!P2658","v":0}]
[null,null,26,{"$f":"'COG-M'!P2659","v":0}]
[null,null,27,{"$f":"'COG-M'!P2660","v":0}]
[734,"Obligaciones negociables adquiridas con fines de política económica",11,{"$f":"'COG-M'!P2661","v":0}]
[null,null,12,{"$f":"'COG-M'!P2662","v":0}]
[null,null,13,{"$f":"'COG-M'!P2663","v":0}]
[null,null,14,{"$f":"'COG-M'!P2664","v":0}]
[null,null,15,{"$f":"'COG-M'!P2665","v":0}]
[null,null,16,{"$f":"'COG-M'!P2666","v":0}]
[null,null,17,{"$f":"'COG-M'!P2667","v":0}]
[null,null,25,{"$f":"'COG-M'!P2668","v":0}]
[null,null,26,{"$f":"'COG-M'!P2669","v":0}]
[null,null,27,{"$f":"'COG-M'!P2670","v":0}]
[735,"Obligaciones negociables adquiridas con fines de gestión de liquidez",11,{"$f":"'COG-M'!P2671","v":0}]
[null,null,12,{"$f":"'COG-M'!P2672","v":0}]
[null,null,13,{"$f":"'COG-M'!P2673","v":0}]
[null,null,14,{"$f":"'COG-M'!P2674","v":0}]
[null,null,15,{"$f":"'COG-M'!P2675","v":0}]
[null,null,16,{"$f":"'COG-M'!P2676","v":0}]
[null,null,17,{"$f":"'COG-M'!P2677","v":0}]
[null,null,25,{"$f":"'COG-M'!P2678","v":0}]
[null,null,26,{"$f":"'COG-M'!P2679","v":0}]
[null,null,27,{"$f":"'COG-M'!P2680","v":0}]
[739,"Otros valores",11,{"$f":"'COG-M'!P2681","v":0}]
[null,null,12,{"$f":"'COG-M'!P2682","v":0}]
[null,null,13,{"$f":"'COG-M'!P2683","v":0}]
[null,null,14,{"$f":"'COG-M'!P2684","v":0}]
[null,null,15,{"$f":"'COG-M'!P2685","v":0}]
[null,null,16,{"$f":"'COG-M'!P2686","v":0}]
[null,null,17,{"$f":"'COG-M'!P2687","v":0}]
[null,null,25,{"$f":"'COG-M'!P2688","v":0}]
[null,null,26,{"$f":"'COG-M'!P2689","v":0}]
[null,null,27,{"$f":"'COG-M'!P2690","v":0}]
[7400,"CONCESIÓN DE PRÉSTAMOS",null,{"$f":"'COG-M'!P2691","v":0}]
[741,"Concesión de préstamos a entidades paraestatales no empresariales y no financieras con fines de política económica",11,{"$f":"'COG-M'!P2692","v":0}]
[null,null,12,{"$f":"'COG-M'!P2693","v":0}]
[null,null,13,{"$f":"'COG-M'!P2694","v":0}]
[null,null,14,{"$f":"'COG-M'!P2695","v":0}]
[null,null,15,{"$f":"'COG-M'!P2696","v":0}]
[null,null,16,{"$f":"'COG-M'!P2697","v":0}]
[null,null,17,{"$f":"'COG-M'!P2698","v":0}]
[null,null,25,{"$f":"'COG-M'!P2699","v":0}]
[null,null,26,{"$f":"'COG-M'!P2700","v":0}]
[null,null,27,{"$f":"'COG-M'!P2701","v":0}]
[742,"Concesión de préstamos a entidades paraestatales empresariales y no financieras con fines de política económica",null,{"$f":"'COG-M'!P2702","v":0}]
[743,"Concesión de préstamos a instituciones paraestatales públicas financieras con fines de política económica",null,{"$f":"'COG-M'!P2703","v":0}]
[744,"Concesión de préstamos a entidades federativas  y municipios con fines de política económica",null,{"$f":"'COG-M'!P2704","v":0}]
[745,"Concesión de préstamos al sector privado con fines de política económica",11,{"$f":"'COG-M'!P2705","v":0}]
[null,null,12,{"$f":"'COG-M'!P2706","v":0}]
[null,null,13,{"$f":"'COG-M'!P2707","v":0}]
[null,null,14,{"$f":"'COG-M'!P2708","v":0}]
[null,null,15,{"$f":"'COG-M'!P2709","v":0}]
[null,null,16,{"$f":"'COG-M'!P2710","v":0}]
[null,null,17,{"$f":"'COG-M'!P2711","v":0}]
[null,null,25,{"$f":"'COG-M'!P2712","v":0}]
[null,null,26,{"$f":"'COG-M'!P2713","v":0}]
[null,null,27,{"$f":"'COG-M'!P2714","v":0}]
[746,"Concesión de préstamos al sector externo con fines de política económica",11,{"$f":"'COG-M'!P2715","v":0}]
[null,null,12,{"$f":"'COG-M'!P2716","v":0}]
[null,null,13,{"$f":"'COG-M'!P2717","v":0}]
[null,null,14,{"$f":"'COG-M'!P2718","v":0}]
[null,null,15,{"$f":"'COG-M'!P2719","v":0}]
[null,null,16,{"$f":"'COG-M'!P2720","v":0}]
[null,null,17,{"$f":"'COG-M'!P2721","v":0}]
[null,null,25,{"$f":"'COG-M'!P2722","v":0}]
[null,null,26,{"$f":"'COG-M'!P2723","v":0}]
[null,null,27,{"$f":"'COG-M'!P2724","v":0}]
[747,"Concesión de préstamos al sector público con fines de gestión de liquidez",11,{"$f":"'COG-M'!P2725","v":0}]
[null,null,12,{"$f":"'COG-M'!P2726","v":0}]
[null,null,13,{"$f":"'COG-M'!P2727","v":0}]
[null,null,14,{"$f":"'COG-M'!P2728","v":0}]
[null,null,15,{"$f":"'COG-M'!P2729","v":0}]
[null,null,16,{"$f":"'COG-M'!P2730","v":0}]
[null,null,17,{"$f":"'COG-M'!P2731","v":0}]
[null,null,25,{"$f":"'COG-M'!P2732","v":0}]
[null,null,26,{"$f":"'COG-M'!P2733","v":0}]
[null,null,27,{"$f":"'COG-M'!P2734","v":0}]
[748,"Concesión de préstamos al sector privado con fines de gestión de liquidez",11,{"$f":"'COG-M'!P2735","v":0}]
[null,null,12,{"$f":"'COG-M'!P2736","v":0}]
[null,null,13,{"$f":"'COG-M'!P2737","v":0}]
[null,null,14,{"$f":"'COG-M'!P2738","v":0}]
[null,null,15,{"$f":"'COG-M'!P2739","v":0}]
[null,null,16,{"$f":"'COG-M'!P2740","v":0}]
[null,null,17,{"$f":"'COG-M'!P2741","v":0}]
[null,null,25,{"$f":"'COG-M'!P2742","v":0}]
[null,null,26,{"$f":"'COG-M'!P2743","v":0}]
[null,null,27,{"$f":"'COG-M'!P2744","v":0}]
[749,"Concesión de  préstamos al sector externo con fines de gestión de liquidez",11,{"$f":"'COG-M'!P2745","v":0}]
[null,null,12,{"$f":"'COG-M'!P2746","v":0}]
[null,null,13,{"$f":"'COG-M'!P2747","v":0}]
[null,null,14,{"$f":"'COG-M'!P2748","v":0}]
[null,null,15,{"$f":"'COG-M'!P2749","v":0}]
[null,null,16,{"$f":"'COG-M'!P2750","v":0}]
[null,null,17,{"$f":"'COG-M'!P2751","v":0}]
[null,null,25,{"$f":"'COG-M'!P2752","v":0}]
[null,null,26,{"$f":"'COG-M'!P2753","v":0}]
[null,null,27,{"$f":"'COG-M'!P2754","v":0}]
[7500,"INVERSIONES EN FIDEICOMISOS, MANDATOS Y OTROS  ANÁLOGOS",null,{"$f":"'COG-M'!P2755","v":0}]
[751,"Inversiones en fideicomisos del Poder Ejecutivo",11,{"$f":"'COG-M'!P2756","v":0}]
[null,null,12,{"$f":"'COG-M'!P2757","v":0}]
[null,null,13,{"$f":"'COG-M'!P2758","v":0}]
[null,null,14,{"$f":"'COG-M'!P2759","v":0}]
[null,null,15,{"$f":"'COG-M'!P2760","v":0}]
[null,null,16,{"$f":"'COG-M'!P2761","v":0}]
[null,null,17,{"$f":"'COG-M'!P2762","v":0}]
[null,null,25,{"$f":"'COG-M'!P2763","v":0}]
[null,null,26,{"$f":"'COG-M'!P2764","v":0}]
[null,null,27,{"$f":"'COG-M'!P2765","v":0}]
[752,"Inversiones en fideicomisos del Poder Legislativo",null,{"$f":"'COG-M'!P2766","v":0}]
[753,"Inversiones en fideicomisos del Poder Judicial",null,{"$f":"'COG-M'!P2767","v":0}]
[754,"Inversiones en fideicomisos públicos no empresariales y no financieros",11,{"$f":"'COG-M'!P2768","v":0}]
[null,null,12,{"$f":"'COG-M'!P2769","v":0}]
[null,null,13,{"$f":"'COG-M'!P2770","v":0}]
[null,null,14,{"$f":"'COG-M'!P2771","v":0}]
[null,null,15,{"$f":"'COG-M'!P2772","v":0}]
[null,null,16,{"$f":"'COG-M'!P2773","v":0}]
[null,null,17,{"$f":"'COG-M'!P2774","v":0}]
[null,null,25,{"$f":"'COG-M'!P2775","v":0}]
[null,null,26,{"$f":"'COG-M'!P2776","v":0}]
[null,null,27,{"$f":"'COG-M'!P2777","v":0}]
[755,"Inversiones en fideicomisos públicos empresariales y no financieros",null,{"$f":"'COG-M'!P2778","v":0}]
[756,"Inversiones en fideicomisos públicos financieros ",null,{"$f":"'COG-M'!P2779","v":0}]
[757,"Inversiones en fideicomisos de entidades federativas",11,{"$f":"'COG-M'!P2780","v":0}]
[null,null,12,{"$f":"'COG-M'!P2781","v":0}]
[null,null,13,{"$f":"'COG-M'!P2782","v":0}]
[null,null,14,{"$f":"'COG-M'!P2783","v":0}]
[null,null,15,{"$f":"'COG-M'!P2784","v":0}]
[null,null,16,{"$f":"'COG-M'!P2785","v":0}]
[null,null,17,{"$f":"'COG-M'!P2786","v":0}]
[null,null,25,{"$f":"'COG-M'!P2787","v":0}]
[null,null,26,{"$f":"'COG-M'!P2788","v":0}]
[null,null,27,{"$f":"'COG-M'!P2789","v":0}]
[758,"Inversiones en fideicomisos de municipios",null,{"$f":"'COG-M'!P2790","v":0}]
[759,"Otras inversiones en fideicomisos",11,{"$f":"'COG-M'!P2791","v":0}]
[null,null,12,{"$f":"'COG-M'!P2792","v":0}]
[null,null,13,{"$f":"'COG-M'!P2793","v":0}]
[null,null,14,{"$f":"'COG-M'!P2794","v":0}]
[null,null,15,{"$f":"'COG-M'!P2795","v":0}]
[null,null,16,{"$f":"'COG-M'!P2796","v":0}]
[null,null,17,{"$f":"'COG-M'!P2797","v":0}]
[null,null,25,{"$f":"'COG-M'!P2798","v":0}]
[null,null,26,{"$f":"'COG-M'!P2799","v":0}]
[null,null,27,{"$f":"'COG-M'!P2800","v":0}]
[7600,"OTRAS INVERSIONES FINANCIERAS",null,{"$f":"'COG-M'!P2801","v":0}]
[761,"Depósitos a largo plazo en moneda nacional",11,{"$f":"'COG-M'!P2802","v":0}]
[null,null,12,{"$f":"'COG-M'!P2803","v":0}]
[null,null,13,{"$f":"'COG-M'!P2804","v":0}]
[null,null,14,{"$f":"'COG-M'!P2805","v":0}]
[null,null,15,{"$f":"'COG-M'!P2806","v":0}]
[null,null,16,{"$f":"'COG-M'!P2807","v":0}]
[null,null,17,{"$f":"'COG-M'!P2808","v":0}]
[null,null,25,{"$f":"'COG-M'!P2809","v":0}]
[null,null,26,{"$f":"'COG-M'!P2810","v":0}]
[null,null,27,{"$f":"'COG-M'!P2811","v":0}]
[762,"Depósitos a largo plazo en moneda extranjera",11,{"$f":"'COG-M'!P2812","v":0}]
[null,null,12,{"$f":"'COG-M'!P2813","v":0}]
[null,null,13,{"$f":"'COG-M'!P2814","v":0}]
[null,null,14,{"$f":"'COG-M'!P2815","v":0}]
[null,null,15,{"$f":"'COG-M'!P2816","v":0}]
[null,null,16,{"$f":"'COG-M'!P2817","v":0}]
[null,null,17,{"$f":"'COG-M'!P2818","v":0}]
[null,null,25,{"$f":"'COG-M'!P2819","v":0}]
[null,null,26,{"$f":"'COG-M'!P2820","v":0}]
[null,null,27,{"$f":"'COG-M'!P2821","v":0}]
[7900,"PROVISIONES PARA CONTINGENCIAS Y OTRAS EROGACIONES ESPECIALES",null,{"$f":"'COG-M'!P2822","v":0}]
[791,"Contingencias por fenómenos naturales",11,{"$f":"'COG-M'!P2823","v":0}]
[null,null,12,{"$f":"'COG-M'!P2824","v":0}]
[null,null,13,{"$f":"'COG-M'!P2825","v":0}]
[null,null,14,{"$f":"'COG-M'!P2826","v":0}]
[null,null,15,{"$f":"'COG-M'!P2827","v":0}]
[null,null,16,{"$f":"'COG-M'!P2828","v":0}]
[null,null,17,{"$f":"'COG-M'!P2829","v":0}]
[null,null,25,{"$f":"'COG-M'!P2830","v":0}]
[null,null,26,{"$f":"'COG-M'!P2831","v":0}]
[null,null,27,{"$f":"'COG-M'!P2832","v":0}]
[792,"Contingencias socioeconómicas",11,{"$f":"'COG-M'!P2833","v":0}]
[null,null,12,{"$f":"'COG-M'!P2834","v":0}]
[null,null,13,{"$f":"'COG-M'!P2835","v":0}]
[null,null,14,{"$f":"'COG-M'!P2836","v":0}]
[null,null,15,{"$f":"'COG-M'!P2837","v":0}]
[null,null,16,{"$f":"'COG-M'!P2838","v":0}]
[null,null,17,{"$f":"'COG-M'!P2839","v":0}]
[null,null,25,{"$f":"'COG-M'!P2840","v":0}]
[null,null,26,{"$f":"'COG-M'!P2841","v":0}]
[null,null,27,{"$f":"'COG-M'!P2842","v":0}]
[799,"Otras erogaciones especiales",11,{"$f":"'COG-M'!P2843","v":0}]
[null,null,12,{"$f":"'COG-M'!P2844","v":0}]
[null,null,13,{"$f":"'COG-M'!P2845","v":0}]
[null,null,14,{"$f":"'COG-M'!P2846","v":0}]
[null,null,15,{"$f":"'COG-M'!P2847","v":0}]
[null,null,16,{"$f":"'COG-M'!P2848","v":0}]
[null,null,17,{"$f":"'COG-M'!P2849","v":0}]
[null,null,25,{"$f":"'COG-M'!P2850","v":0}]
[null,null,26,{"$f":"'COG-M'!P2851","v":0}]
[null,null,27,{"$f":"'COG-M'!P2852","v":0}]
[8000,"PARTICIPACIONES Y APORTACIONES",null,{"$f":"'COG-M'!P2853","v":0}]
[8100,"PARTICIPACIONES",null,{"$f":"'COG-M'!P2854","v":0}]
[811,"Fondo general de participaciones",null,{"$f":"'COG-M'!P2855","v":0}]
[812,"Fondo de fomento municipal",null,{"$f":"'COG-M'!P2856","v":0}]
[813,"Participaciones de las entidades federativas a los municipios",null,{"$f":"'COG-M'!P2857","v":0}]
[814,"Otros conceptos participables de la Federación a entidades federativas",null,{"$f":"'COG-M'!P2858","v":0}]
[815,"Otros conceptos participables de la Federación a municipios",null,{"$f":"'COG-M'!P2859","v":0}]
[816,"Convenios de colaboración administrativa",11,{"$f":"'COG-M'!P2860","v":0}]
[null,null,12,{"$f":"'COG-M'!P2861","v":0}]
[null,null,13,{"$f":"'COG-M'!P2862","v":0}]
[null,null,14,{"$f":"'COG-M'!P2863","v":0}]
[null,null,15,{"$f":"'COG-M'!P2864","v":0}]
[null,null,16,{"$f":"'COG-M'!P2865","v":0}]
[null,null,17,{"$f":"'COG-M'!P2866","v":0}]
[null,null,25,{"$f":"'COG-M'!P2867","v":0}]
[null,null,26,{"$f":"'COG-M'!P2868","v":0}]
[null,null,27,{"$f":"'COG-M'!P2869","v":0}]
[8300,"APORTACIONES",null,{"$f":"'COG-M'!P2870","v":0}]
[831,"Aportaciones de la Federación a las entidades federativas",null,{"$f":"'COG-M'!P2871","v":0}]
[832,"Aportaciones de la Federación a municipios",null,{"$f":"'COG-M'!P2872","v":0}]
[833,"Aportaciones de las entidades federativas a los municipios",null,{"$f":"'COG-M'!P2873","v":0}]
[834,"Aportaciones  previstas en leyes y decretos al sistema de protección social",null,{"$f":"'COG-M'!P2874","v":0}]
[835,"Aportaciones previstas en leyes y decretos compensatorias a entidades federativas y municipios",null,{"$f":"'COG-M'!P2875","v":0}]
[8500,"CONVENIOS",null,{"$f":"'COG-M'!P2876","v":0}]
[851,"Convenios de reasignación",11,{"$f":"'COG-M'!P2877","v":0}]
[null,null,12,{"$f":"'COG-M'!P2878","v":0}]
[null,null,13,{"$f":"'COG-M'!P2879","v":0}]
[null,null,14,{"$f":"'COG-M'!P2880","v":0}]
[null,null,15,{"$f":"'COG-M'!P2881","v":0}]
[null,null,16,{"$f":"'COG-M'!P2882","v":0}]
[null,null,17,{"$f":"'COG-M'!P2883","v":0}]
[null,null,25,{"$f":"'COG-M'!P2884","v":0}]
[null,null,26,{"$f":"'COG-M'!P2885","v":0}]
[null,null,27,{"$f":"'COG-M'!P2886","v":0}]
[852,"Convenios de descentralización",11,{"$f":"'COG-M'!P2887","v":0}]
[null,null,12,{"$f":"'COG-M'!P2888","v":0}]
[null,null,13,{"$f":"'COG-M'!P2889","v":0}]
[null,null,14,{"$f":"'COG-M'!P2890","v":0}]
[null,null,15,{"$f":"'COG-M'!P2891","v":0}]
[null,null,16,{"$f":"'COG-M'!P2892","v":0}]
[null,null,17,{"$f":"'COG-M'!P2893","v":0}]
[null,null,25,{"$f":"'COG-M'!P2894","v":0}]
[null,null,26,{"$f":"'COG-M'!P2895","v":0}]
[null,null,27,{"$f":"'COG-M'!P2896","v":0}]
[853,"Otros convenios",11,{"$f":"'COG-M'!P2897","v":0}]
[null,null,12,{"$f":"'COG-M'!P2898","v":0}]
[null,null,13,{"$f":"'COG-M'!P2899","v":0}]
[null,null,14,{"$f":"'COG-M'!P2900","v":0}]
[null,null,15,{"$f":"'COG-M'!P2901","v":0}]
[null,null,16,{"$f":"'COG-M'!P2902","v":0}]
[null,null,17,{"$f":"'COG-M'!P2903","v":0}]
[null,null,25,{"$f":"'COG-M'!P2904","v":0}]
[null,null,26,{"$f":"'COG-M'!P2905","v":0}]
[null,null,27,{"$f":"'COG-M'!P2906","v":0}]
[9000,"DEUDA  PÚBLICA",null,{"$f":"'COG-M'!P2907","v":0}]
[9100,"AMORTIZACIÓN DE LA DEUDA PÚBLICA ",null,{"$f":"'COG-M'!P2908","v":0}]
[911,"Amortización de la deuda interna con instituciones de crédito",11,{"$f":"'COG-M'!P2909","v":0}]
[null,null,12,{"$f":"'COG-M'!P2910","v":0}]
[null,null,13,{"$f":"'COG-M'!P2911","v":0}]
[null,null,14,{"$f":"'COG-M'!P2912","v":0}]
[null,null,15,{"$f":"'COG-M'!P2913","v":0}]
[null,null,16,{"$f":"'COG-M'!P2914","v":0}]
[null,null,17,{"$f":"'COG-M'!P2915","v":0}]
[null,null,25,{"$f":"'COG-M'!P2916","v":0}]
[null,null,26,{"$f":"'COG-M'!P2917","v":0}]
[null,null,27,{"$f":"'COG-M'!P2918","v":0}]
[912,"Amortización  de la deuda interna por emisión de títulos y valores",11,{"$f":"'COG-M'!P2919","v":0}]
[null,null,12,{"$f":"'COG-M'!P2920","v":0}]
[null,null,13,{"$f":"'COG-M'!P2921","v":0}]
[null,null,14,{"$f":"'COG-M'!P2922","v":0}]
[null,null,15,{"$f":"'COG-M'!P2923","v":0}]
[null,null,16,{"$f":"'COG-M'!P2924","v":0}]
[null,null,17,{"$f":"'COG-M'!P2925","v":0}]
[null,null,25,{"$f":"'COG-M'!P2926","v":0}]
[null,null,26,{"$f":"'COG-M'!P2927","v":0}]
[null,null,27,{"$f":"'COG-M'!P2928","v":0}]
[913,"Amortización de arrendamientos financieros nacionales",11,{"$f":"'COG-M'!P2929","v":0}]
[null,null,12,{"$f":"'COG-M'!P2930","v":0}]
[null,null,13,{"$f":"'COG-M'!P2931","v":0}]
[null,null,14,{"$f":"'COG-M'!P2932","v":0}]
[null,null,15,{"$f":"'COG-M'!P2933","v":0}]
[null,null,16,{"$f":"'COG-M'!P2934","v":0}]
[null,null,17,{"$f":"'COG-M'!P2935","v":0}]
[null,null,25,{"$f":"'COG-M'!P2936","v":0}]
[null,null,26,{"$f":"'COG-M'!P2937","v":0}]
[null,null,27,{"$f":"'COG-M'!P2938","v":0}]
[914,"Amortización de la deuda externa con instituciones de crédito ",null,{"$f":"'COG-M'!P2939","v":0}]
[915,"Amortización de deuda externa con organismos financieros internacionales",null,{"$f":"'COG-M'!P2940","v":0}]
[916,"Amortización de la deuda bilateral",null,{"$f":"'COG-M'!P2941","v":0}]
[917,"Amortización de la deuda externa por emisión de títulos y valores",null,{"$f":"'COG-M'!P2942","v":0}]
[918,"Amortización de arrendamientos financieros internacionales",null,{"$f":"'COG-M'!P2943","v":0}]
[9200,"INTERESES DE LA DEUDA PÚBLICA",null,{"$f":"'COG-M'!P2944","v":0}]
[921,"Intereses de la deuda interna con instituciones de crédito",11,{"$f":"'COG-M'!P2945","v":0}]
[null,null,12,{"$f":"'COG-M'!P2946","v":0}]
[null,null,13,{"$f":"'COG-M'!P2947","v":0}]
[null,null,14,{"$f":"'COG-M'!P2948","v":0}]
[null,null,15,{"$f":"'COG-M'!P2949","v":0}]
[null,null,16,{"$f":"'COG-M'!P2950","v":0}]
[null,null,17,{"$f":"'COG-M'!P2951","v":0}]
[null,null,25,{"$f":"'COG-M'!P2952","v":0}]
[null,null,26,{"$f":"'COG-M'!P2953","v":0}]
[null,null,27,{"$f":"'COG-M'!P2954","v":0}]
[922,"Intereses derivados de la colocación de títulos y valores",11,{"$f":"'COG-M'!P2955","v":0}]
[null,null,12,{"$f":"'COG-M'!P2956","v":0}]
[null,null,13,{"$f":"'COG-M'!P2957","v":0}]
[null,null,14,{"$f":"'COG-M'!P2958","v":0}]
[null,null,15,{"$f":"'COG-M'!P2959","v":0}]
[null,null,16,{"$f":"'COG-M'!P2960","v":0}]
[null,null,17,{"$f":"'COG-M'!P2961","v":0}]
[null,null,25,{"$f":"'COG-M'!P2962","v":0}]
[null,null,26,{"$f":"'COG-M'!P2963","v":0}]
[null,null,27,{"$f":"'COG-M'!P2964","v":0}]
[923,"Intereses por arrendamientos  financieros nacionales",11,{"$f":"'COG-M'!P2965","v":0}]
[null,null,12,{"$f":"'COG-M'!P2966","v":0}]
[null,null,13,{"$f":"'COG-M'!P2967","v":0}]
[null,null,14,{"$f":"'COG-M'!P2968","v":0}]
[null,null,15,{"$f":"'COG-M'!P2969","v":0}]
[null,null,16,{"$f":"'COG-M'!P2970","v":0}]
[null,null,17,{"$f":"'COG-M'!P2971","v":0}]
[null,null,25,{"$f":"'COG-M'!P2972","v":0}]
[null,null,26,{"$f":"'COG-M'!P2973","v":0}]
[null,null,27,{"$f":"'COG-M'!P2974","v":0}]
[924,"Intereses de la deuda externa con instituciones de crédito ",null,{"$f":"'COG-M'!P2975","v":0}]
[925,"Intereses de la deuda con organismos financieros internacionales",null,{"$f":"'COG-M'!P2976","v":0}]
[926,"Intereses de la deuda bilateral  ",null,{"$f":"'COG-M'!P2977","v":0}]
[927,"Intereses derivados de la colocación de títulos y valores en el exterior",null,{"$f":"'COG-M'!P2978","v":0}]
[928,"Intereses por arrendamientos financieros internacionales",null,{"$f":"'COG-M'!P2979","v":0}]
[9300,"COMISIONES DE LA DEUDA PÚBLICA",null,{"$f":"'COG-M'!P2980","v":0}]
[931,"Comisiones de la deuda pública interna",11,{"$f":"'COG-M'!P2981","v":0}]
[null,null,12,{"$f":"'COG-M'!P2982","v":0}]
[null,null,13,{"$f":"'COG-M'!P2983","v":0}]
[null,null,14,{"$f":"'COG-M'!P2984","v":0}]
[null,null,15,{"$f":"'COG-M'!P2985","v":0}]
[null,null,16,{"$f":"'COG-M'!P2986","v":0}]
[null,null,17,{"$f":"'COG-M'!P2987","v":0}]
[null,null,25,{"$f":"'COG-M'!P2988","v":0}]
[null,null,26,{"$f":"'COG-M'!P2989","v":0}]
[null,null,27,{"$f":"'COG-M'!P2990","v":0}]
[932,"Comisiones de la deuda pública externa",null,{"$f":"'COG-M'!P2991","v":0}]
[9400,"GASTOS DE LA DEUDA PÚBLICA",null,{"$f":"'COG-M'!P2992","v":0}]
[941,"Gastos de la deuda pública interna",11,{"$f":"'COG-M'!P2993","v":0}]
[null,null,12,{"$f":"'COG-M'!P2994","v":0}]
[null,null,13,{"$f":"'COG-M'!P2995","v":0}]
[null,null,14,{"$f":"'COG-M'!P2996","v":0}]
[null,null,15,{"$f":"'COG-M'!P2997","v":0}]
[null,null,16,{"$f":"'COG-M'!P2998","v":0}]
[null,null,17,{"$f":"'COG-M'!P2999","v":0}]
[null,null,25,{"$f":"'COG-M'!P3000","v":0}]
[null,null,26,{"$f":"'COG-M'!P3001","v":0}]
[null,null,27,{"$f":"'COG-M'!P3002","v":0}]
[942,"Gastos de la deuda  pública externa",null,{"$f":"'COG-M'!P3003","v":0}]
[9500,"COSTO POR COBERTURAS",null,{"$f":"'COG-M'!P3004","v":0}]
[951,"Costos por coberturas",11,{"$f":"'COG-M'!P3005","v":0}]
[null,null,12,{"$f":"'COG-M'!P3006","v":0}]
[null,null,13,{"$f":"'COG-M'!P3007","v":0}]
[null,null,14,{"$f":"'COG-M'!P3008","v":0}]
[null,null,15,{"$f":"'COG-M'!P3009","v":0}]
[null,null,16,{"$f":"'COG-M'!P3010","v":0}]
[null,null,17,{"$f":"'COG-M'!P3011","v":0}]
[null,null,25,{"$f":"'COG-M'!P3012","v":0}]
[null,null,26,{"$f":"'COG-M'!P3013","v":0}]
[null,null,27,{"$f":"'COG-M'!P3014","v":0}]
[9600,"APOYOS FINANCIEROS",null,{"$f":"'COG-M'!P3015","v":0}]
[961,"Apoyos a intermediarios financieros",null,{"$f":"'COG-M'!P3016","v":0}]
[962,"Apoyos a ahorradores y deudores del Sistema Financiero Nacional",null,{"$f":"'COG-M'!P3017","v":0}]
[9900,"ADEUDOS DE EJERCICIOS FISCALES ANTERIORES (ADEFAS)",null,{"$f":"'COG-M'!P3018","v":0}]
[991,"ADEFAS",11,{"$f":"'COG-M'!P3019","v":0}]
[null,null,12,{"$f":"'COG-M'!P3020","v":0}]
[null,null,13,{"$f":"'COG-M'!P3021","v":0}]
[null,null,14,{"$f":"'COG-M'!P3022","v":0}]
[null,null,15,{"$f":"'COG-M'!P3023","v":0}]
[null,null,16,{"$f":"'COG-M'!P3024","v":0}]
[null,null,17,{"$f":"'COG-M'!P3025","v":0}]
[null,null,25,{"$f":"'COG-M'!P3026","v":0}]
[null,null,26,{"$f":"'COG-M'!P3027","v":0}]
[null,null,27,{"$f":"'COG-M'!P3028","v":0}]
[null,"TOTAL DE EGRESOS",null,{"$f":"'COG-M'!P3029","v":{"v":107028495.6045696,"d":"107,028,496"}}]
[null,1,"GOBIERNO",{"$f":"CF!C3","v":{"v":107028496,"d":"107,028,496"}}]
[null,11,"LEGISLACIÓN",{"$f":"CF!C4","v":0}]
[null,111,"Legislación",{"$f":"CF!C5","v":0}]
[null,112,"Fiscalización",{"$f":"CF!C6","v":0}]
[null,12,"JUSTICIA",{"$f":"CF!C7","v":0}]
[null,121,"Impartición de justicia",{"$f":"CF!C8","v":0}]
[null,122,"Procuración de justicia",{"$f":"CF!C9","v":0}]
[null,123,"Reclusión y readaptación social",{"$f":"CF!C10","v":0}]
[null,124,"Derechos humanos",{"$f":"CF!C11","v":0}]
[null,13,"COORDINACIÓN DE LA POLÍTICA DE GOBIERNO",{"$f":"CF!C12","v":0}]
[null,131,"Presidencia/Gubernatura",{"$f":"CF!C13","v":0}]
[null,132,"Política interior",{"$f":"CF!C14","v":0}]
[null,133,"Preservación y cuidado del patrimonio público",{"$f":"CF!C15","v":0}]
[null,134,"Función pública",{"$f":"CF!C16","v":0}]
[null,135,"Asuntos jurídicos",{"$f":"CF!C17","v":0}]
[null,136,"Organización de procesos electorales",{"$f":"CF!C18","v":0}]
[null,137,"Población",{"$f":"CF!C19","v":0}]
[null,138,"Territorio",{"$f":"CF!C20","v":0}]
[null,139,"Otros",{"$f":"CF!C21","v":0}]
[null,14,"RELACIONES EXTERIORES",{"$f":"CF!C22","v":0}]
[null,141,"Relaciones exteriores",{"$f":"CF!C23","v":0}]
[null,15,"ASUNTOS FINANCIEROS Y HACENDARIOS",{"$f":"CF!C24","v":{"v":107028496,"d":"107,028,496"}}]
[null,151,"Asuntos financieros  ",{"$f":"CF!C25","v":0}]
[null,152,"Asuntos hacendarios",{"$f":"CF!C26","v":{"v":107028496,"d":"107,028,496"}}]
[null,16,"SEGURIDAD NACIONAL",{"$f":"CF!C27","v":0}]
[null,161,"Defensa",{"$f":"CF!C28","v":0}]
[null,162,"Marina",{"$f":"CF!C29","v":0}]
[null,163,"Inteligencia para la preservación de la seguridad nacional",{"$f":"CF!C30","v":0}]
[null,17,"ASUNTOS DE ORDEN PÚBLICO Y DE SEGURIDAD INTERIOR",{"$f":"CF!C31","v":0}]
[null,171,"Policía",{"$f":"CF!C32","v":0}]
[null,172,"Protección civil",{"$f":"CF!C33","v":0}]
[null,173,"Otros asuntos de orden público y seguridad",{"$f":"CF!C34","v":0}]
[null,174,"Sistema nacional de seguridad pública",{"$f":"CF!C35","v":0}]
[null,18,"OTROS SERVICIOS GENERALES",{"$f":"CF!C36","v":0}]
[null,181,"Servicios registrales, administrativos y patrimoniales",{"$f":"CF!C37","v":0}]
[null,182,"Servicios estadísticos",{"$f":"CF!C38","v":0}]
[null,183,"Servicios de comunicación y medios",{"$f":"CF!C39","v":0}]
[null,184,"Acceso a la información pública gubernamental",{"$f":"CF!C40","v":0}]
[null,185,"Otros",{"$f":"CF!C41","v":0}]
[null,2,"DESARROLLO SOCIAL",{"$f":"CF!C42","v":0}]
[null,21,"PROTECCIÓN AMBIENTAL",{"$f":"CF!C43","v":0}]
[null,211,"Ordenación de desechos",{"$f":"CF!C44","v":0}]
[null,212,"Administración del agua",{"$f":"CF!C45","v":0}]
[null,213,"Ordenación de aguas residuales, drenaje y alcantarillado",{"$f":"CF!C46","v":0}]
[null,214,"Reducción de la contaminación",{"$f":"CF!C47","v":0}]
[null,215,"Protección de la diversidad biológica y del paisaje",{"$f":"CF!C48","v":0}]
[null,216,"Otros de protección ambiental",{"$f":"CF!C49","v":0}]
[null,22,"VIVIENDA Y SERVICIOS A LA COMUNIDAD",{"$f":"CF!C50","v":0}]
[null,221,"Urbanización",{"$f":"CF!C51","v":0}]
[null,222,"Desarrollo comunitario",{"$f":"CF!C52","v":0}]
[null,223,"Abastecimiento de agua",{"$f":"CF!C53","v":0}]
[null,224,"Alumbrado público",{"$f":"CF!C54","v":0}]
[null,225,"Vivienda",{"$f":"CF!C55","v":0}]
[null,226,"Servicios comunales",{"$f":"CF!C56","v":0}]
[null,227,"Desarrollo regional",{"$f":"CF!C57","v":0}]
[null,23,"SALUD",{"$f":"CF!C58","v":0}]
[null,231,"Prestación de servicios de salud a la comunidad",{"$f":"CF!C59","v":0}]
[null,232,"Prestación de servicios de salud a la persona",{"$f":"CF!C60","v":0}]
[null,233,"Generación de recursos para la salud",{"$f":"CF!C61","v":0}]
[null,234,"Rectoría del sistema de salud",{"$f":"CF!C62","v":0}]
[null,235,"Protección social en salud",{"$f":"CF!C63","v":0}]
[null,24,"RECREACIÓN, CULTURA Y OTRAS MANIFESTACIONES SOCIALES",{"$f":"CF!C64","v":0}]
[null,241,"Deporte y recreación",{"$f":"CF!C65","v":0}]
[null,242,"Cultura",{"$f":"CF!C66","v":0}]
[null,243,"Radio, televisión y editoriales",{"$f":"CF!C67","v":0}]
[null,244,"Asuntos religiosos y otras manifestaciones sociales",{"$f":"CF!C68","v":0}]
[null,25,"EDUCACIÓN",{"$f":"CF!C69","v":0}]
[null,251,"Educación básica",{"$f":"CF!C70","v":0}]
[null,252,"Educación media superior",{"$f":"CF!C71","v":0}]
[null,253,"Educación superior",{"$f":"CF!C72","v":0}]
[null,254,"Posgrado",{"$f":"CF!C73","v":0}]
[null,255,"Educación para adultos",{"$f":"CF!C74","v":0}]
[null,256,"Otros servicios educativos y actividades inherentes",{"$f":"CF!C75","v":0}]
[null,26,"PROTECCIÓN SOCIAL  ",{"$f":"CF!C76","v":0}]
[null,261,"Enfermedades e incapacidad",{"$f":"CF!C77","v":0}]
[null,262,"Edad avanzada",{"$f":"CF!C78","v":0}]
[null,263,"Familia e hijos",{"$f":"CF!C79","v":0}]
[null,264,"Desempleo",{"$f":"CF!C80","v":0}]
[null,265,"Alimentación y nutrición",{"$f":"CF!C81","v":0}]
[null,266,"Apoyo social para la vivienda",{"$f":"CF!C82","v":0}]
[null,267,"Indígenas",{"$f":"CF!C83","v":0}]
[null,268,"Otros grupos vulnerables",{"$f":"CF!C84","v":0}]
[null,269,"Otros de seguridad social y asistencia social",{"$f":"CF!C85","v":0}]
[null,27,"OTROS ASUNTOS SOCIALES",{"$f":"CF!C86","v":0}]
[null,271,"Otros asuntos sociales",{"$f":"CF!C87","v":0}]
[null,3,"DESARROLLO ECONÓMICO",{"$f":"CF!C88","v":0}]
[null,31,"ASUNTOS ECONÓMICOS, COMERCIALES Y LABORALES EN GENERAL",{"$f":"CF!C89","v":0}]
[null,311,"Asuntos económicos y comerciales en general",{"$f":"CF!C90","v":0}]
[null,312,"Asuntos laborales generales",{"$f":"CF!C91","v":0}]
[null,32,"AGROPECUARÍA, SILVICULTURA, PESCA Y CAZA",{"$f":"CF!C92","v":0}]
[null,321,"Agropecuaria",{"$f":"CF!C93","v":0}]
[null,322,"Silvicultura",{"$f":"CF!C94","v":0}]
[null,323,"Acuacultura, pesca y caza",{"$f":"CF!C95","v":0}]
[null,324,"Agroindustrial",{"$f":"CF!C96","v":0}]
[null,325,"Hidroagrícola",{"$f":"CF!C97","v":0}]
[null,326,"Apoyo financiero a la banca y seguro agropecuario",{"$f":"CF!C98","v":0}]
[null,33,"COMBUSTIBLE Y ENERGÍA",{"$f":"CF!C99","v":0}]
[null,331,"Carbón y otros combustibles minerales sólidos",{"$f":"CF!C100","v":0}]
[null,332,"Petróleo y gas natural (hidrocarburos)",{"$f":"CF!C101","v":0}]
[null,333,"Combustibles Nucleares",{"$f":"CF!C102","v":0}]
[null,334,"Otros combustibles",{"$f":"CF!C103","v":0}]
[null,335,"Electricidad",{"$f":"CF!C104","v":0}]
[null,336,"Energía no Eléctrica",{"$f":"CF!C105","v":0}]
[null,34,"MINERÍA, MANUFACTURAS Y CONSTRUCCIÓN",{"$f":"CF!C106","v":0}]
[null,341,"Extracción de recursos minerales excepto los combustibles minerales",{"$f":"CF!C107","v":0}]
[null,342,"Manufacturas",{"$f":"CF!C108","v":0}]
[null,343,"Construcción",{"$f":"CF!C109","v":0}]
[null,35,"TRANSPORTE",{"$f":"CF!C110","v":0}]
[null,351,"Transporte por carretera",{"$f":"CF!C111","v":0}]
[null,352,"Transporte por agua y puertos",{"$f":"CF!C112","v":0}]
[null,353,"Transporte por ferrocarril",{"$f":"CF!C113","v":0}]
[null,354,"Transporte aéreo",{"$f":"CF!C114","v":0}]
[null,355,"Transporte por oleoductos y gasoductos y otros sistemas de transporte",{"$f":"CF!C115","v":0}]
[null,356,"Otros relacionados con transporte",{"$f":"CF!C116","v":0}]
[null,36,"COMUNICACIONES",{"$f":"CF!C117","v":0}]
[null,361,"Comunicaciones",{"$f":"CF!C118","v":0}]
[null,37,"TURISMO",{"$f":"CF!C119","v":0}]
[null,371,"Turismo",{"$f":"CF!C120","v":0}]
[null,372,"Hoteles y restaurantes",{"$f":"CF!C121","v":0}]
[null,38,"CIENCIA, TECNOLOGÍA E INNOVACIÓN",{"$f":"CF!C122","v":0}]
[null,381,"Investigación científica",{"$f":"CF!C123","v":0}]
[null,382,"Desarrollo tecnológico",{"$f":"CF!C124","v":0}]
[null,383,"Servicios científicos y tecnológicos",{"$f":"CF!C125","v":0}]
[null,384,"Innovación",{"$f":"CF!C126","v":0}]
[null,39,"OTRAS INDUSTRIAS Y OTROS ASUNTOS ECONÓMICOS",{"$f":"CF!C127","v":0}]
[null,391,"Comercio, distribución, almacenamiento y depósito",{"$f":"CF!C128","v":0}]
[null,392,"Otras industrias  ",{"$f":"CF!C129","v":0}]
[null,393,"Otros asuntos económicos",{"$f":"CF!C130","v":0}]
[null,4,"OTRAS NO CLASIFICADAS EN FUNCIONES ANTERIORES",{"$f":"CF!C131","v":0}]
[null,41,"TRANSACCIONES DE LA DEUDA PÚBLICA/COSTO FINANCIERO DE LA DEUDA",{"$f":"CF!C132","v":0}]
[null,411,"Deuda pública interna",{"$f":"CF!C133","v":0}]
[null,412,"Deuda pública externa",{"$f":"CF!C134","v":0}]
[null,42,"TRANSFERENCIAS, PARTICIPACIONES Y APORTACIONES ENTRE DIFERENTES NIVELES Y ORDENES DE GOBIERNO",{"$f":"CF!C135","v":0}]
[null,421,"Transferencia entre diferentes niveles y ordenes de gobierno",{"$f":"CF!C136","v":0}]
[null,422,"Participaciones entre diferentes niveles y ordenes de gobierno",{"$f":"CF!C137","v":0}]
[null,423,"Aportaciones entre diferentes niveles y ordenes de gobierno",{"$f":"CF!C138","v":0}]
[null,43,"SANEAMIENTO DEL SISTEMA FINANCIERO",{"$f":"CF!C139","v":0}]
[null,431,"Saneamiento del sistema financiero",{"$f":"CF!C140","v":0}]
[null,432,"Apoyos IPAB",{"$f":"CF!C141","v":0}]
[null,433,"Banca de desarrollo",{"$f":"CF!C142","v":0}]
[null,434,"Apoyo a los programas de reestructura en unidades de inversión (UDIS)",{"$f":"CF!C143","v":0}]
[null,44,"ADEUDOS DE EJERCICIOS FISCALES ANTERIORES  ",{"$f":"CF!C144","v":0}]
[null,441,"adeudos de ejercicios fiscales anteriores",{"$f":"CF!C145","v":0}]
[null,null,"TOTAL DE EGRESOS",{"$f":"CF!C146","v":{"v":107028496,"d":"107,028,496"}}]
[{"$f":"CA!A3","v":"3.0.0.0.0."},{"$f":"CA!B3","v":0},{"$f":"CA!C3","v":"SECTOR PÚBLICO MUNICIPAL"},{"$f":"CA!D3","v":0}]
[{"$f":"CA!A4","v":"3.1.1.0.0."},{"$f":"CA!B4","v":0},{"$f":"CA!C4","v":"GOBIERNO GENERAL MUNICIPAL"},{"$f":"CA!D4","v":0}]
[{"$f":"CA!A5","v":"3.1.1.1.0."},{"$f":"CA!B5","v":0},{"$f":"CA!C5","v":"Gobierno Municipal"},{"$f":"CA!D5","v":0}]
[{"$f":"CA!A6","v":"3.1.1.1.0."},{"$f":"CA!B6","v":1},{"$f":"CA!C6","v":"Presidencia"},{"$f":"CA!D6","v":69237144}]
[{"$f":"CA!A7","v":"3.1.1.1.0."},{"$f":"CA!B7","v":2},{"$f":"CA!C7","v":"Obras Públicas"},{"$f":"CA!D7","v":37399182}]
[{"$f":"CA!A8","v":"3.1.1.1.0."},{"$f":"CA!B8","v":3},{"$f":"CA!C8","v":"Planeación y Participación Ciudadana"},{"$f":"CA!D8","v":392170}]
[{"$f":"CA!A9","v":0},{"$f":"CA!B9","v":0},{"$f":"CA!C9","v":0},{"$f":"CA!D9","v":0}]
[{"$f":"CA!A10","v":0},{"$f":"CA!B10","v":0},{"$f":"CA!C10","v":0},{"$f":"CA!D10","v":0}]
[{"$f":"CA!A11","v":0},{"$f":"CA!B11","v":0},{"$f":"CA!C11","v":0},{"$f":"CA!D11","v":0}]
[{"$f":"CA!A12","v":0},{"$f":"CA!B12","v":0},{"$f":"CA!C12","v":0},{"$f":"CA!D12","v":0}]
[{"$f":"CA!A13","v":0},{"$f":"CA!B13","v":0},{"$f":"CA!C13","v":0},{"$f":"CA!D13","v":0}]
[{"$f":"CA!A14","v":0},{"$f":"CA!B14","v":0},{"$f":"CA!C14","v":0},{"$f":"CA!D14","v":0}]
[{"$f":"CA!A15","v":0},{"$f":"CA!B15","v":0},{"$f":"CA!C15","v":0},{"$f":"CA!D15","v":0}]
[{"$f":"CA!A16","v":0},{"$f":"CA!B16","v":0},{"$f":"CA!C16","v":0},{"$f":"CA!D16","v":0}]
[{"$f":"CA!A17","v":0},{"$f":"CA!B17","v":0},{"$f":"CA!C17","v":0},{"$f":"CA!D17","v":0}]
[{"$f":"CA!A18","v":0},{"$f":"CA!B18","v":0},{"$f":"CA!C18","v":0},{"$f":"CA!D18","v":0}]
[{"$f":"CA!A19","v":0},{"$f":"CA!B19","v":0},{"$f":"CA!C19","v":0},{"$f":"CA!D19","v":0}]
[{"$f":"CA!A20","v":0},{"$f":"CA!B20","v":0},{"$f":"CA!C20","v":0},{"$f":"CA!D20","v":0}]
[{"$f":"CA!A21","v":0},{"$f":"CA!B21","v":0},{"$f":"CA!C21","v":0},{"$f":"CA!D21","v":0}]
[{"$f":"CA!A22","v":0},{"$f":"CA!B22","v":0},{"$f":"CA!C22","v":0},{"$f":"CA!D22","v":0}]
[{"$f":"CA!A23","v":0},{"$f":"CA!B23","v":0},{"$f":"CA!C23","v":0},{"$f":"CA!D23","v":0}]
[{"$f":"CA!A24","v":0},{"$f":"CA!B24","v":0},{"$f":"CA!C24","v":0},{"$f":"CA!D24","v":0}]
[{"$f":"CA!A25","v":0},{"$f":"CA!B25","v":0},{"$f":"CA!C25","v":0},{"$f":"CA!D25","v":0}]
[{"$f":"CA!A26","v":0},{"$f":"CA!B26","v":0},{"$f":"CA!C26","v":0},{"$f":"CA!D26","v":0}]
[{"$f":"CA!A27","v":0},{"$f":"CA!B27","v":0},{"$f":"CA!C27","v":0},{"$f":"CA!D27","v":0}]
[{"$f":"CA!A28","v":0},{"$f":"CA!B28","v":0},{"$f":"CA!C28","v":0},{"$f":"CA!D28","v":0}]
[{"$f":"CA!A29","v":0},{"$f":"CA!B29","v":0},{"$f":"CA!C29","v":0},{"$f":"CA!D29","v":0}]
[{"$f":"CA!A30","v":0},{"$f":"CA!B30","v":0},{"$f":"CA!C30","v":0},{"$f":"CA!D30","v":0}]
[{"$f":"CA!A31","v":0},{"$f":"CA!B31","v":0},{"$f":"CA!C31","v":0},{"$f":"CA!D31","v":0}]
[{"$f":"CA!A32","v":0},{"$f":"CA!B32","v":0},{"$f":"CA!C32","v":0},{"$f":"CA!D32","v":0}]
[{"$f":"CA!A33","v":0},{"$f":"CA!B33","v":0},{"$f":"CA!C33","v":0},{"$f":"CA!D33","v":0}]
[{"$f":"CA!A34","v":0},{"$f":"CA!B34","v":0},{"$f":"CA!C34","v":0},{"$f":"CA!D34","v":0}]
[{"$f":"CA!A35","v":0},{"$f":"CA!B35","v":0},{"$f":"CA!C35","v":0},{"$f":"CA!D35","v":0}]
[{"$f":"CA!A36","v":0},{"$f":"CA!B36","v":0},{"$f":"CA!C36","v":0},{"$f":"CA!D36","v":0}]
[{"$f":"CA!A37","v":0},{"$f":"CA!B37","v":0},{"$f":"CA!C37","v":0},{"$f":"CA!D37","v":0}]
[{"$f":"CA!A38","v":0},{"$f":"CA!B38","v":0},{"$f":"CA!C38","v":0},{"$f":"CA!D38","v":0}]
[{"$f":"CA!A39","v":0},{"$f":"CA!B39","v":0},{"$f":"CA!C39","v":0},{"$f":"CA!D39","v":0}]
[{"$f":"CA!A40","v":0},{"$f":"CA!B40","v":0},{"$f":"CA!C40","v":0},{"$f":"CA!D40","v":0}]
[{"$f":"CA!A41","v":0},{"$f":"CA!B41","v":0},{"$f":"CA!C41","v":0},{"$f":"CA!D41","v":0}]
[{"$f":"CA!A42","v":0},{"$f":"CA!B42","v":0},{"$f":"CA!C42","v":0},{"$f":"CA!D42","v":0}]
[{"$f":"CA!A43","v":0},{"$f":"CA!B43","v":0},{"$f":"CA!C43","v":0},{"$f":"CA!D43","v":0}]
[{"$f":"CA!A44","v":0},{"$f":"CA!B44","v":0},{"$f":"CA!C44","v":0},{"$f":"CA!D44","v":0}]
[{"$f":"CA!A45","v":0},{"$f":"CA!B45","v":0},{"$f":"CA!C45","v":0},{"$f":"CA!D45","v":0}]
[{"$f":"CA!A46","v":0},{"$f":"CA!B46","v":0},{"$f":"CA!C46","v":0},{"$f":"CA!D46","v":0}]
[{"$f":"CA!A47","v":0},{"$f":"CA!B47","v":0},{"$f":"CA!C47","v":0},{"$f":"CA!D47","v":0}]
[{"$f":"CA!A48","v":0},{"$f":"CA!B48","v":0},{"$f":"CA!C48","v":0},{"$f":"CA!D48","v":0}]
[{"$f":"CA!A49","v":0},{"$f":"CA!B49","v":0},{"$f":"CA!C49","v":0},{"$f":"CA!D49","v":0}]
[{"$f":"CA!A50","v":0},{"$f":"CA!B50","v":0},{"$f":"CA!C50","v":0},{"$f":"CA!D50","v":0}]
[{"$f":"CA!A51","v":0},{"$f":"CA!B51","v":0},{"$f":"CA!C51","v":0},{"$f":"CA!D51","v":0}]
[{"$f":"CA!A52","v":0},{"$f":"CA!B52","v":0},{"$f":"CA!C52","v":0},{"$f":"CA!D52","v":0}]
[{"$f":"CA!A53","v":0},{"$f":"CA!B53","v":0},{"$f":"CA!C53","v":0},{"$f":"CA!D53","v":0}]
[{"$f":"CA!A54","v":0},{"$f":"CA!B54","v":0},{"$f":"CA!C54","v":0},{"$f":"CA!D54","v":0}]
[{"$f":"CA!A55","v":0},{"$f":"CA!B55","v":0},{"$f":"CA!C55","v":0},{"$f":"CA!D55","v":0}]
[{"$f":"CA!A56","v":0},{"$f":"CA!B56","v":0},{"$f":"CA!C56","v":0},{"$f":"CA!D56","v":0}]
[{"$f":"CA!A57","v":0},{"$f":"CA!B57","v":0},{"$f":"CA!C57","v":0},{"$f":"CA!D57","v":0}]
[{"$f":"CA!A58","v":0},{"$f":"CA!B58","v":0},{"$f":"CA!C58","v":0},{"$f":"CA!D58","v":0}]
[{"$f":"CA!A59","v":0},{"$f":"CA!B59","v":0},{"$f":"CA!C59","v":0},{"$f":"CA!D59","v":0}]
[{"$f":"CA!A60","v":0},{"$f":"CA!B60","v":0},{"$f":"CA!C60","v":0},{"$f":"CA!D60","v":0}]
[{"$f":"CA!A61","v":0},{"$f":"CA!B61","v":0},{"$f":"CA!C61","v":0},{"$f":"CA!D61","v":0}]
[{"$f":"CA!A62","v":0},{"$f":"CA!B62","v":0},{"$f":"CA!C62","v":0},{"$f":"CA!D62","v":0}]
[{"$f":"CA!A63","v":0},{"$f":"CA!B63","v":0},{"$f":"CA!C63","v":0},{"$f":"CA!D63","v":0}]
[{"$f":"CA!A64","v":0},{"$f":"CA!B64","v":0},{"$f":"CA!C64","v":0},{"$f":"CA!D64","v":0}]
[{"$f":"CA!A65","v":0},{"$f":"CA!B65","v":0},{"$f":"CA!C65","v":0},{"$f":"CA!D65","v":0}]
[{"$f":"CA!A66","v":0},{"$f":"CA!B66","v":0},{"$f":"CA!C66","v":0},{"$f":"CA!D66","v":0}]
[{"$f":"CA!A67","v":0},{"$f":"CA!B67","v":0},{"$f":"CA!C67","v":0},{"$f":"CA!D67","v":0}]
[{"$f":"CA!A68","v":0},{"$f":"CA!B68","v":0},{"$f":"CA!C68","v":0},{"$f":"CA!D68","v":0}]
[{"$f":"CA!A69","v":0},{"$f":"CA!B69","v":0},{"$f":"CA!C69","v":0},{"$f":"CA!D69","v":0}]
[{"$f":"CA!A70","v":0},{"$f":"CA!B70","v":0},{"$f":"CA!C70","v":0},{"$f":"CA!D70","v":0}]
[{"$f":"CA!A71","v":0},{"$f":"CA!B71","v":0},{"$f":"CA!C71","v":0},{"$f":"CA!D71","v":0}]
[{"$f":"CA!A72","v":0},{"$f":"CA!B72","v":0},{"$f":"CA!C72","v":0},{"$f":"CA!D72","v":0}]
[{"$f":"CA!A73","v":0},{"$f":"CA!B73","v":0},{"$f":"CA!C73","v":0},{"$f":"CA!D73","v":0}]
[{"$f":"CA!A74","v":0},{"$f":"CA!B74","v":0},{"$f":"CA!C74","v":0},{"$f":"CA!D74","v":0}]
[{"$f":"CA!A75","v":0},{"$f":"CA!B75","v":0},{"$f":"CA!C75","v":0},{"$f":"CA!D75","v":0}]
[null,null,{"$f":"CA!C76","v":"SUMA"},{"$f":"CA!D76","v":107028496}]

{"sheet":"FU","index":1,"n_rows":474,"n_cols":38,"rows_kept":474,"hidden":true,"merged":[[2,10,2,29],[3,10,3,29],[5,1,5,38],[6,1,6,10],[6,11,6,21],[6,22,6,38],[7,1,7,3],[7,4,7,10],[7,11,7,18],[7,19,7,23],[7,24,7,28],[7,29,7,30],[7,31,7,36],[7,37,7,38],[8,1,8,3],[8,4,8,10],[8,11,8,18],[8,19,8,23],[8,24,8,28],[8,29,8,30],[8,31,8,36],[8,37,8,38],[9,1,9,25],[9,26,9,38],[10,1,10,25],[10,26,10,38],[12,1,12,9],[12,10,12,38],[13,1,15,9],[13,10,15,38],[16,1,16,15],[16,16,16,19],[16,20,16,34],[16,35,16,38],[17,16,17,19],[17,33,17,34],[17,35,17,38],[18,1,18,18],[18,19,18,24],[18,25,18,26],[18,27,18,32],[18,33,18,34],[18,35,18,36],[18,37,18,38],[20,1,20,38],[21,1,22,17],[21,18,21,24],[21,25,21,31],[21,32,21,38],[22,18,22,24],[22,25,22,31],[22,32,22,38],[23,1,23,6],[23,7,23,11],[23,12,23,17],[23,18,23,24],[23,25,23,31],[23,32,23,38],[24,1,24,6],[24,7,24,11],[24,12,24,17],[24,18,24,24],[24,25,24,31],[24,32,24,38],[25,1,25,38],[26,1,26,38],[39,1,39,38],[40,33,40,38],[41,33,41,38],[42,33,42,38],[43,33,43,38],[44,33,44,38],[45,33,45,38],[46,33,46,38],[47,33,47,38],[48,33,48,38],[49,33,49,38],[50,33,50,38],[51,1,51,38],[52,33,52,38],[53,33,53,38],[54,33,54,38],[55,33,55,38],[56,33,56,38],[57,33,57,38],[58,33,58,38],[59,33,59,38],[60,33,60,38],[61,33,61,38],[63,1,63,38],[64,1,64,38],[65,1,65,38],[66,1,66,38],[67,1,67,38],[68,1,68,38],[69,1,69,38],[70,1,70,38],[71,1,71,38],[72,1,72,38],[73,1,73,38],[74,1,74,38],[75,1,75,38],[76,1,76,38],[77,1,77,38],[78,1,78,38],[79,1,79,38],[80,1,80,38],[81,1,81,38],[83,18,83,36],[85,1,85,14],[85,25,85,38],[86,1,86,14],[86,25,86,38],[87,1,87,14],[87,25,87,38]]}
[]
[]
[{"$nulls":10},"VERIFICACIÓN Y ANÁLISIS DE DOCUMENTACIÓN"]
[{"$nulls":10},"Dirección de Profesionalización y Seguimiento"]
[]
[null,"INFORMACIÓN DE RECEPCIÓN"]
[null,"DATOS OFICIALÍA DE PARTES",{"$nulls":9},"OFICIO DE REMISIÓN",{"$nulls":10},"INFORMACIÓN QUE SE ACOMPAÑA"]
[null,"No.",null,null,"Fecha de recepción",{"$nulls":6},"No. de oficio",{"$nulls":7},"Fecha del oficio",{"$nulls":4},"Documentación",{"$nulls":4},"No.",null,"Medio electrónico",{"$nulls":5},"No."]
[]
[null,"Nombre del remitente",{"$nulls":24},"Cargo"]
[]
[null,{"$f":"LOOKUP(K14,M111:M472,N111:N472)","v":"Sur"},{"$f":"LOOKUP(K14,M111:M472,O111:O472)","v":9545}]
[null,"CÓDIGO DEL ENTE",{"$nulls":8},"NOMBRE DEL ENTE PÚBLICO"]
[null,{"$f":"LOOKUP(K14,M111:M474,L111:L474)","v":704900},{"$nulls":8},{"$f":"Inconsistencias!B6","v":"Jilotlán de los Dolores"}]
[]
[]
[null,"OBLIGACIÓN O DOCUMENTACIÓN REMITIDA",{"$nulls":14},"EJERCICIO",{"$nulls":3},"OBLIGACIÓN O DOCUMENTACIÓN REMITIDA",{"$nulls":14},"EJERCICIO"]
[null,null,"Presupuesto de egresos",{"$nulls":18},"Modificación al presupuesto de egresos",{"$nulls":10},"No."]
[null,"DOCUMENTACIÓN REMITIDA CORRESPONDE A UNA:",{"$nulls":17},"Normal",{"$nulls":7},"Complementaria",{"$nulls":7},"No."]
[]
[null,"INFORMACIÓN DE LA APROBACIÓN AL PRESUPUESTO DE EGRESOS Y SUS MODIFICACIONES"]
[null,"ACTA DE APROBACIÓN",{"$nulls":16},"PRESUPUESTO",{"$nulls":6},"SEGÚN ACTA",{"$nulls":6},"SEGÚN FORMATO"]
[{"$nulls":18},"Aprobado"]
[null,"Acta Número",{"$nulls":5},"Fecha Acuerdo",{"$nulls":4},"Acuerdo Número",{"$nulls":5},"Modificado"]
[{"$nulls":18},"Vigente",{"$nulls":6},{"$f":"SUM(Z23:AF24)","v":0},{"$nulls":6},{"$f":"SUM(AG23:AM24)","v":0}]
[null,"VERIFICACIÓN DE CUMPLIMIENTO"]
[null,"PRESUPUESTO DE EGRESOS Y SUS MODIFICACIONES"]
[null,{"$f":"Inconsistencias!B17","v":"X"},"Resultado y proyección de ingresos - LDF"]
[null,{"$f":"Inconsistencias!B18","v":"X"},"Estimación de ingresos (Clasificación por rubro de ingresos de libre disposición y etiquetados)"]
[null,{"$f":"Inconsistencias!B19","v":"X"},"Resultado y proyección de egresos - LDF"]
[null,{"$f":"Inconsistencias!B20","v":"X"},"Presupuesto de egresos (Clasificador por objeto del gasto y fuente de financiamiento)"]
[null,{"$f":"Inconsistencias!B21","v":"X"},"Presupuesto de egresos (Clasificador por tipo de gasto, fuente de financiamiento y objeto del gasto)"]
[null,{"$f":"Inconsistencias!B22","v":"X"},"Presupuesto de egresos (Clasificación funcional del gasto)"]
[null,{"$f":"Inconsistencias!B23","v":"X"},"Presupuesto de egresos (Clasificación administrativa)"]
[null,{"$f":"Inconsistencias!B24","v":""},"Informe sobre estudios actuariales - LDF"]
[null,{"$f":"Inconsistencias!B25","v":"X"},"Plantilla de personal de carácter permanente"]
[null,null,"Ficha informe para la evaluación del desempeño"]
[null,null,"Matriz de inficadores para resultados por programa"]
[null,null,"Informe de programas sin matriz de indicadores"]
[null,"I N G R E S O S"]
[null,null,"Impuestos",{"$nulls":30},{"$f":"'CRI-DE'!F2","v":{"v":2164488,"d":"2,164,488"}}]
[null,null,"Cuotas y aportaciones de seguridad social",{"$nulls":30},{"$f":"'CRI-DE'!F21","v":0}]
[null,null,"Contribuciones de mejoras",{"$nulls":30},{"$f":"'CRI-DE'!F27","v":0}]
[null,null,"Derechos",{"$nulls":30},{"$f":"'CRI-DE'!F30","v":{"v":2166732,"d":"2,166,732"}}]
[null,null,"Productos",{"$nulls":30},{"$f":"'CRI-DE'!F60","v":{"v":631956,"d":"631,956"}}]
[null,null,"Aprovechamientos",{"$nulls":30},{"$f":"'CRI-DE'!F65","v":{"v":86436,"d":"86,436"}}]
[null,null,"Ingresos por venta de bienes, prestación de servicios y otros ingresos",{"$nulls":30},{"$f":"'CRI-DE'!F79","v":{"v":2496,"d":"2,496"}}]
[null,null,"Participaciones, aportaciones, convenios, incentivos derivados de la colaboración fiscal y fondos distintos de las aportaciones",{"$nulls":30},{"$f":"'CRI-DE'!F93","v":{"v":101976388,"d":"101,976,388"}}]
[null,null,"Transferencias, asignaciones, subsidios y subvenciones y pensiones y jubilaciones",{"$nulls":30},{"$f":"'CRI-DE'!F124","v":0}]
[null,null,"Ingresos derivados de financiamiento",{"$nulls":30},{"$f":"'CRI-DE'!F136","v":0}]
[{"$nulls":32},"ESTIMACIÓN DE INGRESOS",{"$f":"SUM(AH41:AM50)","v":{"v":107028496,"d":"107,028,496"}}]
[null,"E G R E S O S"]
[null,null,"Servicios personales",{"$nulls":30},{"$f":"'COG-RYP'!E3","v":{"v":24871539.6045696,"d":"24,871,540"}}]
[null,null,"Materiales y suministros",{"$nulls":30},{"$f":"'COG-RYP'!E4","v":{"v":21524220,"d":"21,524,220"}}]
[null,null,"Servicios generales",{"$nulls":30},{"$f":"'COG-RYP'!E5","v":{"v":28688652,"d":"28,688,652"}}]
[null,null,"Transferencias, asignaciones, subsidios y otras ayudas",{"$nulls":30},{"$f":"'COG-RYP'!E6","v":{"v":8791056,"d":"8,791,056"}}]
[null,null,"Bienes muebles, inmuebles e intangibles",{"$nulls":30},{"$f":"'COG-RYP'!E7","v":{"v":2052348,"d":"2,052,348"}}]
[null,null,"Inversión pública",{"$nulls":30},{"$f":"'COG-RYP'!E8","v":{"v":17815452,"d":"17,815,452"}}]
[null,null,"Inversiones financieras y otras provisiones",{"$nulls":30},{"$f":"'COG-RYP'!E9","v":0}]
[null,null,"Participaciones y aportaciones",{"$nulls":30},{"$f":"'COG-RYP'!E10","v":0}]
[null,null,"Deuda pública",{"$nulls":30},{"$f":"'COG-RYP'!E11","v":0}]
[{"$nulls":32},"PRESUPUESTO DE EGRESOS",{"$f":"SUM(AH53:AM61)","v":{"v":103743267.6045696,"d":"103,743,268"}}]
[]
[null,"INCONSISTENCIAS"]
[null,"Inconsistencia"]
[null,{"$f":"\"• \"&L93","v":"• "}]
[null,"• No se envía el acta de aprobación al presupuesto."]
[null,"• "]
[null,"• "]
[null,"• "]
[null,"• "]
[null,"• Se observa diferencia entre la estimación de ingresos fiscales (11) y los egresos pagaderos con dicha fuente de financiamiento."]
[null,"• "]
[null,"• Se observa diferencia entre la estimación de ingresos propios (14) y los egresos pagaderos con dicha fuente de financiamiento."]
[null,"• Se observa diferencia entre la estimación de ingresos de recursos federales de libre disposición (15) y los egresos pagaderos con dicha fuente de financiamiento."]
[null,"• Se observa diferencia entre la estimación de ingresos de recursos estatales de libre disposición (16) y los egresos pagaderos con dicha fuente de financiamiento."]
[null,"• "]
[null,"• Se observa diferencia entre la estimación de ingresos de recursos federales etiquetados (25) y los egresos pagaderos con dicha fuente de financiamiento."]
[null,"• "]
[null,"• "]
[null,"• "]
[null,"• "]
[]
[{"$nulls":17},"Guadalajara, Jalisco; a"]
[]
[]
[null,"ELABORÓ",{"$nulls":23},"REVISÓ"]
[]
[]
[]
[]
[]
[{"$nulls":11},{"$f":"IF(L94=\"No se envía el acta de aprobación al presupuesto.\",\"\",IF(AF9>0,\"\",\"No adjunta la información del presupuesto en formato electrónico.\"))","v":""}]
[{"$nulls":11},{"$f":"IF(B25=\"\",\"No se envía el acta de aprobación al presupuesto.\",\"\")","v":"No se envía el acta de aprobación al presupuesto."}]
[{"$nulls":11},{"$f":"IF(H25>44195,\"El presupuesto se aprobó despues del 30 de diciembre, incumpliendo lo establecido en el art. 218 de la LHM.\",\"\")","v":""}]
[{"$nulls":11},{"$f":"IF(L94=\"No se envía el acta de aprobación al presupuesto.\",\"\",IF(H25>0,IF(Z25=0,\"En el acta unicamente hace referencia a la aprobación del presupuesto sin indicar por cuanto se aprobo.\",IF(Z25=AG25,\"\",\"Existe diferencia entre lo establecido en el acta de aprobación y la información remitida en los formatos del presupuesto.\"))))","v":""}]
[{"$nulls":11},{"$f":"IF(L94=\"No se envía el acta de aprobación al presupuesto.\",\"\",Inconsistencias!B28)","v":""}]
[{"$nulls":11},{"$f":"Inconsistencias!B45","v":""}]
[{"$nulls":11},{"$f":"Inconsistencias!B46","v":"Se observa diferencia entre la estimación de ingresos fiscales (11) y los egresos pagaderos con dicha fuente de financiamiento."}]
[{"$nulls":11},{"$f":"Inconsistencias!B48","v":""}]
[{"$nulls":11},{"$f":"Inconsistencias!B50","v":"Se observa diferencia entre la estimación de ingresos propios (14) y los egresos pagaderos con dicha fuente de financiamiento."}]
[{"$nulls":11},{"$f":"Inconsistencias!B52","v":"Se observa diferencia entre la estimación de ingresos de recursos federales de libre disposición (15) y los egresos pagaderos con dicha fuente de financiamiento."}]
[{"$nulls":11},{"$f":"Inconsistencias!B54","v":"Se observa diferencia entre la estimación de ingresos de recursos estatales de libre disposición (16) y los egresos pagaderos con dicha fuente de financiamiento."}]
[{"$nulls":11},{"$f":"Inconsistencias!B56","v":""}]
[{"$nulls":11},{"$f":"Inconsistencias!B58","v":"Se observa diferencia entre la estimación de ingresos de recursos federales etiquetados (25) y los egresos pagaderos con dicha fuente de financiamiento."}]
[{"$nulls":11},{"$f":"Inconsistencias!B60","v":""}]
[{"$nulls":11},{"$f":"Inconsistencias!B62","v":""}]
[{"$nulls":11},{"$f":"Inconsistencias!B65","v":""}]
[{"$nulls":11},{"$f":"Inconsistencias!B67","v":""}]
[]
[{"$nulls":11},700100,"Acatic","Altos sur",21206]
[{"$nulls":11},700200,"Acatlán de Juárez","Lagunas",23241]
[{"$nulls":11},{"v":702305,"d":"702,305 "},"Administración de Estacionómetros para la Asistencia Social del Municipio de Zapotlán el Grande","Sur",100534]
[{"$nulls":11},700012,"Agencia Metropolitana de Seguridad Pública del Área Metropolitana de Guadalajara","Centro",1495189]
[{"$nulls":11},709302,"Agua y Saneamiento del Municipio de Tepatitlán","Altos sur",136123]
[{"$nulls":11},700300,"Ahualulco de Mercado","Valles",21714]
[{"$nulls":11},703904,"Albergue \"Las Cuadritas\" Fray Antonio Alcalde","Centro",1495189]
[{"$nulls":11},700400,"Amacueca","Sur",5545]
[{"$nulls":11},700500,"Amatitán","Valles",14648]
[{"$nulls":11},700600,"Ameca","Valles",57340]
[{"$nulls":11},700800,"Arandas","Altos sur",72812]
[{"$nulls":11},700003,"Asociación Intermunicipal para la Protección del Medio Ambiente y el Desarrollo Sustentable del Lago de Chapala","Ciénega",48839]
[{"$nulls":11},701000,"Atemajac de Brizuela","Sur",6655]
[{"$nulls":11},701100,"Atengo","Sierra de Amula",5400]
[{"$nulls":11},701200,"Atenguillo","Costa Sierra Occidente",4115]
[{"$nulls":11},701300,"Atotonilco el Alto","Ciénega",57717]
[{"$nulls":11},701400,"Atoyac","Lagunas",8276]
[{"$nulls":11},701500,"Autlán de Navarro","Sierra de Amula",57559]
[{"$nulls":11},701600,"Ayotlán","Ciénega",38291]
[{"$nulls":11},701700,"Ayutla","Costa Sierra Occidente",12664]
[{"$nulls":11},701900,"Bolaños","Norte",6820]
[{"$nulls":11},702000,"Cabo Corrientes","Costa Sierra Occidente",{"v":10029,"d":"10,029"}]
[{"$nulls":11},711700,"Cañadas de Obregón","Altos sur",{"v":4152,"d":"4,152 "}]
[{"$nulls":11},702100,"Casimiro Castillo","Costa sur",21475]
[{"$nulls":11},709704,"Centro de Estimulación para Personas con Discapacidad Intelectual de Tlajomulco de Zúñiga","Centro",416626]
[{"$nulls":11},703000,"Chapala","Sureste",48839]
[{"$nulls":11},703100,"Chimaltitán","Norte",3771]
[{"$nulls":11},703200,"Chiquilistlán","Sierra de Amula",5814]
[{"$nulls":11},702200,"Cihuatlán","Costa sur",39020]
[{"$nulls":11},702400,"Cocula","Lagunas",26174]
[{"$nulls":11},702500,"Colotlán","Norte",18091]
[{"$nulls":11},702600,"Concepción de Buenos Aires","Sureste",5933]
[{"$nulls":11},709802,"Consejo Municipal contra las Adicciones en San Pedro Tlaquepaque","Centro",608114]
[{"$nulls":11},700302,"Consejo Municipal del Deporte de Ahualulco de Mercado","Valles",21714]
[{"$nulls":11},703302,"Consejo Municipal del Deporte de Degollado, Jalisco","Ciénega",21132]
[{"$nulls":11},703902,"Consejo Municipal del Deporte de Guadalajara","Centro",1495189]
[{"$nulls":11},705002,"Consejo Municipal del Deporte de Jocotepec","Sureste",42164]
[{"$nulls":11},701802,"Consejo Municipal del Deporte de La Barca","Ciénega",64269]
[{"$nulls":11},706705,"Consejo Municipal del Deporte de Puerto Vallarta","Costa Sierra Occidente",255681]
[{"$nulls":11},709806,"Consejo Municipal del Deporte de San Pedro Tlaquepaque","Centro",608114]
[{"$nulls":11},710103,"Consejo Municipal del Deporte de Tonalá","Centro",478689]
[{"$nulls":11},711804,"Consejo Municipal del Deporte de Yahualica de González Gallo","Altos Sur ",22284]
[{"$nulls":11},712002,"Consejo Municipal del Deporte de Zapopan","Centro",1243756]
[{"$nulls":11},703907,"Consejo Social de Cooperación para el Desarrollo Urbano de Guadalajara","Centro",1495189]
[{"$nulls":11},702700,"Cuautitlán de García Barragán","Costa Sur",17322]
[{"$nulls":11},702800,"Cuautla","Sierra de Amula",2171]
[{"$nulls":11},702900,"Cuquío","Centro",17795]
[{"$nulls":11},703300,"Degollado","Ciénega",21132]
[{"$nulls":11},700101,"DIF Municipal de Acatic","Altos Sur",21206]
[{"$nulls":11},700201,"DIF Municipal de Acatlán de Juárez","Lagunas",23241]
[{"$nulls":11},700301,"DIF Municipal de Ahualulco de Mercado","Valles",21714]
[{"$nulls":11},700401,"DIF Municipal de Amacueca","Lagunas",5545]
[{"$nulls":11},700501,"DIF Municipal de Amatitán","Valles",14648]
[{"$nulls":11},700601,"DIF Municipal de Ameca","Valles",57340]
[{"$nulls":11},700801,"DIF Municipal de Arandas","Altos Sur",72812]
[{"$nulls":11},701001,"DIF Municipal de Atemajac de Brizuela","Lagunas",6655]
[{"$nulls":11},701101,"DIF Municipal de Atengo","Sierra de Amula",5400]
[{"$nulls":11},701201,"DIF Municipal de Atenguillo","Costa Sierra Occidental",4115]
[{"$nulls":11},701301,"DIF Municipal de Atotonilco el Alto","Ciénega ",57717]
[{"$nulls":11},701401,"DIF Municipal de Atoyac","Lagunas",8276]
[{"$nulls":11},701501,"DIF Municipal de Autlán de Navarro","Sierra de Amula",57559]
[{"$nulls":11},701601,"DIF Municipal de Ayotlán","Ciénega ",38291]
[{"$nulls":11},701701,"DIF Municipal de Ayutla","Costa Sierra Occidental",12664]
[{"$nulls":11},701901,"DIF Municipal de Bolaños","Norte",6820]
[{"$nulls":11},702001,"DIF Municipal de Cabo Corrientes","Costa Sierra Occidental",10029]
[{"$nulls":11},711701,"DIF Municipal de Cañadas de Obregón","Altos Sur",4152]
[{"$nulls":11},702101,"DIF Municipal de Casimiro Castillo","Costa Sur",21475]
[{"$nulls":11},703001,"DIF Municipal de Chapala","Sureste",48839]
[{"$nulls":11},703101,"DIF Municipal de Chimaltitán","Norte",3771]
[{"$nulls":11},703201,"DIF Municipal de Chiquilistlán","Sierra de Amula",5814]
[{"$nulls":11},702201,"DIF Municipal de Cihuatlán","Costa Sur",39020]
[{"$nulls":11},702401,"DIF Municipal de Cocula","Lagunas",26174]
[{"$nulls":11},702501,"DIF Municipal de Colotlán","Norte",18091]
[{"$nulls":11},702601,"DIF Municipal de Concepción de Buenos Aires","Sureste",5933]
[{"$nulls":11},702701,"DIF Municipal de Cuautitlán de García Barragán","Costa Sur",17322]
[{"$nulls":11},702801,"DIF Municipal de Cuautla","Sierra de Amula",2171]
[{"$nulls":11},702901,"DIF Municipal de Cuquío","Centro",17795]
[{"$nulls":11},703301,"DIF Municipal de Degollado","Ciénega ",21132]
[{"$nulls":11},703401,"DIF Municipal de Ejutla","Sierra de Amula",2082]
[{"$nulls":11},700901,"DIF Municipal de El Arenal","Valles",17545]
[{"$nulls":11},703701,"DIF Municipal de El Grullo","Sierra de Amula",23845]
[{"$nulls":11},705401,"DIF Municipal de El Limón","Sierra de Amula",5499]
[{"$nulls":11},707001,"DIF Municipal de El Salto","Centro",138226]
[{"$nulls":11},703501,"DIF Municipal de Encarnación de Díaz","Altos Norte  ",51396]
[{"$nulls":11},703601,"DIF Municipal de Etzatlán","Valles",18632]
[{"$nulls":11},707901,"DIF Municipal de Gómez Farías","Sur",14011]
[{"$nulls":11},703801,"DIF Municipal de Guachinango","Costa Sierra Occidental",4323]
[{"$nulls":11},703901,"DIF Municipal de Guadalajara","Centro",1495189]
[{"$nulls":11},704001,"DIF Municipal de Hostotipaquillo","Valles",10284]
[{"$nulls":11},704101,"DIF Municipal de Huejúcar","Norte",6084]
[{"$nulls":11},704201,"DIF Municipal de Huejuquilla el Alto","Norte",8781]
[{"$nulls":11},704401,"DIF Municipal de Ixtlahuacán de los Membrillos","Centro",41060]
[{"$nulls":11},704501,"DIF Municipal de Ixtlahuacán del Río","Centro",19005]
[{"$nulls":11},704601,"DIF Municipal de Jalostotitlán","Altos Sur",31948]
[{"$nulls":11},704701,"DIF Municipal de Jamay","Ciénega ",22881]
[{"$nulls":11},704801,"DIF Municipal de Jesús María","Altos Sur",18634]
[{"$nulls":11},704901,"DIF Municipal de Jilotlán de los Dolores","Sur",9545]
[{"$nulls":11},705001,"DIF Municipal de Jocotepec","Sureste",42164]
[{"$nulls":11},705101,"DIF Municipal de Juanacatlán","Centro",13218]
[{"$nulls":11},705201,"DIF Municipal de Juchitlán","Sierra de Amula",5515]
[{"$nulls":11},701801,"DIF Municipal de La Barca","Ciénega ",64269]
[{"$nulls":11},704301,"DIF Municipal de La Huerta","Costa Sur",23428]
[{"$nulls":11},705701,"DIF Municipal de La Manzanilla de la Paz","Sureste",3755]
[{"$nulls":11},705301,"DIF Municipal de Lagos de Moreno","Altos Norte  ",153817]
[{"$nulls":11},705501,"DIF Municipal de Magdalena","Valles",21321]
[{"$nulls":11},705801,"DIF Municipal de Mascota","Costa Sierra Occidental",14245]
[{"$nulls":11},705901,"DIF Municipal de Mazamitla","Sureste",13225]
[{"$nulls":11},706001,"DIF Municipal de Mexticacán","Altos Sur",6034]
[{"$nulls":11},706101,"DIF Municipal de Mezquitic","Norte",18084]
[{"$nulls":11},706201,"DIF Municipal de Mixtlán","Costa Sierra Occidental",3574]
[{"$nulls":11},706301,"DIF Municipal de Ocotlán","Ciénega ",92967]
[{"$nulls":11},706401,"DIF Municipal de Ojuelos de Jalisco","Altos Norte  ",30097]
[{"$nulls":11},706501,"DIF Municipal de Pihuamo","Sur ",12119]
[{"$nulls":11},706601,"DIF Municipal de Poncitlán","Ciénega ",48408]
[{"$nulls":11},706701,"DIF Municipal de Puerto Vallarta","Costa Sierra Occidental",255681]
[{"$nulls":11},706901,"DIF Municipal de Quitupan","Sureste",8691]
[{"$nulls":11},707101,"DIF Municipal de San Cristóbal de la Barranca","Centro",3176]
[{"$nulls":11},707201,"DIF Municipal de San Diego de Alejandría","Altos Norte  ",6647]
[{"$nulls":11},711301,"DIF Municipal de San Gabriel","Sur",15310]
[{"$nulls":11},712501,"DIF Municipal de San Ignacio Cerro Gordo","Altos Sur",17626]
[{"$nulls":11},707301,"DIF Municipal de San Juan de los Lagos","Altos Norte  ",65219]
[{"$nulls":11},700701,"DIF Municipal de San Juanito de Escobedo","Valles",8896]
[{"$nulls":11},707401,"DIF Municipal de San Julián","Altos Sur",15454]
[{"$nulls":11},707501,"DIF Municipal de San Marcos","Valles",3762]
[{"$nulls":11},707601,"DIF Municipal de San Martín de Bolaños","Norte",3405]
[{"$nulls":11},707701,"DIF Municipal de San Martín Hidalgo","Lagunas",26306]
[{"$nulls":11},707801,"DIF Municipal de San Miguel el Alto","Altos Sur",31166]
[{"$nulls":11},709801,"DIF Municipal de San Pedro Tlaquepaque","Centro",608114]
[{"$nulls":11},708001,"DIF Municipal de San Sebastián del Oeste","Costa Sierra Occidental",5755]
[{"$nulls":11},708101,"DIF Municipal de Santa María de los Ángeles","Norte",3726]
[{"$nulls":11},705601,"DIF Municipal de Santa María del Oro","Sureste",2517]
[{"$nulls":11},708201,"DIF Municipal de Sayula","Lagunas",34829]
[{"$nulls":11},708301,"DIF Municipal de Tala","Valles",69031]
[{"$nulls":11},708401,"DIF Municipal de Talpa de Allende","Costa Sierra Occidental",14410]
[{"$nulls":11},708501,"DIF Municipal de Tamazula de Gordiano","Sur",37986]
[{"$nulls":11},708601,"DIF Municipal de Tapalpa","Lagunas",18096]
[{"$nulls":11},708701,"DIF Municipal de Tecalitlán","Sur",16847]
[{"$nulls":11},708901,"DIF Municipal de Techaluta de Montenegro","Lagunas",3511]
[{"$nulls":11},708801,"DIF Municipal de Tecolotlán","Sierra de Amula",16573]
[{"$nulls":11},709001,"DIF Municipal de Tenamaxtlán","Sierra de Amula",7051]
[{"$nulls":11},709101,"DIF Municipal de Teocaltiche","Altos Norte  ",40105]
[{"$nulls":11},709201,"DIF Municipal de Teocuitatlán de Corona","Lagunas",10837]
[{"$nulls":11},709301,"DIF Municipal de Tepatitlán de Morelos","Altos Sur",136123]
[{"$nulls":11},709401,"DIF Municipal de Tequila","Valles ",40697]
[{"$nulls":11},709501,"DIF Municipal de Teuchitlán","Valles",9088]
[{"$nulls":11},709601,"DIF Municipal de Tizapán el Alto","Sureste",20857]
[{"$nulls":11},709701,"DIF Municipal de Tlajomulco de Zúñiga","Centro",416626]
[{"$nulls":11},709901,"DIF Municipal de Tolimán","Sur",9591]
[{"$nulls":11},710001,"DIF Municipal de Tomatlán","Costa Sur",35050]
[{"$nulls":11},710101,"DIF Municipal de Tonalá","Centro",478689]
[{"$nulls":11},710201,"DIF Municipal de Tonaya","Sierra de Amula",5930]
[{"$nulls":11},710301,"DIF Municipal de Tonila","Sur",7256]
[{"$nulls":11},710401,"DIF Municipal de Totatiche","Norte ",4435]
[{"$nulls":11},710501,"DIF Municipal de Tototlán","Ciénega ",21871]
[{"$nulls":11},710601,"DIF Municipal de Tuxcacuesco","Sierra de Amula",4234]
[{"$nulls":11},710701,"DIF Municipal de Tuxcueca","Sureste",6316]
[{"$nulls":11},710801,"DIF Municipal de Tuxpan","Sur",34182]
[{"$nulls":11},710901,"DIF Municipal de Unión de San Antonio","Altos Norte  ",17325]
[{"$nulls":11},711001,"DIF Municipal de Unión de Tula","Sierra de Amula",13737]
[{"$nulls":11},711101,"DIF Municipal de Valle de Guadalupe","Altos Sur",6705]
[{"$nulls":11},711201,"DIF Municipal de Valle de Juárez","Sureste",5798]
[{"$nulls":11},711401,"DIF Municipal de Villa Corona","Lagunas",16969]
[{"$nulls":11},711501,"DIF Municipal de Villa Guerrero","Norte ",5638]
[{"$nulls":11},711601,"DIF Municipal de Villa Hidalgo","Altos Norte  ",18711]
[{"$nulls":11},706801,"DIF Municipal de Villa Purificación","Costa Sur ",11623]
[{"$nulls":11},711801,"DIF Municipal de Yahualica de González Gallo","Altos Sur ",22284]
[{"$nulls":11},711901,"DIF Municipal de Zacoalco de Torres","Lagunas",27901]
[{"$nulls":11},712001,"DIF Municipal de Zapopan","Centro",1243756]
[{"$nulls":11},712101,"DIF Municipal de Zapotiltic","Sur ",29192]
[{"$nulls":11},712201,"DIF Municipal de Zapotitlán de Vadillo","Sur",6685]
[{"$nulls":11},712301,"DIF Municipal de Zapotlán del Rey","Ciénega ",17585]
[{"$nulls":11},702301,"DIF Municipal de Zapotlán el Grande","Sur",100534]
[{"$nulls":11},712401,"DIF Municipal de Zapotlanejo","Centro",63636]
[{"$nulls":11},703400,"Ejutla","Sierra de Amula",2082]
[{"$nulls":11},700900,"El Arenal","Valles",17545]
[{"$nulls":11},703700,"El Grullo","Sierra de Amula",23845]
[{"$nulls":11},705400,"El Limón","Sierra de Amula",5499]
[{"$nulls":11},707000,"El Salto","Centro",138226]
[{"$nulls":11},703500,"Encarnación de Díaz","Altos Norte  ",51396]
[{"$nulls":11},703600,"Etzatlán","Valles",18632]
[{"$nulls":11},712009,"Fideicomiso Coeficiente de Utilización del Suelo","Centro",1495189]
[{"$nulls":11},712011,"Fideicomiso de Administración, Garantía y Fuente de Pago para la concesión de Alumbrado Público del Municipio de Zapopan","Centro",1243756]
[{"$nulls":11},712006,"Fideicomiso de Equipamiento e Infraestructura Urbana y Vial en la Zona del Bajío","Valles",57340]
[{"$nulls":11},706702,"Fideicomiso de Turismo de Puerto Vallarta","Costa Sierra Occidental",255681]
[{"$nulls":11},712010,"Fideicomiso Hecho por Mujeres de Zapopan","Centro",1243756]
[{"$nulls":11},712004,"Fideicomiso Irrevocable de Garantía, Administración y Fuente de Pago (Zapopan)","Centro",1243756]
[{"$nulls":11},712007,"Fideicomiso Maestro de Fomento Económico para el Municipio de Zapopan","Centro",1243756]
[{"$nulls":11},712008,"Fideicomiso Revocable de Administración, Inversión y Fuente de Pago \"Av. Juan Palomar Arias\"","Centro",1495189]
[{"$nulls":11},707900,"Gómez Farías","Sur",14011]
[{"$nulls":11},703800,"Guachinango","Costa Sierra Occidental",4323]
[{"$nulls":11},703900,"Guadalajara","Centro",1495189]
[{"$nulls":11},704000,"Hostotipaquillo","Valles",10284]
[{"$nulls":11},704100,"Huejúcar","Norte",6084]
[{"$nulls":11},704200,"Huejuquilla el Alto","Norte",8781]
[{"$nulls":11},709705,"Instituto de Alternativas para los Jóvenes de Tlajomulco de Zúñiga","Centro",416626]
[{"$nulls":11},710102,"Instituto de Alternativas para los Jóvenes de Tonalá","Centro",478689]
[{"$nulls":11},709102,"Instituto de Atención a la Juventud Teocaltichense","Altos Norte  ",40105]
[{"$nulls":11},709702,"Instituto de Cultura, Recreación y Deporte del Municipio de Tlajomulco de Zúñiga","Centro",416626]
[{"$nulls":11},"NA","Instituto de la Juventud de La Barca","Ciénega ",64269]
[{"$nulls":11},"NA","Instituto de la Juventud Jocotepec","Sureste",42164]
[{"$nulls":11},711302,"Instituto de la Juventud San Gabriel","Sur",15310]
[{"$nulls":11},711802,"Instituto de la Juventud Yahualicense","Altos Sur ",22284]
[{"$nulls":11},709103,"Instituto de la Mujer de Teocaltiche","Altos Norte  ",40105]
[{"$nulls":11},709002,"Instituto de la Mujer Tenamaxtlán","Sierra de Amula",7051]
[{"$nulls":11},"NA","Instituto de las Mujeres de Cuquío","Centro",17795]
[{"$nulls":11},700004,"Instituto Metropolitano de Planeación","Centro",1495189]
[{"$nulls":11},703906,"Instituto Municipal de Atención a la Juventud de Guadalajara","Centro",1495189]
[{"$nulls":11},709803,"Instituto Municipal de la Juventud en San Pedro Tlaquepaque","Centro",608114]
[{"$nulls":11},"NA","Instituto Municipal de la Juventud Mazamitla","Sureste",13225]
[{"$nulls":11},704902,"Instituto Municipal de la Mujer de Jilotlán","Sur",9545]
[{"$nulls":11},710104,"Instituto Municipal de la Mujer de Tonalá","Centro",478689]
[{"$nulls":11},"NA","Instituto Municipal de la Mujer de Zapotitlán de Vadillo","Sur",6685]
[{"$nulls":11},701502,"Instituto Municipal de la Mujer del Municipio de Autlán de Navarro","Sierra de Amula",57559]
[{"$nulls":11},701804,"Instituto Municipal de la Mujer en La Barca","Ciénega ",64269]
[{"$nulls":11},707202,"Instituto Municipal de la Mujer en San Diego de Alejandría","Altos Norte  ",6647]
[{"$nulls":11},712503,"Instituto Municipal de la Mujer en San Ignacio Cerro Gordo","Altos Sur",17626]
[{"$nulls":11},702304,"Instituto Municipal de la Mujer en Zapotlán el Grande","Sur",100534]
[{"$nulls":11},706502,"Instituto Municipal de la Mujer Pihuamense en Pihuamo","Sur ",12119]
[{"$nulls":11},709703,"Instituto Municipal de la Mujer Tlajomulquense de Tlajomulco de Zúñiga","Centro",416626]
[{"$nulls":11},711803,"Instituto Municipal de la Mujer Yahualicense de Yahualica de González Gallo","Altos Sur ",22284]
[{"$nulls":11},703909,"Instituto Municipal de la Vivienda de Guadalajara","Centro",1495189]
[{"$nulls":11},703702,"Instituto Municipal de las Mujeres de El Grullo","Sierra de Amula",23845]
[{"$nulls":11},"NA","Instituto Municipal de las Mujeres de Mazamitla","Sureste",13225]
[{"$nulls":11},707402,"Instituto Municipal de las Mujeres de San Julián","Altos Sur",15454]
[{"$nulls":11},703905,"Instituto Municipal de las Mujeres en Guadalajara","Centro",1495189]
[{"$nulls":11},704703,"Instituto Municipal de las Mujeres en Jamay","Ciénega ",22881]
[{"$nulls":11},708502,"Instituto Municipal de las Mujeres Tamazulenses","Sur",37986]
[{"$nulls":11},709804,"Instituto Municipal de las Mujeres y para la Igualdad Sustantiva en San Pedro Tlaquepaque","Centro",608114]
[{"$nulls":11},712005,"Instituto Municipal de las Mujeres Zapopanas para la Igualdad Sustantiva","Centro",1243756]
[{"$nulls":11},705303,"Instituto Municipal de Planeación de Lagos de Moreno","Altos Norte  ",153817]
[{"$nulls":11},705003,"Instituto Para la Igualdad Sustantiva entre Hombres y Mujeres de Jocotepec","Sureste",42164]
[{"$nulls":11},708702,"Instituto Tecalitlense de la Mujer","Sur",16847]
[{"$nulls":11},706706,"Instituto Vallartense de Cultura","Costa Sierra Occidental",255681]
[{"$nulls":11},702302,"Instituto Zapotlense de la Juventud de Zapotlán el Grande","Sur",100534]
[{"$nulls":11},704400,"Ixtlahuacán de los Membrillos","Centro",41060]
[{"$nulls":11},704500,"Ixtlahuacán del Río","Centro",19005]
[{"$nulls":11},704600,"Jalostotitlán","Altos Sur",31948]
[{"$nulls":11},704700,"Jamay","Ciénega ",22881]
[{"$nulls":11},704800,"Jesús María","Altos Sur",18634]
[{"$nulls":11},704900,"Jilotlán de los Dolores","Sur",9545]
[{"$nulls":11},705000,"Jocotepec","Sureste",42164]
[{"$nulls":11},705100,"Juanacatlán","Centro",13218]
[{"$nulls":11},705200,"Juchitlán","Sierra de Amula",5515]
[{"$nulls":11},700011,"Junta Intermunicipal de Medio Ambiente Altos Sur"]
[{"$nulls":11},700009,"Junta Intermunicipal de Medio Ambiente de la Costa Sur"]
[{"$nulls":11},700008,"Junta Intermunicipal de Medio Ambiente de Sierra Occidental y Costa"]
[{"$nulls":11},700015,"Junta Intermunicipal de Medio Ambiente Lagunas"]
[{"$nulls":11},700005,"Junta Intermunicipal de Medio Ambiente para la Gestión Integral de la Cuenca del Río Coahuayana"]
[{"$nulls":11},700013,"Junta Intermunicipal de Medio Ambiente para la Gestión Integral de la Región Norte del Estado de Jalisco"]
[{"$nulls":11},700014,"Junta Intermunicipal de Medio Ambiente para la Gestión Integral de la Región Valles"]
[{"$nulls":11},700001,"Junta Intermunicipal del Medio Ambiente para la Gestión Integral de la Cuenca Baja del Río Ayuquila"]
[{"$nulls":11},701800,"La Barca","Ciénega ",64269]
[{"$nulls":11},704300,"La Huerta","Costa Sur",23428]
[{"$nulls":11},705700,"La Manzanilla de la Paz","Sureste",3755]
[{"$nulls":11},705300,"Lagos de Moreno","Altos Norte  ",153817]
[{"$nulls":11},705500,"Magdalena","Valles",21321]
[{"$nulls":11},705800,"Mascota","Costa Sierra Occidental",14245]
[{"$nulls":11},705900,"Mazamitla","Sureste",13225]
[{"$nulls":11},706000,"Mexticacán","Altos Sur",6034]
[{"$nulls":11},706100,"Mezquitic","Norte",18084]
[{"$nulls":11},706200,"Mixtlán","Costa Sierra Occidental",3574]
[{"$nulls":11},708202,"O.P.D. Comité del Carnaval Sayula","Lagunas",34829]
[{"$nulls":11},706300,"Ocotlán","Ciénega ",92967]
[{"$nulls":11},706400,"Ojuelos de Jalisco","Altos Norte  ",30097]
[{"$nulls":11},702306,"Organismo Público Descentralizado Comité de la Feria de Zapotlán el Grande","Sur",100534]
[{"$nulls":11},712003,"Organismo Público Descentralizado Servicios de Salud del Municipio de Zapopan","Centro",1243756]
[{"$nulls":11},703903,"Organismo Público Descentralizado Zoológico Guadalajara","Centro",1495189]
[{"$nulls":11},705302,"Patronato de las Instalaciones de la Feria de Lagos de Moreno","Altos Norte  ",153817]
[{"$nulls":11},710105,"Patronato del Centro Histórico y Barrios Tradicionales de Tonalá, Jalisco \"Tonalá Mágico\"","Centro",478689]
[{"$nulls":11},706704,"Patronato del Centro Histórico y Franja Turística de Puerto Vallarta","Costa Sierra Occidental",255681]
[{"$nulls":11},703908,"Patronato del Centro Histórico, Barrios y Zonas Tradicionales de la ciudad de Guadalajara","Centro",1495189]
[{"$nulls":11},709805,"Patronato Nacional de la Cerámica","Centro",608114]
[{"$nulls":11},706500,"Pihuamo","Sur ",12119]
[{"$nulls":11},706600,"Poncitlán","Ciénega ",48408]
[{"$nulls":11},706700,"Puerto Vallarta","Costa Sierra Occidental",255681]
[{"$nulls":11},706900,"Quitupan","Sureste",8691]
[{"$nulls":11},703910,"Red de Bosques Urbanos de Guadalajara","Centro",1495189]
[{"$nulls":11},707100,"San Cristóbal de la Barranca","Centro",3176]
[{"$nulls":11},707200,"San Diego de Alejandría","Altos Norte  ",6647]
[{"$nulls":11},711300,"San Gabriel","Sur",15310]
[{"$nulls":11},712500,"San Ignacio Cerro Gordo","Altos Sur",17626]
[{"$nulls":11},707300,"San Juan de los Lagos","Altos Norte  ",65219]
[{"$nulls":11},700700,"San Juanito de Escobedo","Valles",8896]
[{"$nulls":11},707400,"San Julián","Altos Sur",15454]
[{"$nulls":11},707500,"San Marcos","Valles",3762]
[{"$nulls":11},707600,"San Martín de Bolaños","Norte",3405]
[{"$nulls":11},707700,"San Martín Hidalgo","Lagunas",26306]
[{"$nulls":11},707800,"San Miguel el Alto","Altos Sur",31166]
[{"$nulls":11},709800,"San Pedro Tlaquepaque","Centro",608114]
[{"$nulls":11},708000,"San Sebastián del Oeste","Costa Sierra Occidental",5755]
[{"$nulls":11},708100,"Santa María de los Ángeles","Norte",3726]
[{"$nulls":11},705600,"Santa María del Oro","Sureste",2517]
[{"$nulls":11},708200,"Sayula","Lagunas",34829]
[{"$nulls":11},"NA","Sistema Administrativo Municipal de Agua Potable y Alcantarillado de Ixtlahuacán de los Membrillos","Centro",41060]
[{"$nulls":11},701803,"Sistema Barquense de Agua Potable, Alcantarillado y Saneamiento","Ciénega ",64269]
[{"$nulls":11},700602,"Sistema de Agua Potable Alcantarillado y Saneamiento del Municipio de Ameca","Valles",57340]
[{"$nulls":11},705802,"Sistema de Agua Potable y Alcantarillado de Mascota","Costa Sierra Occidental",14245]
[{"$nulls":11},708503,"Sistema de Agua Potable y Alcantarillado de Tamazula de Gordiano","Sur",37986]
[{"$nulls":11},711002,"Sistema de Agua Potable y Alcantarillado del Municipio de Unión de Tula","Sierra de Amula",13737]
[{"$nulls":11},705502,"Sistema de Agua Potable, Alcantarillado y Saneamiento de Magdalena","Valles",21321]
[{"$nulls":11},700402,"Sistema de Agua Potable, Alcantarillado y Saneamiento del Municipio de Amacueca (SAPASA)","Lagunas",5545]
[{"$nulls":11},700802,"Sistema de Agua Potable, Alcantarillado y Saneamiento del Municipio de Arandas","Altos Sur",72812]
[{"$nulls":11},701302,"Sistema de Agua Potable, Alcantarillado y Saneamiento del Municipio de Atotonilco el Alto (SAPAMA)","Ciénega ",57717]
[{"$nulls":11},"NA","Sistema de Agua Potable, Alcantarillado y Saneamiento del Municipio de Chapala (SIMAPA)","Sureste",48839]
[{"$nulls":11},702502,"Sistema de Agua Potable, Alcantarillado y Saneamiento del Municipio de Colotlán","Norte",18091]
[{"$nulls":11},"NA","Sistema de Agua Potable, Alcantarillado y Saneamiento del Municipio de Degollado (SIAPADEG)","Ciénega ",21132]
[{"$nulls":11},704702,"Sistema de Agua Potable, Alcantarillado y Saneamiento del Municipio de Jamay (SIMAPAS)","Ciénega ",22881]
[{"$nulls":11},704302,"Sistema De Agua Potable, Alcantarillado y Saneamiento del Municipio de La Huerta","Costa Sur",23428]
[{"$nulls":11},712502,"Sistema de Agua Potable, Alcantarillado y Saneamiento del Municipio de San Ignacio Cerro Gordo","Altos Sur",17626]
[{"$nulls":11},707403,"Sistema de Agua Potable, Alcantarillado y Saneamiento del Municipio de San Julián (SAPAJ)","Altos Sur",15454]
[{"$nulls":11},707702,"Sistema de Agua Potable, Alcantarillado y Saneamiento del Municipio de San Martín Hidalgo","Lagunas",26306]
[{"$nulls":11},707802,"Sistema de Agua Potable, Alcantarillado y Saneamiento del Municipio de San Miguel el Alto (SAPASMA)","Altos Sur",31166]
[{"$nulls":11},708402,"Sistema de Agua Potable, Alcantarillado y Saneamiento del Municipio de Talpa de Allende","Costa Sierra Occidental",14410]
[{"$nulls":11},710502,"Sistema de Agua Potable, Alcantarillado y Saneamiento del Municipio de Tototlán","Ciénega ",21871]
[{"$nulls":11},711602,"Sistema de Agua Potable, Alcantarillado y Saneamiento del Municipio de Villa Hidalgo","Altos Norte  ",18711]
[{"$nulls":11},702303,"Sistema de Agua Potable, Alcantarillado y Saneamiento del Municipio de Zapotlán el Grande","Sur",100534]
[{"$nulls":11},705902,"Sistema de Agua Potable, Alcantarillados y Saneamiento del Municipio de Mazamitla","Sureste",13225]
[{"$nulls":11},706703,"Sistema de los Servicios de Agua Potable, Drenaje y Alcantarillado de Puerto Vallarta","Costa Sierra Occidental",255681]
[{"$nulls":11},708602,"Sistema Integral de Agua de Tapalpa","Lagunas",18096]
[{"$nulls":11},700006,"Sistema Intermunicipal de los Servicios de Agua Potable y Alcantarillado"]
[{"$nulls":11},700002,"Sistema Intermunicipal de Manejo de Residuos (SIMAR SURESTE)"]
[{"$nulls":11},700010,"Sistema Intermunicipal de Manejo de Residuos Lagunas (SIMAR Lagunas)"]
[{"$nulls":11},700007,"Sistema Intermunicipal de Manejo de Residuos Sur-Sureste (SIMAR Sur-Sureste)"]
[{"$nulls":11},708300,"Tala","Valles",69031]
[{"$nulls":11},708400,"Talpa de Allende","Costa Sierra Occidental",14410]
[{"$nulls":11},708500,"Tamazula de Gordiano","Sur",37986]
[{"$nulls":11},708600,"Tapalpa","Lagunas",18096]
[{"$nulls":11},708700,"Tecalitlán","Sur",16847]
[{"$nulls":11},708900,"Techaluta de Montenegro","Lagunas",3511]
[{"$nulls":11},708800,"Tecolotlán","Sierra de Amula",16573]
[{"$nulls":11},709000,"Tenamaxtlán","Sierra de Amula",7051]
[{"$nulls":11},709100,"Teocaltiche","Altos Norte  ",40105]
[{"$nulls":11},709200,"Teocuitatlán de Corona","Lagunas",10837]
[{"$nulls":11},709300,"Tepatitlán de Morelos","Altos Sur",136123]
[{"$nulls":11},709400,"Tequila","Valles ",40697]
[{"$nulls":11},709500,"Teuchitlán","Valles",9088]
[{"$nulls":11},709600,"Tizapán el Alto","Sureste",20857]
[{"$nulls":11},709700,"Tlajomulco de Zúñiga","Centro",416626]
[{"$nulls":11},709900,"Tolimán","Sur",9591]
[{"$nulls":11},710000,"Tomatlán","Costa Sur",35050]
[{"$nulls":11},710100,"Tonalá","Centro",478689]
[{"$nulls":11},710200,"Tonaya","Sierra de Amula",5930]
[{"$nulls":11},710300,"Tonila","Sur",7256]
[{"$nulls":11},710400,"Totatiche","Norte ",4435]
[{"$nulls":11},710500,"Tototlán","Ciénega ",21871]
[{"$nulls":11},710600,"Tuxcacuesco","Sierra de Amula",4234]
[{"$nulls":11},710700,"Tuxcueca","Sureste",6316]
[{"$nulls":11},710800,"Tuxpan","Sur",34182]
[{"$nulls":11},710900,"Unión de San Antonio","Altos Norte  ",17325]
[{"$nulls":11},711000,"Unión de Tula","Sierra de Amula",13737]
[{"$nulls":11},711100,"Valle de Guadalupe","Altos Sur",6705]
[{"$nulls":11},711200,"Valle de Juárez","Sureste",5798]
[{"$nulls":11},711400,"Villa Corona","Lagunas",16969]
[{"$nulls":11},711500,"Villa Guerrero","Norte ",5638]
[{"$nulls":11},711600,"Villa Hidalgo","Altos Norte  ",18711]
[{"$nulls":11},706800,"Villa Purificación","Costa Sur ",11623]
[{"$nulls":11},711800,"Yahualica de González Gallo","Altos Sur ",22284]
[{"$nulls":11},711900,"Zacoalco de Torres","Lagunas",27901]
[{"$nulls":11},712000,"Zapopan","Centro",1243756]
[{"$nulls":11},712100,"Zapotiltic","Sur ",29192]
[{"$nulls":11},712200,"Zapotitlán de Vadillo","Sur",6685]
[{"$nulls":11},712300,"Zapotlán del Rey","Ciénega ",17585]
[{"$nulls":11},702300,"Zapotlán el Grande","Sur",100534]
[{"$nulls":11},712400,"Zapotlanejo","Centro",63636]

{"sheet":"Inconsistencias","index":2,"n_rows":69,"n_cols":27,"rows_kept":69,"merged":[[1,1,1,29],[2,1,2,29],[4,1,4,29],[5,1,7,29],[8,1,8,11],[8,12,8,15],[8,16,8,29],[9,2,9,11],[9,12,9,15],[9,17,9,29],[10,2,10,11],[10,12,10,15],[10,17,10,25],[10,26,10,27],[10,28,10,29],[11,1,11,13],[11,14,11,15],[11,16,11,27],[11,28,11,29],[12,1,12,29],[13,1,13,6],[13,7,13,13],[13,14,13,29],[14,1,14,6],[14,7,14,13],[14,14,14,29],[15,1,15,29],[25,1,25,29],[26,1,26,29],[27,1,33,29],[43,1,43,29],[44,1,44,29],[45,1,46,29],[47,1,48,29],[49,1,50,29],[51,1,52,29],[53,1,54,29],[55,1,56,29],[57,1,58,29],[59,1,60,29],[61,1,62,29],[63,1,63,29],[64,1,65,29],[66,1,67,29],[68,1,68,29]]}
[]
[null,"PRESUPUESTO DE EGRESOS 2021"]
[null,"INFORMACIÓN ADICIONAL"]
[]
[null,"NOMBRE DEL ENTE PÚBLICO"]
[null,"Jilotlán de los Dolores"]
[]
[]
[null,"DOCUMENTO REMITIDO",{"$nulls":10},"EJERCICIO",{"$nulls":3},"DOCUMENTACIÓN CORRESPONDE A:"]
[null,null,"Presupuesto de egresos",{"$nulls":9},2021,{"$nulls":4},"Normal"]
[null,null,"Modificación al presupuesto",{"$nulls":9},2021,{"$nulls":4},"Complementaria",{"$nulls":8},"No."]
[null,"La modificación al presupuesto es la No.",{"$nulls":14},"Se acompaña respaldo electrónico"]
[null,"INFORMACIÓN DE APROBACIÓN DEL PRESUPUESTO"]
[null,"Acta número",{"$nulls":5},"Fecha del acuerdo",{"$nulls":6},"Acuerdo número"]
[]
[null,"FORMATOS ELABORADOS"]
[null,{"$f":"IF(('CRI-RYP'!D24+'CRI-RYP'!F24)>0,IF('CRI-RYP'!F24>0,\"X\",\"\"),\"\")","v":"X"},"Resultado y proyección de ingresos - LDF. "]
[null,{"$f":"IF('CRI-DE'!F141>0,\"X\",\"\")","v":"X"},"Estimación de ingresos (Clasificación por rubro de ingresos de libre disposición y etiquetados). "]
[null,{"$f":"IF(('COG-RYP'!D24+'COG-RYP'!F24)>0,IF('COG-RYP'!F24>0,\"X\",\"\"),\"\")","v":"X"},"Resultado y proyección de egresos - LDF. "]
[null,{"$f":"IF('COG-FF'!M429>0,\"X\",\"\")","v":"X"},"Presupuesto de egresos (Clasificador por objeto del gasto y fuente de financiamiento). "]
[null,{"$f":"IF('CTG-FF'!M8>0,\"X\",\"\")","v":"X"},"Presupuesto de egresos (Clasificador por tipo de gasto, fuente de financiamiento y objeto del gasto). "]
[null,{"$f":"IF(CF!C146>0,\"X\",\"\")","v":"X"},"Presupuesto de egresos (Clasificación funcional del gasto). "]
[null,{"$f":"IF(CA!D76>0,\"X\",\"\")","v":"X"},"Presupuesto de egresos (Clasificación administrativa). "]
[null,{"$f":"IF(SUM(EA!B48:F48)>2017,\"X\",\"\")","v":""},"Informe sobre estudios actuariales - LDF."]
[null,{"$f":"IF(Plantilla!O429>0,\"X\",\"\")","v":"X"},"Plantilla de personal de carácter permanente. "]
[null,"Se considera que los formatos han sido correctamente elaborados,\nsalvo que se generen las siguientes:"]
[null,"Inconsistencia relacionada con la elaboración de formatos:"]
[null,{"$f":"IF(SUM(C35:C43)>0,\"No se elaboró el o los formato(s) de: \",\"\")&B35&B36&B37&B38&B39&B40&B41&B42&B43","v":"No se elaboró el o los formato(s) de: Informe sobre estudios actuariales - LDF."}]
[]
[]
[]
[]
[]
[]
[null,{"$f":"IF(B17=\"X\",\"\",C17)","v":""},{"$f":"IF(B17=\"X\",0,1)","v":0}]
[null,{"$f":"IF(B18=\"X\",\"\",C18)","v":""},{"$f":"IF(B18=\"X\",0,1)","v":0}]
[null,"",0]
[null,"",0]
[null,"",0]
[null,"",0]
[null,"",0]
[null,"Informe sobre estudios actuariales - LDF.",1]
[null,"",0]
[null,"Inconsistencia relacionada con el equilibrio ingreso vs. gasto:"]
[null,{"$f":"IF(ABS('CRI-RYP'!E24-'COG-RYP'!E24)>=1000,\"El total de la estimación de ingresos es diferente al total del presupuesto de egresos.\",\"\")","v":""}]
[null,{"$f":"IF(ABS(SUM('CRI-M'!P2+'CRI-M'!P21+'CRI-M'!P27+'CRI-M'!P30+'CRI-M'!P60+'CRI-M'!P65)-'CTG-FF'!C8)>=1000,\"Se observa diferencia entre la estimación de ingresos fiscales (11) y los egresos pagaderos con dicha fuente de financiamiento.\",\"\")","v":"Se observa diferencia entre la estimación de ingresos fiscales (11) y los egresos pagaderos con dicha fuente de financiamiento."}]
[]
[null,{"$f":"IF(ABS('CRI-M'!P146-'CTG-FF'!D8)>=1000,\"Se observa diferencia entre la estimación de financiamiento interno (12) y los egresos pagaderos con dicha fuente de financiamiento.\",\"\")","v":""}]
[]
[null,{"$f":"IF(ABS('CRI-M'!P79-'CTG-FF'!F8)>=1000,\"Se observa diferencia entre la estimación de ingresos propios (14) y los egresos pagaderos con dicha fuente de financiamiento.\",\"\")","v":"Se observa diferencia entre la estimación de ingresos propios (14) y los egresos pagaderos con dicha fuente de financiamiento."}]
[]
[null,{"$f":"IF(ABS((SUM('CRI-M'!P95:P105)+SUM('CRI-M'!P118:P122))-'CTG-FF'!G8)>=1000,\"Se observa diferencia entre la estimación de ingresos de recursos federales de libre disposición (15) y los egresos pagaderos con dicha fuente de financiamiento.\",\"\")","v":"Se observa diferencia entre la estimación de ingresos de recursos federales de libre disposición (15) y los egresos pagaderos con dicha fuente de financiamiento."}]
[]
[null,{"$f":"IF(ABS('CRI-M'!P106-'CTG-FF'!H8)>=1000,\"Se observa diferencia entre la estimación de ingresos de recursos estatales de libre disposición (16) y los egresos pagaderos con dicha fuente de financiamiento.\",\"\")","v":"Se observa diferencia entre la estimación de ingresos de recursos estatales de libre disposición (16) y los egresos pagaderos con dicha fuente de financiamiento."}]
[]
[null,{"$f":"IF(ABS((SUM('CRI-M'!P111:P114)+'CRI-M'!P128+'CRI-M'!P133+'CRI-M'!P138+'CRI-M'!P141)-'CTG-FF'!I8)>=1000,\"Se observa diferencia entre la estimación de ingresos de otros recursos de libre disposición (17) y los egresos pagaderos con dicha fuente de financiamiento.\",\"\")","v":""}]
[]
[null,{"$f":"IF(ABS('CRI-M'!P107+'CRI-M'!P115+'CRI-M'!P123-'CTG-FF'!J8)>=1000,\"Se observa diferencia entre la estimación de ingresos de recursos federales etiquetados (25) y los egresos pagaderos con dicha fuente de financiamiento.\",\"\")","v":"Se observa diferencia entre la estimación de ingresos de recursos federales etiquetados (25) y los egresos pagaderos con dicha fuente de financiamiento."}]
[]
[null,{"$f":"IF(ABS('CRI-M'!P116+'CRI-M'!C130+'CRI-M'!C135-'CTG-FF'!K8)>=1000,\"Se observa diferencia entre la estimación de ingresos de recursos estatales etiquetados (26) y los egresos pagaderos con dicha fuente de financiamiento.\",\"\")","v":""}]
[]
[null,{"$f":"IF(ABS(('CRI-M'!P129+'CRI-M'!P134)-'CTG-FF'!L8)>=1000,\"Se observa diferencia entre la estimación de ingresos otros recursos de transferencia federal etiquetados (27) y los egresos pagaderos con dicha fuente de financiamiento.\",\"\")","v":""}]
[]
[null,"Inconsistencia relacionada con el monto presupuestado en sus diferentes clasificadores:"]
[null,{"$f":"IF(CF!C146=0,\"\",IF(ABS('COG-RYP'!E24-CF!C146)>=1000,\"El total del presupuesto de egresos en su clasificación por objeto del gasto difiere con el total de los egresos por clasificación funcional del gasto.\",\"\"))","v":""}]
[]
[null,{"$f":"IF(CA!D76=0,\"\",IF(ABS('COG-RYP'!E24-CA!D76)>=1000,\"El total del presupuesto de egresos en su clasificación por objeto del gasto difiere con el total de los egresos en la clasificación administrativa.\",\"\"))","v":""}]
[]
[null,"Gráficos"]

{"sheet":"CRI-M","index":3,"n_rows":147,"n_cols":16,"rows_kept":147,"merged":[[146,0,146,1]]}
["CRI-LI",null,"FF","ENERO","FEBRERO","MARZO","ABRIL","MAYO","JUNIO","JULIO","AGOSTO","SEPTIEMBRE","OCTUBRE","NOVIEMBRE","DICIEMBRE","TOTAL"]
[1000,"IMPUESTOS",null,{"$f":"D3+D5+D9+D10+D11+D12+D13+D19","v":{"v":180374,"d":"180,374"}},{"$f":"E3+E5+E9+E10+E11+E12+E13+E19","v":{"v":180374,"d":"180,374"}},{"v":180374,"d":"180,374"},{"v":180374,"d":"180,374"},{"v":180374,"d":"180,374"},{"v":180374,"d":"180,374"},{"v":180374,"d":"180,374"},{"v":180374,"d":"180,374"},{"v":180374,"d":"180,374"},{"v":180374,"d":"180,374"},{"v":180374,"d":"180,374"},{"v":180374,"d":"180,374"},{"$f":"SUM(D2:O2)","v":{"v":2164488,"d":"2,164,488"}}]
[1100,"Impuestos sobre los ingresos",null,{"$f":"SUM(D4)","v":0},{"$f":"SUM(E4)","v":0},0,0,0,0,0,0,0,0,0,0,{"$f":"SUM(D3:O3)","v":0}]
[1101,"Impuestos sobre espectáculos públicos",11,{"$nulls":12},0]
[1200,"Impuestos sobre el patrimonio",null,{"$f":"SUM(D6:D8)","v":{"v":159541,"d":"159,541"}},{"$f":"SUM(E6:E8)","v":{"v":159541,"d":"159,541"}},{"v":159541,"d":"159,541"},{"v":159541,"d":"159,541"},{"v":159541,"d":"159,541"},{"v":159541,"d":"159,541"},{"v":159541,"d":"159,541"},{"v":159541,"d":"159,541"},{"v":159541,"d":"159,541"},{"v":159541,"d":"159,541"},{"v":159541,"d":"159,541"},{"v":159541,"d":"159,541"},{"v":1914492,"d":"1,914,492"}]
[1201,"Impuesto predial",11,{"v":133064,"d":"133,064"},{"v":133064,"d":"133,064"},{"v":133064,"d":"133,064"},{"v":133064,"d":"133,064"},{"v":133064,"d":"133,064"},{"v":133064,"d":"133,064"},{"v":133064,"d":"133,064"},{"v":133064,"d":"133,064"},{"v":133064,"d":"133,064"},{"v":133064,"d":"133,064"},{"v":133064,"d":"133,064"},{"v":133064,"d":"133,064"},{"v":1596768,"d":"1,596,768"}]
[1202,"Impuestos sobre transmisiones patrimoniales",11,{"v":26477,"d":"26,477"},{"v":26477,"d":"26,477"},{"v":26477,"d":"26,477"},{"v":26477,"d":"26,477"},{"v":26477,"d":"26,477"},{"v":26477,"d":"26,477"},{"v":26477,"d":"26,477"},{"v":26477,"d":"26,477"},{"v":26477,"d":"26,477"},{"v":26477,"d":"26,477"},{"v":26477,"d":"26,477"},{"v":26477,"d":"26,477"},{"v":317724,"d":"317,724"}]
[1203,"Impuestos sobre negocios jurídicos",11,{"$nulls":12},0]
[1300,"Impuestos sobre la producción, el consumo y las transacciones",null,0,0,0,0,0,0,0,0,0,0,0,0,0]
[1400,"Impuestos al comercio exterior",null,0,0,0,0,0,0,0,0,0,0,0,0,0]
[1500,"Impuestos sobre nóminas y asimilables",null,0,0,0,0,0,0,0,0,0,0,0,0,0]
[1600,"Impuestos ecológicos",null,0,0,0,0,0,0,0,0,0,0,0,0,0]
[1700,"Accesorios de impuestos",null,{"$f":"SUM(D14:D18)","v":{"v":20833,"d":"20,833"}},{"$f":"SUM(E14:E18)","v":{"v":20833,"d":"20,833"}},{"v":20833,"d":"20,833"},{"v":20833,"d":"20,833"},{"v":20833,"d":"20,833"},{"v":20833,"d":"20,833"},{"v":20833,"d":"20,833"},{"v":20833,"d":"20,833"},{"v":20833,"d":"20,833"},{"v":20833,"d":"20,833"},{"v":20833,"d":"20,833"},{"v":20833,"d":"20,833"},{"v":249996,"d":"249,996"}]
[1701,"Recargos",11,{"v":20833,"d":"20,833"},{"v":20833,"d":"20,833"},{"v":20833,"d":"20,833"},{"v":20833,"d":"20,833"},{"v":20833,"d":"20,833"},{"v":20833,"d":"20,833"},{"v":20833,"d":"20,833"},{"v":20833,"d":"20,833"},{"v":20833,"d":"20,833"},{"v":20833,"d":"20,833"},{"v":20833,"d":"20,833"},{"v":20833,"d":"20,833"},{"v":249996,"d":"249,996"}]
[1702,"Actualizaciones",11,{"$nulls":12},0]
[1703,"Multas",11,{"$nulls":12},0]
[1704,"Gastos de ejecución",11,{"$nulls":12},0]
[1709,"Otros no especificados",11,{"$nulls":12},0]
[1800,"Otros impuestos",null,{"$f":"SUM(D20)","v":0},{"$f":"SUM(E20)","v":0},0,0,0,0,0,0,0,0,0,0,0]
[1801,"Otros impuestos",11,{"$nulls":12},0]
[2000,"CUOTAS Y APORTACIONES DE SEGURIDAD SOCIAL",null,{"$f":"SUM(D22:D26)","v":0},{"$f":"SUM(E22:E26)","v":0},0,0,0,0,0,0,0,0,0,0,0]
[2100,"Aportaciones para fondos de vivienda",{"$nulls":13},0]
[2200,"Cuotas para la seguridad social",{"$nulls":13},0]
[2300,"Cuotas de ahorro para el retiro",{"$nulls":13},0]
[2400,"Otras cuotas y aportaciones para la seguridad social",{"$nulls":13},0]
[2500,"Accesorios de cuotas y aportaciones de seguridad social",{"$nulls":13},0]
[3000,"CONTRIBUCIONES DE MEJORAS",null,{"$f":"SUM(D28)","v":0},{"$f":"SUM(E28)","v":0},0,0,0,0,0,0,0,0,0,0,0]
[3100,"Contribuciones de mejoras por obras públicas",null,{"$f":"SUM(D29)","v":0},0,0,0,0,0,0,0,0,0,0,0,0]
[3101,"Contribuciones de mejoras por obras públicas",11,{"$nulls":12},0]
[4000,"DERECHOS",null,{"$f":"D31+D36+D37+D52+D54","v":{"v":180561,"d":"180,561"}},{"$f":"E31+E36+E37+E52+E54","v":{"v":180561,"d":"180,561"}},{"v":180561,"d":"180,561"},{"v":180561,"d":"180,561"},{"v":180561,"d":"180,561"},{"v":180561,"d":"180,561"},{"v":180561,"d":"180,561"},{"v":180561,"d":"180,561"},{"v":180561,"d":"180,561"},{"v":180561,"d":"180,561"},{"v":180561,"d":"180,561"},{"v":180561,"d":"180,561"},{"v":2166732,"d":"2,166,732"}]
[4100,"Derechos por el uso, goce, aprovechamiento o explotación de bienes de dominio público",null,{"$f":"SUM(D32:D35)","v":{"v":1395,"d":"1,395"}},{"$f":"SUM(E32:E35)","v":{"v":1395,"d":"1,395"}},{"v":1395,"d":"1,395"},{"v":1395,"d":"1,395"},{"v":1395,"d":"1,395"},{"v":1395,"d":"1,395"},{"v":1395,"d":"1,395"},{"v":1395,"d":"1,395"},{"v":1395,"d":"1,395"},{"v":1395,"d":"1,395"},{"v":1395,"d":"1,395"},{"v":1395,"d":"1,395"},{"v":16740,"d":"16,740"}]
[4101,"Derechos por el uso del piso",11,{"$nulls":12},0]
[4102,"Derechos por el uso de los estacionamientos",11,{"$nulls":12},0]
[4103,"Derechos de uso de cementerios y panteones municipales",11,{"v":1395,"d":"1,395"},{"v":1395,"d":"1,395"},{"v":1395,"d":"1,395"},{"v":1395,"d":"1,395"},{"v":1395,"d":"1,395"},{"v":1395,"d":"1,395"},{"v":1395,"d":"1,395"},{"v":1395,"d":"1,395"},{"v":1395,"d":"1,395"},{"v":1395,"d":"1,395"},{"v":1395,"d":"1,395"},{"v":1395,"d":"1,395"},{"v":16740,"d":"16,740"}]
[4104,"Derechos de concesiones y demás inmuebles de propiedad municipal",11,{"$nulls":12},0]
[4200,"Derechos a los hidrocarburos (Derogado)",{"$nulls":13},0]
[4300,"Derechos por prestación de servicios",null,{"$f":"SUM(D38:D51)","v":{"v":179166,"d":"179,166"}},{"$f":"SUM(E38:E51)","v":{"v":179166,"d":"179,166"}},{"v":179166,"d":"179,166"},{"v":179166,"d":"179,166"},{"v":179166,"d":"179,166"},{"v":179166,"d":"179,166"},{"v":179166,"d":"179,166"},{"v":179166,"d":"179,166"},{"v":179166,"d":"179,166"},{"v":179166,"d":"179,166"},{"v":179166,"d":"179,166"},{"v":179166,"d":"179,166"},{"v":2149992,"d":"2,149,992"}]
[4301,"Derechos de licencias y permisos de giros",11,{"v":11939,"d":"11,939"},{"v":11939,"d":"11,939"},{"v":11939,"d":"11,939"},{"v":11939,"d":"11,939"},{"v":11939,"d":"11,939"},{"v":11939,"d":"11,939"},{"v":11939,"d":"11,939"},{"v":11939,"d":"11,939"},{"v":11939,"d":"11,939"},{"v":11939,"d":"11,939"},{"v":11939,"d":"11,939"},{"v":11939,"d":"11,939"},{"v":143268,"d":"143,268"}]
[4302,"Derechos de licencias y permisos de anuncios",11,559,559,559,559,559,559,559,559,559,559,559,559,{"v":6708,"d":"6,708"}]
[4303,"Derechos de licencias de construcción, reconstrucción, reparación o demolición de obras",11,{"$nulls":12},0]
[4304,"Derechos de regularizaciones de los registros de obra",11,{"$nulls":12},0]
[4305,"Derechos de alineamiento, designación de número oficial e inspección",11,{"$nulls":12},0]
[4306,"Derechos de licencias de cambio de régimen de propiedad y urbanización",11,{"$nulls":12},0]
[4307,"Derechos de servicios de obra",11,{"$nulls":12},0]
[4308,"Derechos de servicios de sanidad",11,{"$nulls":12},0]
[4309,"Derechos de servicio de limpieza, recolección, traslado, tratamiento y disposición final de residuos",11,{"$nulls":12},0]
[4310,"Derechos de agua potable, drenaje, alcantarillado, tratamiento y disposición final de aguas residuales",11,{"v":127684,"d":"127,684"},{"v":127684,"d":"127,684"},{"v":127684,"d":"127,684"},{"v":127684,"d":"127,684"},{"v":127684,"d":"127,684"},{"v":127684,"d":"127,684"},{"v":127684,"d":"127,684"},{"v":127684,"d":"127,684"},{"v":127684,"d":"127,684"},{"v":127684,"d":"127,684"},{"v":127684,"d":"127,684"},{"v":127684,"d":"127,684"},{"v":1532208,"d":"1,532,208"}]
[4311,"Derechos del rastro",11,{"v":8549,"d":"8,549"},{"v":8549,"d":"8,549"},{"v":8549,"d":"8,549"},{"v":8549,"d":"8,549"},{"v":8549,"d":"8,549"},{"v":8549,"d":"8,549"},{"v":8549,"d":"8,549"},{"v":8549,"d":"8,549"},{"v":8549,"d":"8,549"},{"v":8549,"d":"8,549"},{"v":8549,"d":"8,549"},{"v":8549,"d":"8,549"},{"v":102588,"d":"102,588"}]
[4312,"Derechos del registro civil",11,{"v":20289,"d":"20,289"},{"v":20289,"d":"20,289"},{"v":20289,"d":"20,289"},{"v":20289,"d":"20,289"},{"v":20289,"d":"20,289"},{"v":20289,"d":"20,289"},{"v":20289,"d":"20,289"},{"v":20289,"d":"20,289"},{"v":20289,"d":"20,289"},{"v":20289,"d":"20,289"},{"v":20289,"d":"20,289"},{"v":20289,"d":"20,289"},{"v":243468,"d":"243,468"}]
[4313,"Derechos de las certificaciones",11,{"v":8782,"d":"8,782"},{"v":8782,"d":"8,782"},{"v":8782,"d":"8,782"},{"v":8782,"d":"8,782"},{"v":8782,"d":"8,782"},{"v":8782,"d":"8,782"},{"v":8782,"d":"8,782"},{"v":8782,"d":"8,782"},{"v":8782,"d":"8,782"},{"v":8782,"d":"8,782"},{"v":8782,"d":"8,782"},{"v":8782,"d":"8,782"},{"v":105384,"d":"105,384"}]
[4314,"Derechos de los servicios de catastro",11,{"v":1364,"d":"1,364"},{"v":1364,"d":"1,364"},{"v":1364,"d":"1,364"},{"v":1364,"d":"1,364"},{"v":1364,"d":"1,364"},{"v":1364,"d":"1,364"},{"v":1364,"d":"1,364"},{"v":1364,"d":"1,364"},{"v":1364,"d":"1,364"},{"v":1364,"d":"1,364"},{"v":1364,"d":"1,364"},{"v":1364,"d":"1,364"},{"v":16368,"d":"16,368"}]
[4400,"Otros derechos",null,{"$f":"SUM(D53)","v":0},{"$f":"SUM(E53)","v":0},0,0,0,0,0,0,0,0,0,0,0]
[4401,"Otros derechos",11,{"$nulls":12},0]
[4500,"Accesorios de derechos",null,{"$f":"SUM(D55:D59)","v":0},{"$f":"SUM(E55:E59)","v":0},0,0,0,0,0,0,0,0,0,0,0]
[4501,"Recargos",11,{"$nulls":12},0]
[4502,"Actualizaciones",11,{"$nulls":12},0]
[4503,"Multas",11,{"$nulls":12},0]
[4504,"Gastos de ejecución",11,{"$nulls":12},0]
[4509,"Otros no especificados",11,{"$nulls":12},0]
[5000,"PRODUCTOS",null,{"$f":"D61+D64","v":{"v":52663,"d":"52,663"}},{"$f":"E61+E64","v":{"v":52663,"d":"52,663"}},{"v":52663,"d":"52,663"},{"v":52663,"d":"52,663"},{"v":52663,"d":"52,663"},{"v":52663,"d":"52,663"},{"v":52663,"d":"52,663"},{"v":52663,"d":"52,663"},{"v":52663,"d":"52,663"},{"v":52663,"d":"52,663"},{"v":52663,"d":"52,663"},{"v":52663,"d":"52,663"},{"v":631956,"d":"631,956"}]
[5100,"Productos",null,{"$f":"SUM(D62:D63)","v":{"v":52663,"d":"52,663"}},{"$f":"SUM(E62:E63)","v":{"v":52663,"d":"52,663"}},{"v":52663,"d":"52,663"},{"v":52663,"d":"52,663"},{"v":52663,"d":"52,663"},{"v":52663,"d":"52,663"},{"v":52663,"d":"52,663"},{"v":52663,"d":"52,663"},{"v":52663,"d":"52,663"},{"v":52663,"d":"52,663"},{"v":52663,"d":"52,663"},{"v":52663,"d":"52,663"},{"v":631956,"d":"631,956"}]
[5101,"Uso, goce, aprovechamiento o explotación de bienes de dominio privado",11,{"$nulls":12},0]
[5102,"Productos diversos",11,{"v":52663,"d":"52,663"},{"v":52663,"d":"52,663"},{"v":52663,"d":"52,663"},{"v":52663,"d":"52,663"},{"v":52663,"d":"52,663"},{"v":52663,"d":"52,663"},{"v":52663,"d":"52,663"},{"v":52663,"d":"52,663"},{"v":52663,"d":"52,663"},{"v":52663,"d":"52,663"},{"v":52663,"d":"52,663"},{"v":52663,"d":"52,663"},{"v":631956,"d":"631,956"}]
[5200,"Productos de capital (Derogado)",{"$nulls":13},0]
[6000,"APROVECHAMIENTOS",null,{"$f":"D66+D70+D73","v":{"v":7203,"d":"7,203"}},{"$f":"E66+E70+E73","v":{"v":7203,"d":"7,203"}},{"v":7203,"d":"7,203"},{"v":7203,"d":"7,203"},{"v":7203,"d":"7,203"},{"v":7203,"d":"7,203"},{"v":7203,"d":"7,203"},{"v":7203,"d":"7,203"},{"v":7203,"d":"7,203"},{"v":7203,"d":"7,203"},{"v":7203,"d":"7,203"},{"v":7203,"d":"7,203"},{"v":86436,"d":"86,436"}]
[6100,"Aprovechamientos",null,{"$f":"SUM(D67:D69)","v":0},{"$f":"SUM(E67:E69)","v":0},0,0,0,0,0,0,0,0,0,0,0]
[6101,"Aprovechamientos de las sanciones, multas, honorarios y donativos",11,{"$nulls":12},{"$f":"SUM(D67:O67)","v":0}]
[6102,"Aprovechamientos de las indemnizaciones a favor del municipio",11,{"$nulls":12},0]
[6103,"Otros aprovechamientos",11,{"$nulls":12},0]
[6200,"Aprovechamientos patrimoniales",null,{"$f":"SUM(D71:D72)","v":0},{"$f":"SUM(E71:E72)","v":0},0,0,0,0,0,0,0,0,0,0,0]
[6201,"Aprovechamientos por el uso o enajenación de bienes",11,{"$nulls":12},0]
[6202,"Aprovechamientos por recuperación de capital o patrimonio invertido",11,{"$nulls":12},0]
[6300,"Accesorios de aprovechamientos",null,{"$f":"SUM(D74:D78)","v":{"v":7203,"d":"7,203"}},{"$f":"SUM(E74:E78)","v":{"v":7203,"d":"7,203"}},{"v":7203,"d":"7,203"},{"v":7203,"d":"7,203"},{"v":7203,"d":"7,203"},{"v":7203,"d":"7,203"},{"v":7203,"d":"7,203"},{"v":7203,"d":"7,203"},{"v":7203,"d":"7,203"},{"v":7203,"d":"7,203"},{"v":7203,"d":"7,203"},{"v":7203,"d":"7,203"},{"v":86436,"d":"86,436"}]
[6301,"Recargos",11,{"$nulls":12},0]
[6302,"Actualizaciones",11,{"$nulls":12},0]
[6303,"Multas",11,{"v":2267,"d":"2,267"},{"v":2267,"d":"2,267"},{"v":2267,"d":"2,267"},{"v":2267,"d":"2,267"},{"v":2267,"d":"2,267"},{"v":2267,"d":"2,267"},{"v":2267,"d":"2,267"},{"v":2267,"d":"2,267"},{"v":2267,"d":"2,267"},{"v":2267,"d":"2,267"},{"v":2267,"d":"2,267"},{"v":2267,"d":"2,267"},{"v":27204,"d":"27,204"}]
[6304,"Gastos de ejecución",11,{"$nulls":12},0]
[6309,"Otros no especificados",11,{"v":4936,"d":"4,936"},{"v":4936,"d":"4,936"},{"v":4936,"d":"4,936"},{"v":4936,"d":"4,936"},{"v":4936,"d":"4,936"},{"v":4936,"d":"4,936"},{"v":4936,"d":"4,936"},{"v":4936,"d":"4,936"},{"v":4936,"d":"4,936"},{"v":4936,"d":"4,936"},{"v":4936,"d":"4,936"},{"v":4936,"d":"4,936"},{"v":59232,"d":"59,232"}]
[7000,"INGRESOS POR VENTAS DE BIENES, PRESTACIÓN DE SERVICIOS Y OTROS INGRESOS",null,{"$f":"D80+D82+D83+D85+D86+D87+D88+D90+D91","v":208},{"$f":"E80+E82+E83+E85+E86+E87+E88+E90+E91","v":208},208,208,208,208,208,208,208,208,208,208,{"v":2496,"d":"2,496"}]
[7100,"Ingresos por venta de bienes y prestación de servicios de instituciones públicas de seguridad social",null,{"$f":"SUM(D81)","v":0},{"$f":"SUM(E81)","v":0},0,0,0,0,0,0,0,0,0,0,0]
[7101,"Ingresos por venta de bienes y prestación de servicios de instituciones públicas de seguridad social",14,{"$nulls":12},0]
[7200,"Ingresos por venta de bienes y prestación de servicios de empresas productivas del estado",{"$nulls":13},0]
[7300,"Ingresos por venta de bienes y prestación de servicios de entidades paraestatales y fideicomisos no empresariales y no financieros",null,{"$f":"SUM(D84)","v":0},{"$f":"SUM(E84)","v":0},0,0,0,0,0,0,0,0,0,0,0]
[7301,"Ingresos por venta de bienes y prestación de servicios de entidades paraestatales y fideicomisos no empresariales y no financieros",14,{"$nulls":12},0]
[7400,"Ingresos por venta de bienes y prestación de servicios de entidades paraestatales empresariales no financieras con participación estatal mayoritaria",{"$nulls":13},0]
[7500,"Ingresos por venta de bienes y prestación de servicios de entidades paraestatales empresariales financieras monetarias con participación estatal mayoritaria",{"$nulls":13},0]
[7600,"Ingresos por venta de bienes y prestación de servicios de entidades paraestatales empresariales financieras no monetarias con participación estatal mayoritaria",{"$nulls":13},0]
[7700,"Ingresos por venta de bienes y prestación de servicios de fideicomisos financieros públicos con participación estatal mayoritaria",null,{"$f":"SUM(D89)","v":0},{"$f":"SUM(E89)","v":0},0,0,0,0,0,0,0,0,0,0,0]
[7701,"Ingresos por venta de bienes y prestación de servicios de fideicomisos financieros públicos con participación estatal mayoritaria",14,{"$nulls":12},0]
[7800,"Ingresos por venta de bienes y prestación de servicios de los poderes legislativo y judicial, y de los órganos autónomos",{"$nulls":13},0]
[7900,"Otros ingresos",null,{"$f":"SUM(D92)","v":208},{"$f":"SUM(E92)","v":208},208,208,208,208,208,208,208,208,208,208,{"v":2496,"d":"2,496"}]
[7901,"Otros ingresos",14,208,208,208,208,208,208,208,208,208,208,208,208,{"v":2496,"d":"2,496"}]
[8000,"PARTICIPACIONES, APORTACIONES, CONVENIOS, INCENTIVOS DERIVADOS DE LA COLABORACIÓN FISCAL Y FONDOS DISTINTOS DE LAS APORTACIONES",null,{"$f":"D94+D107+D110+D117+D123","v":{"v":8498031,"d":"8,498,031"}},{"$f":"E94+E107+E110+E117+E123","v":{"v":8498031,"d":"8,498,031"}},{"v":8498031,"d":"8,498,031"},{"v":8498031,"d":"8,498,031"},{"v":8498031,"d":"8,498,031"},{"v":8498031,"d":"8,498,031"},{"v":8498031,"d":"8,498,031"},{"v":8498031,"d":"8,498,031"},{"v":8498031,"d":"8,498,031"},{"v":8498031,"d":"8,498,031"},{"v":8498031,"d":"8,498,031"},{"v":8498047,"d":"8,498,047"},{"v":101976388,"d":"101,976,388"}]
[8100,"Participaciones",null,{"$f":"SUM(D95:D106)","v":{"v":7307724,"d":"7,307,724"}},{"$f":"SUM(E95:E106)","v":{"v":7307724,"d":"7,307,724"}},{"v":7307724,"d":"7,307,724"},{"v":7307724,"d":"7,307,724"},{"v":7307724,"d":"7,307,724"},{"v":7307724,"d":"7,307,724"},{"v":7307724,"d":"7,307,724"},{"v":7307724,"d":"7,307,724"},{"v":7307724,"d":"7,307,724"},{"v":7307724,"d":"7,307,724"},{"v":7307724,"d":"7,307,724"},{"v":7307740,"d":"7,307,740"},{"v":87692704,"d":"87,692,704"}]
[8101,"Fondo general de participaciones (federal)",15,{"v":7301752,"d":"7,301,752"},{"v":7301752,"d":"7,301,752"},{"v":7301752,"d":"7,301,752"},{"v":7301752,"d":"7,301,752"},{"v":7301752,"d":"7,301,752"},{"v":7301752,"d":"7,301,752"},{"v":7301752,"d":"7,301,752"},{"v":7301752,"d":"7,301,752"},{"v":7301752,"d":"7,301,752"},{"v":7301752,"d":"7,301,752"},{"v":7301752,"d":"7,301,752"},{"v":7301768,"d":"7,301,768"},{"v":87621040,"d":"87,621,040"}]
[8102,"Fondo de fomento municipal (federal)",15,{"$nulls":12},0]
[8103,"Fondo de fiscalización y recaudación (federal)",15,{"$nulls":12},0]
[8104,"Fondo de compensación (federal)",15,{"$nulls":12},0]
[8105,"Fondo de extracción de hidrocarburos (federal)",15,{"$nulls":12},0]
[8106,"Impuesto especial sobre producción y servicios (federal)",15,{"$nulls":12},0]
[8107,"0.136% de la recaudación federal participable (federal)",15,{"$nulls":12},0]
[8108,"3.17% sobre extracción de petróleo (federal)",15,{"$nulls":12},0]
[8109,"Gasolinas y diésel (federal)",15,{"$nulls":12},0]
[8110,"Fondo del impuesto sobre la renta (federal)",15,{"$nulls":12},0]
[8111,"Fondo de estabilización de los ingresos de las entidades federativas (federal)",15,{"$nulls":12},0]
[8112,"Participaciones del estado",16,{"v":5972,"d":"5,972"},{"v":5972,"d":"5,972"},{"v":5972,"d":"5,972"},{"v":5972,"d":"5,972"},{"v":5972,"d":"5,972"},{"v":5972,"d":"5,972"},{"v":5972,"d":"5,972"},{"v":5972,"d":"5,972"},{"v":5972,"d":"5,972"},{"v":5972,"d":"5,972"},{"v":5972,"d":"5,972"},{"v":5972,"d":"5,972"},{"v":71664,"d":"71,664"}]
[8200,"Aportaciones",null,{"$f":"SUM(D108:D109)","v":{"v":1190307,"d":"1,190,307"}},{"$f":"SUM(E108:E109)","v":{"v":1190307,"d":"1,190,307"}},{"v":1190307,"d":"1,190,307"},{"v":1190307,"d":"1,190,307"},{"v":1190307,"d":"1,190,307"},{"v":1190307,"d":"1,190,307"},{"v":1190307,"d":"1,190,307"},{"v":1190307,"d":"1,190,307"},{"v":1190307,"d":"1,190,307"},{"v":1190307,"d":"1,190,307"},{"v":1190307,"d":"1,190,307"},{"v":1190307,"d":"1,190,307"},{"v":14283684,"d":"14,283,684"}]
[8201,"Fondo de aportaciones para la infraestructura social municipal",25,{"v":556369,"d":"556,369"},{"v":556369,"d":"556,369"},{"v":556369,"d":"556,369"},{"v":556369,"d":"556,369"},{"v":556369,"d":"556,369"},{"v":556369,"d":"556,369"},{"v":556369,"d":"556,369"},{"v":556369,"d":"556,369"},{"v":556369,"d":"556,369"},{"v":556369,"d":"556,369"},{"v":556369,"d":"556,369"},{"v":556369,"d":"556,369"},{"v":6676428,"d":"6,676,428"}]
[8202,"Fondo de aportaciones para el fortalecimiento municipal",25,{"v":633938,"d":"633,938"},{"v":633938,"d":"633,938"},{"v":633938,"d":"633,938"},{"v":633938,"d":"633,938"},{"v":633938,"d":"633,938"},{"v":633938,"d":"633,938"},{"v":633938,"d":"633,938"},{"v":633938,"d":"633,938"},{"v":633938,"d":"633,938"},{"v":633938,"d":"633,938"},{"v":633938,"d":"633,938"},{"v":633938,"d":"633,938"},{"v":7607256,"d":"7,607,256"}]
[8300,"Convenios",null,{"$f":"SUM(D111:D116)","v":0},{"$f":"SUM(E111:E116)","v":0},0,0,0,0,0,0,0,0,0,{"$f":"SUM(O111:O116)","v":0},{"$f":"SUM(D110:O110)","v":0}]
[8301,"Convenios de protección social en salud",17,{"$nulls":12},0]
[8302,"Convenios de descentralizados",17,{"$nulls":12},0]
[8303,"Convenio de reasignación",17,{"$nulls":12},0]
[8304,"Otros convenios y subsidios (Con ingresos de libre disposición)",17,{"$nulls":12},0]
[8304,"Otros convenios y subsidios (Con ingresos etiquetados federales)",25,{"$nulls":12},0]
[8304,"Otros convenios y subsidios (Con ingresos etiquetados estatales)",26,{"$nulls":12},{"$f":"SUM(D116:O116)","v":0}]
[8400,"Incentivos derivados de la colaboración fiscal",null,{"$f":"SUM(D118:D122)","v":0},{"$f":"SUM(E118:E122)","v":0},0,0,0,0,0,0,0,0,0,0,0]
[8401,"Tenencia o uso de vehículos",15,{"$nulls":12},0]
[8402,"Fondo de compensación ISAN",15,{"$nulls":12},0]
[8403,"Impuesto sobre automóviles nuevos",15,{"$nulls":12},0]
[8404,"Fondo de compensación de repecos-intermedios",15,{"$nulls":12},0]
[8405,"Otros incentivos económicos",15,{"$nulls":12},0]
[8500,"Fondos distintos de aportaciones",null,{"$f":"SUM(D124:D125)","v":0},{"$f":"SUM(E124:E125)","v":0},0,0,0,0,0,0,0,0,0,0,0]
[8501,"Fondo para entidades federativas y municipios productores de hidrocarburos",25,{"$nulls":12},0]
[8502,"Fondo minero",25,{"$nulls":12},0]
[9000,"TRANSFERENCIAS, ASIGNACIONES, SUBSIDIOS Y SUBVENCIONES Y PENSIONES Y JUBILACIONES",null,{"$f":"D127+D131+D132+D136+D137+D139+D140","v":0},{"$f":"E127+E131+E132+E136+E137+E139+E140","v":0},0,0,0,0,0,0,0,0,0,0,0]
[9100,"Transferencias y asignaciones",null,{"$f":"SUM(D128:D130)","v":0},{"$f":"SUM(E128:E130)","v":0},{"$f":"SUM(F128:F130)","v":0},0,0,0,0,0,0,0,0,{"$f":"SUM(O128:O130)","v":0},{"$f":"SUM(D127:O127)","v":0}]
[9101,"Transferencias y asignaciones (Con ingresos de libre disposición)",17,{"$nulls":12},{"$f":"SUM(D128:O128)","v":0}]
[9101,"Transferencias y asignaciones (Con ingresos etiquetados federales)",27,{"$nulls":12},0]
[9101,"Transferencias y asignaciones (Con ingresos etiquetados estatales)",26,{"$nulls":12},0]
[9200,"Transferencias al resto del sector público (derogado)",{"$nulls":13},0]
[9300,"Subsidios y subvenciones",null,{"$f":"SUM(D133:D135)","v":0},{"$f":"SUM(E133:E135)","v":0},{"$f":"SUM(F133:F135)","v":0},0,0,0,0,0,0,0,0,{"$f":"SUM(O133:O135)","v":0},{"$f":"SUM(D132:O132)","v":0}]
[9301,"Subsidios y subvenciones (Con ingresos de libre disposición)",17,{"$nulls":12},{"$f":"SUM(D133:O133)","v":0}]
[9301,"Subsidios y subvenciones (Con ingresos etiquetados federales)",27,{"$nulls":12},0]
[9301,"Subsidios y subvenciones (Con ingresos etiquetados estatales)",26,{"$nulls":12},0]
[9400,"Ayudas sociales (derogado)",{"$nulls":13},0]
[9500,"Pensiones y jubilaciones",null,{"$f":"SUM(D138)","v":0},{"$f":"SUM(E138)","v":0},0,0,0,0,0,0,0,0,0,0,0]
[9501,"Pensiones y jubilaciones",17,{"$nulls":12},0]
[9600,"Transferencias a fideicomisos, mandatos y análogos (derogado)",{"$nulls":13},0]
[9700,"Transferencias del fondo mexicano del petróleo para la estabilización y el desarrollo",null,{"$f":"SUM(D141)","v":0},{"$f":"SUM(E141)","v":0},0,0,0,0,0,0,0,0,0,0,0]
[9701,"Transferencias del fondo mexicano del petróleo para la estabilización y el desarrollo",17,{"$nulls":12},0]
[{"v":0,"d":"0000"},"INGRESOS DERIVADOS DE FINANCIAMIENTO",null,{"$f":"D143+D144+D145","v":0},{"$f":"E143+E144+E145","v":0},0,0,0,0,0,0,0,0,0,0,0]
[{"v":100,"d":"0100"},"Endeudamiento interno",{"$nulls":13},0]
[{"v":200,"d":"0200"},"Endeudamiento externo",{"$nulls":13},0]
[{"v":300,"d":"0300"},"Financiamiento interno",null,{"$f":"SUM(D146)","v":0},{"$f":"SUM(E146)","v":0},0,0,0,0,0,0,0,0,0,0,0]
[{"v":301,"d":"0301"},"Financiamiento interno",12,{"$nulls":12},0]
["ESTIMACIÓN DE INGRESOS",null,null,{"$f":"D2+D21+D27+D30+D60+D65+D79+D93+D126+D142","v":{"v":8919040,"d":"8,919,040"}},{"$f":"E2+E21+E27+E30+E60+E65+E79+E93+E126+E142","v":{"v":8919040,"d":"8,919,040"}},{"v":8919040,"d":"8,919,040"},{"v":8919040,"d":"8,919,040"},{"v":8919040,"d":"8,919,040"},{"v":8919040,"d":"8,919,040"},{"v":8919040,"d":"8,919,040"},{"v":8919040,"d":"8,919,040"},{"v":8919040,"d":"8,919,040"},{"v":8919040,"d":"8,919,040"},{"v":8919040,"d":"8,919,040"},{"v":8919056,"d":"8,919,056"},{"v":107028496,"d":"107,028,496"}]

{"sheet":"COG-M","index":4,"n_rows":3029,"n_cols":16,"rows_kept":3029,"merged":[[1,1,1,2],[2,1,2,2],[3,0,12,0],[3,1,12,1],[14,0,23,0],[14,1,23,1],[24,0,33,0],[24,1,33,1],[34,1,34,2],[35,0,44,0],[35,1,44,1],[45,0,54,0],[45,1,54,1],[55,0,64,0],[55,1,64,1],[66,1,66,2],[67,0,76,0],[67,1,76,1],[77,0,86,0],[77,1,86,1],[87,0,96,0],[87,1,96,1],[97,0,106,0],[97,1,106,1],[109,0,118,0],[109,1,118,1],[119,0,128,0],[119,1,128,1],[129,1,129,2],[130,0,139,0],[130,1,139,1],[140,0,149,0],[140,1,149,1],[150,0,159,0],[150,1,159,1],[160,0,169,0],[160,1,169,1],[170,1,170,2],[171,0,180,0],[171,1,180,1],[181,0,190,0],[181,1,190,1],[191,0,200,0],[191,1,200,1],[201,0,210,0],[201,1,210,1],[211,0,220,0],[211,1,220,1],[221,0,230,0],[221,1,230,1],[231,1,231,2],[232,0,241,0],[232,1,241,1],[242,1,242,2],[243,0,252,0],[243,1,252,1],[253,0,262,0],[253,1,262,1],[263,1,263,2],[264,1,264,2],[265,0,274,0],[265,1,274,1],[275,0,284,0],[275,1,284,1],[285,0,294,0],[285,1,294,1],[295,0,304,0],[295,1,304,1],[305,0,314,0],[305,1,314,1],[315,0,324,0],[315,1,324,1],[325,0,334,0],[325,1,334,1],[335,0,344,0],[335,1,344,1],[345,1,345,2],[346,0,355,0],[346,1,355,1],[356,0,365,0],[356,1,365,1],[366,0,375,0],[366,1,375,1],[376,1,376,2],[386,1,386,2],[387,0,396,0],[387,1,396,1],[397,0,406,0],[397,1,406,1],[407,0,416,0],[407,1,416,1],[417,0,426,0],[417,1,426,1],[427,0,436,0],[427,1,436,1],[437,0,446,0],[437,1,446,1],[447,0,456,0],[447,1,456,1],[457,0,466,0],[457,1,466,1],[467,0,476,0],[467,1,476,1],[477,1,477,2],[478,0,487,0],[478,1,487,1],[488,0,497,0],[488,1,497,1],[498,0,507,0],[498,1,507,1],[508,0,517,0],[508,1,517,1],[518,0,527,0],[518,1,527,1],[528,0,537,0],[528,1,537,1],[538,0,547,0],[538,1,547,1],[548,1,548,2],[549,0,558,0],[549,1,558,1],[559,0,568,0],[559,1,568,1],[569,1,569,2],[570,0,579,0],[570,1,579,1],[580,0,589,0],[580,1,589,1],[590,0,599,0],[590,1,599,1],[600,0,609,0],[600,1,609,1],[610,0,619,0],[610,1,619,1],[620,1,620,2],[621,0,630,0],[621,1,630,1],[631,0,640,0],[631,1,640,1],[641,0,650,0],[641,1,650,1],[651,1,651,2],[652,0,661,0],[652,1,661,1],[662,0,668,0],[662,1,668,1],[672,0,681,0],[672,1,681,1],[682,0,691,0],[682,1,691,1],[692,0,701,0],[692,1,701,1],[702,0,711,0],[702,1,711,1],[712,0,721,0],[712,1,721,1],[722,0,731,0],[722,1,731,1],[732,0,741,0],[732,1,741,1],[742,1,742,2],[743,1,743,2],[744,0,753,0],[744,1,753,1],[754,0,763,0],[754,1,763,1],[764,0,773,0],[764,1,773,1],[774,0,783,0],[774,1,783,1],[784,0,793,0],[784,1,793,1],[794,0,803,0],[794,1,803,1],[804,0,813,0],[804,1,813,1],[814,0,823,0],[814,1,823,1],[824,0,833,0],[824,1,833,1],[834,1,834,2],[835,0,844,0],[835,1,844,1],[845,0,854,0],[845,1,854,1],[855,0,864,0],[855,1,864,1],[865,0,874,0],[865,1,874,1],[875,0,884,0],[875,1,884,1],[885,0,894,0],[885,1,894,1],[895,0,904,0],[895,1,904,1],[905,0,914,0],[905,1,914,1],[915,0,924,0],[915,1,924,1],[925,1,925,2],[926,0,935,0],[926,1,935,1],[936,0,945,0],[936,1,945,1],[946,0,955,0],[946,1,955,1],[956,0,965,0],[956,1,965,1],[966,0,975,0],[966,1,975,1],[976,0,985,0],[976,1,985,1],[986,0,995,0],[986,1,995,1],[996,0,1005,0],[996,1,1005,1],[1006,0,1015,0],[1006,1,1015,1],[1016,1,1016,2],[1017,0,1026,0],[1017,1,1026,1],[1027,0,1036,0],[1027,1,1036,1],[1037,0,1046,0],[1037,1,1046,1],[1047,0,1056,0],[1047,1,1056,1],[1057,0,1066,0],[1057,1,1066,1],[1067,0,1076,0],[1067,1,1076,1],[1077,0,1086,0],[1077,1,1086,1],[1087,0,1096,0],[1087,1,1096,1],[1097,0,1106,0],[1097,1,1106,1],[1107,1,1107,2],[1108,0,1117,0],[1108,1,1117,1],[1118,0,1127,0],[1118,1,1127,1],[1128,0,1137,0],[1128,1,1137,1],[1138,0,1147,0],[1138,1,1147,1],[1148,0,1157,0],[1148,1,1157,1],[1158,0,1167,0],[1158,1,1167,1],[1168,0,1177,0],[1168,1,1177,1],[1178,0,1187,0],[1178,1,1187,1],[1188,0,1197,0],[1188,1,1197,1],[1198,1,1198,2],[1199,0,1208,0],[1199,1,1208,1],[1209,0,1218,0],[1209,1,1218,1],[1219,0,1228,0],[1219,1,1228,1],[1229,0,1238,0],[1229,1,1238,1],[1239,0,1248,0],[1239,1,1248,1],[1249,0,1258,0],[1249,1,1258,1],[1259,0,1268,0],[1259,1,1268,1],[1269,1,1269,2],[1270,0,1279,0],[1270,1,1279,1],[1280,0,1289,0],[1280,1,1289,1],[1290,0,1299,0],[1290,1,1299,1],[1300,0,1309,0],[1300,1,1309,1],[1310,0,1319,0],[1310,1,1319,1],[1320,0,1329,0],[1320,1,1329,1],[1330,0,1339,0],[1330,1,1339,1],[1340,0,1349,0],[1340,1,1349,1],[1350,0,1359,0],[1350,1,1359,1],[1360,1,1360,2],[1361,0,1370,0],[1361,1,1370,1],[1371,0,1380,0],[1371,1,1380,1],[1381,0,1390,0],[1381,1,1390,1],[1391,0,1400,0],[1391,1,1400,1],[1401,0,1410,0],[1401,1,1410,1],[1411,1,1411,2],[1412,0,1421,0],[1412,1,1421,1],[1422,0,1431,0],[1422,1,1431,1],[1432,0,1441,0],[1432,1,1441,1],[1442,0,1451,0],[1442,1,1451,1],[1452,0,1461,0],[1452,1,1461,1],[1462,0,1471,0],[1462,1,1471,1],[1473,0,1482,0],[1473,1,1482,1],[1483,0,1492,0],[1483,1,1492,1],[1493,1,1493,2],[1494,1,1494,2],[1499,0,1508,0],[1499,1,1508,1],[1510,0,1519,0],[1510,1,1519,1],[1522,1,1522,2],[1523,0,1532,0],[1523,1,1532,1],[1537,1,1537,2],[1538,0,1547,0],[1538,1,1547,1],[1548,0,1557,0],[1548,1,1557,1],[1558,0,1567,0],[1558,1,1567,1],[1568,0,1577,0],[1568,1,1577,1],[1578,0,1587,0],[1578,1,1587,1],[1588,0,1597,0],[1588,1,1597,1],[1598,0,1607,0],[1598,1,1607,1],[1609,0,1618,0],[1609,1,1618,1],[1619,1,1619,2],[1620,0,1629,0],[1620,1,1629,1],[1630,0,1639,0],[1630,1,1639,1],[1640,0,1649,0],[1640,1,1649,1],[1650,0,1659,0],[1650,1,1659,1],[1660,0,1669,0],[1660,1,1669,1],[1670,0,1679,0],[1670,1,1679,1],[1680,0,1689,0],[1680,1,1689,1],[1690,0,1699,0],[1690,1,1699,1],[1700,1,1700,2],[1701,0,1710,0],[1701,1,1710,1],[1711,0,1720,0],[1711,1,1720,1],[1721,0,1730,0],[1721,1,1730,1],[1731,1,1731,2],[1732,0,1741,0],[1732,1,1741,1],[1744,0,1753,0],[1744,1,1753,1],[1756,0,1765,0],[1756,1,1765,1],[1766,1,1766,2],[1767,0,1776,0],[1767,1,1776,1],[1777,1,1777,2],[1778,0,1787,0],[1778,1,1787,1],[1788,0,1797,0],[1788,1,1797,1],[1798,0,1807,0],[1798,1,1807,1],[1808,0,1817,0],[1808,1,1817,1],[1818,0,1827,0],[1818,1,1827,1],[1828,1,1828,2],[1829,0,1838,0],[1829,1,1838,1],[1839,0,1848,0],[1839,1,1848,1],[1849,0,1858,0],[1849,1,1858,1],[1859,1,1859,2],[1860,1,1860,2],[1861,0,1870,0],[1861,1,1870,1],[1871,0,1880,0],[1871,1,1880,1],[1881,0,1890,0],[1881,1,1890,1],[1891,0,1900,0],[1891,1,1900,1],[1901,0,1910,0],[1901,1,1910,1],[1911,0,1920,0],[1911,1,1920,1],[1921,1,1921,2],[1922,0,1931,0],[1922,1,1931,1],[1932,0,1941,0],[1932,1,1941,1],[1942,0,1951,0],[1942,1,1951,1],[1952,0,1961,0],[1952,1,1961,1],[1962,1,1962,2],[1963,0,1972,0],[1963,1,1972,1],[1973,0,1982,0],[1973,1,1982,1],[1983,1,1983,2],[1984,0,1993,0],[1984,1,1993,1],[1994,0,2003,0],[1994,1,2003,1],[2004,0,2013,0],[2004,1,2013,1],[2014,0,2023,0],[2014,1,2023,1],[2024,0,2033,0],[2024,1,2033,1],[2034,0,2043,0],[2034,1,2043,1],[2044,1,2044,2],[2045,0,2054,0],[2045,1,2054,1],[2055,1,2055,2],[2056,0,2065,0],[2056,1,2065,1],[2066,0,2075,0],[2066,1,2075,1],[2076,0,2085,0],[2076,1,2085,1],[2086,0,2095,0],[2086,1,2095,1],[2096,0,2105,0],[2096,1,2105,1],[2106,0,2115,0],[2106,1,2115,1],[2116,0,2125,0],[2116,1,2125,1],[2126,0,2135,0],[2126,1,2135,1],[2136,1,2136,2],[2137,0,2146,0],[2137,1,2146,1],[2147,0,2156,0],[2147,1,2156,1],[2157,0,2166,0],[2157,1,2166,1],[2167,0,2176,0],[2167,1,2176,1],[2177,0,2186,0],[2177,1,2186,1],[2187,0,2196,0],[2187,1,2196,1],[2197,0,2206,0],[2197,1,2206,1],[2207,0,2216,0],[2207,1,2216,1],[2217,0,2226,0],[2217,1,2226,1],[2227,1,2227,2],[2228,0,2237,0],[2228,1,2237,1],[2238,0,2247,0],[2238,1,2247,1],[2248,0,2257,0],[2248,1,2257,1],[2258,0,2267,0],[2258,1,2267,1],[2268,1,2268,2],[2269,0,2278,0],[2269,1,2278,1],[2279,0,2288,0],[2279,1,2288,1],[2289,0,2298,0],[2289,1,2298,1],[2299,0,2308,0],[2299,1,2308,1],[2309,0,2318,0],[2309,1,2318,1],[2319,0,2328,0],[2319,1,2328,1],[2329,0,2338,0],[2329,1,2338,1],[2339,0,2348,0],[2339,1,2348,1],[2349,0,2358,0],[2349,1,2358,1],[2359,1,2359,2],[2360,1,2360,2],[2361,0,2370,0],[2361,1,2370,1],[2371,0,2380,0],[2371,1,2380,1],[2381,0,2390,0],[2381,1,2390,1],[2391,0,2400,0],[2391,1,2400,1],[2401,0,2410,0],[2401,1,2410,1],[2411,0,2420,0],[2411,1,2420,1],[2421,0,2430,0],[2421,1,2430,1],[2431,0,2440,0],[2431,1,2440,1],[2441,1,2441,2],[2442,0,2451,0],[2442,1,2451,1],[2452,0,2461,0],[2452,1,2461,1],[2462,0,2471,0],[2462,1,2471,1],[2472,0,2481,0],[2472,1,2481,1],[2482,0,2491,0],[2482,1,2491,1],[2492,0,2501,0],[2492,1,2501,1],[2502,0,2511,0],[2502,1,2511,1],[2512,0,2521,0],[2512,1,2521,1],[2522,1,2522,2],[2523,0,2532,0],[2523,1,2532,1],[2533,0,2542,0],[2533,1,2542,1],[2543,1,2543,2],[2544,1,2544,2],[2545,0,2554,0],[2545,1,2554,1],[2556,1,2556,2],[2557,0,2566,0],[2557,1,2566,1],[2569,0,2578,0],[2569,1,2578,1],[2579,0,2588,0],[2579,1,2588,1],[2589,0,2598,0],[2589,1,2598,1],[2599,0,2608,0],[2599,1,2608,1],[2609,0,2618,0],[2609,1,2618,1],[2619,0,2628,0],[2619,1,2628,1],[2629,1,2629,2],[2630,0,2639,0],[2630,1,2639,1],[2640,0,2649,0],[2640,1,2649,1],[2650,0,2659,0],[2650,1,2659,1],[2660,0,2669,0],[2660,1,2669,1],[2670,0,2679,0],[2670,1,2679,1],[2680,0,2689,0],[2680,1,2689,1],[2690,1,2690,2],[2691,0,2700,0],[2691,1,2700,1],[2704,0,2713,0],[2704,1,2713,1],[2714,0,2723,0],[2714,1,2723,1],[2724,0,2733,0],[2724,1,2733,1],[2734,0,2743,0],[2734,1,2743,1],[2744,0,2753,0],[2744,1,2753,1],[2754,1,2754,2],[2755,0,2764,0],[2755,1,2764,1],[2767,0,2776,0],[2767,1,2776,1],[2779,0,2788,0],[2779,1,2788,1],[2790,0,2799,0],[2790,1,2799,1],[2800,1,2800,2],[2801,0,2810,0],[2801,1,2810,1],[2811,0,2820,0],[2811,1,2820,1],[2821,1,2821,2],[2822,0,2831,0],[2822,1,2831,1],[2832,0,2841,0],[2832,1,2841,1],[2842,0,2851,0],[2842,1,2851,1],[2852,1,2852,2],[2853,1,2853,2],[2859,0,2868,0],[2859,1,2868,1],[2869,1,2869,2],[2875,1,2875,2],[2876,0,2885,0],[2876,1,2885,1],[2886,0,2895,0],[2886,1,2895,1],[2896,0,2905,0],[2896,1,2905,1],[2906,1,2906,2],[2907,1,2907,2],[2908,0,2917,0],[2908,1,2917,1],[2918,0,2927,0],[2918,1,2927,1],[2928,0,2937,0],[2928,1,2937,1],[2943,1,2943,2],[2944,0,2953,0],[2944,1,2953,1],[2954,0,2963,0],[2954,1,2963,1],[2964,0,2973,0],[2964,1,2973,1],[2979,1,2979,2],[2980,0,2989,0],[2980,1,2989,1],[2991,1,2991,2],[2992,0,3001,0],[2992,1,3001,1],[3003,1,3003,2],[3004,0,3013,0],[3004,1,3013,1],[3014,1,3014,2],[3017,1,3017,2],[3018,0,3027,0],[3018,1,3027,1],[3028,1,3028,2]]}
["COG","DESCRIPCIÓN","FF","ENERO","FEBRERO","MARZO","ABRIL","MAYO","JUNIO","JULIO","AGOSTO","SEPTIEMBRE","OCTUBRE","NOVIEMBRE","DICIEMBRE","TOTAL"]
[1000,"SERVICIOS PERSONALES",null,{"$f":"D3+D35+D67+D130+D171+D232+D243","v":{"v":2072628.3003808002,"d":"2,072,628"}},{"v":2072628.3003808002,"d":"2,072,628"},{"v":2072628.3003808002,"d":"2,072,628"},{"v":2072628.3003808002,"d":"2,072,628"},{"v":2072628.3003808002,"d":"2,072,628"},{"v":2072628.3003808002,"d":"2,072,628"},{"v":2072628.3003808002,"d":"2,072,628"},{"v":2072628.3003808002,"d":"2,072,628"},{"v":2072628.3003808002,"d":"2,072,628"},{"v":2072628.3003808002,"d":"2,072,628"},{"v":2072628.3003808002,"d":"2,072,628"},{"v":2072628.3003808002,"d":"2,072,628"},{"v":24871539.6045696,"d":"24,871,540"}]
[1100,"REMUNERACIONES AL PERSONAL DE CARÁCTER PERMANENTE",null,{"$f":"SUM(D4:D31)","v":{"v":1209810.3003808002,"d":"1,209,810"}},{"v":1209810.3003808002,"d":"1,209,810"},{"v":1209810.3003808002,"d":"1,209,810"},{"v":1209810.3003808002,"d":"1,209,810"},{"v":1209810.3003808002,"d":"1,209,810"},{"v":1209810.3003808002,"d":"1,209,810"},{"v":1209810.3003808002,"d":"1,209,810"},{"v":1209810.3003808002,"d":"1,209,810"},{"v":1209810.3003808002,"d":"1,209,810"},{"v":1209810.3003808002,"d":"1,209,810"},{"v":1209810.3003808002,"d":"1,209,810"},{"v":1209810.3003808002,"d":"1,209,810"},{"v":14517723.6045696,"d":"14,517,724"}]
[111,"Dietas ",11,{"$f":"(SUMIF(Plantilla!$E$3:$E$4,C4,Plantilla!$H$3:$H$4))/12","v":{"v":156600,"d":"156,600"}},{"$f":"D4","v":{"v":156600,"d":"156,600"}},{"$f":"E4","v":{"v":156600,"d":"156,600"}},{"v":156600,"d":"156,600"},{"v":156600,"d":"156,600"},{"v":156600,"d":"156,600"},{"v":156600,"d":"156,600"},{"v":156600,"d":"156,600"},{"v":156600,"d":"156,600"},{"v":156600,"d":"156,600"},{"v":156600,"d":"156,600"},{"v":156600,"d":"156,600"},{"$f":"SUM(D4:O4)","v":{"v":1879200,"d":"1,879,200"}}]
[null,null,12,{"$nulls":12},{"$f":"SUM(D5:O5)","v":0}]
[null,null,13,{"$nulls":12},0]
[null,null,14,{"$nulls":12},0]
[null,null,15,{"$f":"(SUMIF(Plantilla!$E$3:$E$4,C8,Plantilla!$H$3:$H$4))/12","v":0},{"$f":"D8","v":0},0,0,0,0,0,0,0,0,0,0,{"$f":"SUM(D8:O8)","v":0}]
[null,null,16,{"$f":"(SUMIF(Plantilla!$E$3:$E$4,C9,Plantilla!$H$3:$H$4))/12","v":0},{"$f":"D9","v":0},0,0,0,0,0,0,0,0,0,0,0]
[null,null,17,{"$f":"(SUMIF(Plantilla!$E$3:$E$4,C10,Plantilla!$H$3:$H$4))/12","v":0},{"$f":"D10","v":0},0,0,0,0,0,0,0,0,0,0,0]
[null,null,25,{"$nulls":12},0]
[null,null,26,{"$nulls":12},0]
[null,null,27,{"$nulls":12},0]
[112,"Haberes",{"$nulls":13},{"$f":"SUM(D14:O14)","v":0}]
[113,"Sueldos base al personal permanente",11,{"$f":"(SUMIF(Plantilla!$E$5:$E$428,'COG-M'!C15,Plantilla!$H$5:$H$428))/12","v":{"v":1053210.3003808002,"d":"1,053,210"}},{"$f":"D15","v":{"v":1053210.3003808002,"d":"1,053,210"}},{"$f":"E15","v":{"v":1053210.3003808002,"d":"1,053,210"}},{"v":1053210.3003808002,"d":"1,053,210"},{"v":1053210.3003808002,"d":"1,053,210"},{"v":1053210.3003808002,"d":"1,053,210"},{"v":1053210.3003808002,"d":"1,053,210"},{"v":1053210.3003808002,"d":"1,053,210"},{"v":1053210.3003808002,"d":"1,053,210"},{"v":1053210.3003808002,"d":"1,053,210"},{"v":1053210.3003808002,"d":"1,053,210"},{"v":1053210.3003808002,"d":"1,053,210"},{"$f":"SUM(D15:O15)","v":{"v":12638523.6045696,"d":"12,638,524"}}]
[null,null,12,{"$nulls":12},{"$f":"SUM(D16:O16)","v":0}]
[null,null,13,{"$nulls":12},0]
[null,null,14,{"$f":"(SUMIF(Plantilla!$E$5:$E$428,'COG-M'!C18,Plantilla!$H$5:$H$428))/12","v":0},{"$f":"D18","v":0},0,0,0,0,0,0,0,0,0,0,{"$f":"SUM(D18:O18)","v":0}]
[null,null,15,{"$f":"(SUMIF(Plantilla!$E$5:$E$428,'COG-M'!C19,Plantilla!$H$5:$H$428))/12","v":0},{"$f":"D19","v":0},0,0,0,0,0,0,0,0,0,0,0]
[null,null,16,{"$f":"(SUMIF(Plantilla!$E$5:$E$428,'COG-M'!C20,Plantilla!$H$5:$H$428))/12","v":0},{"$f":"D20","v":0},0,0,0,0,0,0,0,0,0,0,0]
[null,null,17,{"$f":"(SUMIF(Plantilla!$E$5:$E$428,'COG-M'!C21,Plantilla!$H$5:$H$428))/12","v":0},{"$f":"D21","v":0},0,0,0,0,0,0,0,0,0,0,0]
[null,null,25,{"$f":"(SUMIF(Plantilla!$E$5:$E$428,'COG-M'!C22,Plantilla!$H$5:$H$428))/12","v":0},{"$f":"D22","v":0},0,0,0,0,0,0,0,0,0,0,0]
[null,null,26,{"$nulls":12},0]
[null,null,27,{"$nulls":12},0]
[114,"Remuneraciones por adscripción laboral en el extranjero",11,{"$nulls":12},{"$f":"SUM(D25:O25)","v":0}]
[null,null,12,{"$nulls":12},{"$f":"SUM(D26:O26)","v":0}]
[null,null,13,{"$nulls":12},0]
[null,null,14,{"$nulls":12},0]
[null,null,15,{"$nulls":12},{"$f":"SUM(D29:O29)","v":0}]
[null,null,16,{"$nulls":12},0]
[null,null,17,{"$nulls":12},0]
[null,null,25,{"$nulls":12},0]
[null,null,26,{"$nulls":12},0]
[null,null,27,{"$nulls":12},0]
[1200,"REMUNERACIONES AL PERSONAL DE CARÁCTER TRANSITORIO",null,{"$f":"SUM(D36:D66)","v":{"v":660389,"d":"660,389"}},{"$f":"SUM(E36:E66)","v":{"v":660389,"d":"660,389"}},{"v":660389,"d":"660,389"},{"v":660389,"d":"660,389"},{"v":660389,"d":"660,389"},{"v":660389,"d":"660,389"},{"v":660389,"d":"660,389"},{"v":660389,"d":"660,389"},{"v":660389,"d":"660,389"},{"v":660389,"d":"660,389"},{"v":660389,"d":"660,389"},{"v":660389,"d":"660,389"},{"$f":"SUM(P36:P66)","v":{"v":7924668,"d":"7,924,668"}}]
[121,"Honorarios asimilables a salarios",11,{"$nulls":12},{"$f":"SUM(D36:O36)","v":0}]
[null,null,12,{"$nulls":12},{"$f":"SUM(D37:O37)","v":0}]
[null,null,13,{"$nulls":12},0]
[null,null,14,{"$nulls":12},{"$f":"SUM(D39:O39)","v":0}]
[null,null,15,{"$nulls":12},0]
[null,null,16,{"$nulls":12},0]
[null,null,17,{"$nulls":12},0]
[null,null,25,{"$nulls":12},0]
[null,null,26,{"$nulls":12},0]
[null,null,27,{"$nulls":12},0]
[122,"Sueldos base al personal eventual",11,{"v":660389,"d":"660,389"},{"v":660389,"d":"660,389"},{"v":660389,"d":"660,389"},{"v":660389,"d":"660,389"},{"v":660389,"d":"660,389"},{"v":660389,"d":"660,389"},{"v":660389,"d":"660,389"},{"v":660389,"d":"660,389"},{"v":660389,"d":"660,389"},{"v":660389,"d":"660,389"},{"v":660389,"d":"660,389"},{"v":660389,"d":"660,389"},{"v":7924668,"d":"7,924,668"}]
[null,null,12,{"$nulls":12},0]
[null,null,13,{"$nulls":12},0]
[null,null,14,{"$nulls":12},0]
[null,null,15,{"$nulls":12},0]
[null,null,16,{"$nulls":12},0]
[null,null,17,{"$nulls":12},0]
[null,null,25,{"$nulls":12},0]
[null,null,26,{"$nulls":12},0]
[null,null,27,{"$nulls":12},0]
[123,"Retribuciones por servicios de carácter social",11,{"$nulls":12},0]
[null,null,12,{"$nulls":12},0]
[null,null,13,{"$nulls":12},0]
[null,null,14,{"$nulls":12},0]
[null,null,15,{"$nulls":12},0]
[null,null,16,{"$nulls":12},0]
[null,null,17,{"$nulls":12},0]
[null,null,25,{"$nulls":12},0]
[null,null,26,{"$nulls":12},0]
[null,null,27,{"$nulls":12},0]
[124,"Retribución a los representantes de los trabajadores y de los patrones en la Junta de Conciliación y Arbitraje",{"$nulls":13},{"$f":"SUM(D66:O66)","v":0}]
[1300,"REMUNERACIONES ADICIONALES Y ESPECIALES",null,{"$f":"SUM(D68:D126)","v":{"v":188500,"d":"188,500"}},{"v":188500,"d":"188,500"},{"v":188500,"d":"188,500"},{"v":188500,"d":"188,500"},{"v":188500,"d":"188,500"},{"v":188500,"d":"188,500"},{"v":188500,"d":"188,500"},{"v":188500,"d":"188,500"},{"v":188500,"d":"188,500"},{"v":188500,"d":"188,500"},{"v":188500,"d":"188,500"},{"v":188500,"d":"188,500"},{"v":2262000,"d":"2,262,000"}]
[131,"Primas por años de servicios efectivos prestados",11,{"$nulls":12},{"$f":"SUM(D68:O68)","v":0}]
[null,null,12,{"$nulls":12},0]
[null,null,13,{"$nulls":12},0]
[null,null,14,{"$nulls":12},0]
[null,null,15,{"$nulls":12},0]
[null,null,16,{"$nulls":12},0]
[null,null,17,{"$nulls":12},0]
[null,null,25,{"$nulls":12},0]
[null,null,26,{"$nulls":12},0]
[null,null,27,{"$nulls":12},0]
[132,"Primas de vacaciones, dominical y gratificación de fin de año",11,{"v":188500,"d":"188,500"},{"v":188500,"d":"188,500"},{"v":188500,"d":"188,500"},{"v":188500,"d":"188,500"},{"v":188500,"d":"188,500"},{"v":188500,"d":"188,500"},{"v":188500,"d":"188,500"},{"v":188500,"d":"188,500"},{"v":188500,"d":"188,500"},{"v":188500,"d":"188,500"},{"v":188500,"d":"188,500"},{"v":188500,"d":"188,500"},{"v":2262000,"d":"2,262,000"}]
[null,null,12,{"$nulls":12},0]
[null,null,13,{"$nulls":12},0]
[null,null,14,{"$nulls":12},0]
[null,null,15,{"$nulls":12},0]
[null,null,16,{"$nulls":12},0]
[null,null,17,{"$nulls":12},0]
[null,null,25,{"$nulls":12},0]
[null,null,26,{"$nulls":12},0]
[null,null,27,{"$nulls":12},0]
[133,"Horas extraordinarias",11,{"$nulls":12},0]
[null,null,12,{"$nulls":12},0]
[null,null,13,{"$nulls":12},0]
[null,null,14,{"$nulls":12},0]
[null,null,15,{"$nulls":12},0]
[null,null,16,{"$nulls":12},0]
[null,null,17,{"$nulls":12},0]
[null,null,25,{"$nulls":12},0]
[null,null,26,{"$nulls":12},0]
[null,null,27,{"$nulls":12},0]
[134,"Compensaciones",11,{"$nulls":12},0]
[null,null,12,{"$nulls":12},0]
[null,null,13,{"$nulls":12},0]
[null,null,14,{"$nulls":12},0]
[null,null,15,{"$nulls":12},0]
[null,null,16,{"$nulls":12},0]
[null,null,17,{"$nulls":12},0]
[null,null,25,{"$nulls":12},0]
[null,null,26,{"$nulls":12},0]
[null,null,27,{"$nulls":12},0]
[135,"Sobrehaberes",{"$nulls":13},0]
[136,"Asignaciones de técnico, de mando, por comisión, de vuelo y de técnico especial",{"$nulls":13},0]
[137,"Honorarios especiales",11,{"$nulls":12},0]
[null,null,12,{"$nulls":12},0]
[null,null,13,{"$nulls":12},0]
[null,null,14,{"$nulls":12},0]
[null,null,15,{"$nulls":12},0]
[null,null,16,{"$nulls":12},0]
[null,null,17,{"$nulls":12},0]
[null,null,25,{"$nulls":12},0]
[null,null,26,{"$nulls":12},0]
[null,null,27,{"$nulls":12},0]
[138,"Participaciones por vigilancia en el cumplimiento de la leyes y custodia de valores",11,{"$nulls":12},0]
[null,null,12,{"$nulls":12},0]
[null,null,13,{"$nulls":12},0]
[null,null,14,{"$nulls":12},0]
[null,null,15,{"$nulls":12},0]
[null,null,16,{"$nulls":12},0]
[null,null,17,{"$nulls":12},0]
[null,null,25,{"$nulls":12},0]
[null,null,26,{"$nulls":12},0]
[null,null,27,{"$nulls":12},0]
[1400,"SEGURIDAD SOCIAL",null,{"$f":"SUM(D131:D167)","v":0},{"$f":"SUM(E131:E167)","v":0},0,0,0,0,0,0,0,0,0,0,0]
[141,"Aportaciones de seguridad social",11,{"$nulls":12},{"$f":"SUM(D131:O131)","v":0}]
[null,null,12,{"$nulls":12},{"$f":"SUM(D132:O132)","v":0}]
[null,null,13,{"$nulls":12},0]
[null,null,14,{"$nulls":12},{"$f":"SUM(D134:O134)","v":0}]
[null,null,15,{"$nulls":12},0]
[null,null,16,{"$nulls":12},0]
[null,null,17,{"$nulls":12},0]
[null,null,25,{"$nulls":12},0]
[null,null,26,{"$nulls":12},0]
[null,null,27,{"$nulls":12},0]
[142,"Aportaciones a fondos de vivienda",11,{"$nulls":12},0]
[null,null,12,{"$nulls":12},0]
[null,null,13,{"$nulls":12},0]
[null,null,14,{"$nulls":12},0]
[null,null,15,{"$nulls":12},0]
[null,null,16,{"$nulls":12},0]
[null,null,17,{"$nulls":12},0]
[null,null,25,{"$nulls":12},0]
[null,null,26,{"$nulls":12},0]
[null,null,27,{"$nulls":12},0]
[143,"Aportaciones al sistema para el retiro",11,{"$nulls":12},0]
[null,null,12,{"$nulls":12},0]
[null,null,13,{"$nulls":12},0]
[null,null,14,{"$nulls":12},0]
[null,null,15,{"$nulls":12},0]
[null,null,16,{"$nulls":12},0]
[null,null,17,{"$nulls":12},0]
[null,null,25,{"$nulls":12},0]
[null,null,26,{"$nulls":12},0]
[null,null,27,{"$nulls":12},0]
[144,"Aportaciones para seguros",11,{"$nulls":12},0]
[null,null,12,{"$nulls":12},0]
[null,null,13,{"$nulls":12},0]
[null,null,14,{"$nulls":12},0]
[null,null,15,{"$nulls":12},0]
[null,null,16,{"$nulls":12},0]
[null,null,17,{"$nulls":12},0]
[null,null,25,{"$nulls":12},0]
[null,null,26,{"$nulls":12},0]
[null,null,27,{"$nulls":12},0]
[1500,"OTRAS PRESTACIONES SOCIALES Y ECONÓMICAS",null,{"$f":"SUM(D172:D228)","v":{"v":13929,"d":"13,929"}},{"v":13929,"d":"13,929"},{"v":13929,"d":"13,929"},{"v":13929,"d":"13,929"},{"v":13929,"d":"13,929"},{"v":13929,"d":"13,929"},{"v":13929,"d":"13,929"},{"v":13929,"d":"13,929"},{"v":13929,"d":"13,929"},{"v":13929,"d":"13,929"},{"v":13929,"d":"13,929"},{"v":13929,"d":"13,929"},{"v":167148,"d":"167,148"}]
[151,"Cuotas para el fondo de ahorro y fondo de trabajo",11,{"$nulls":12},{"$f":"SUM(D172:O172)","v":0}]
[null,null,12,{"$nulls":12},0]
[null,null,13,{"$nulls":12},0]
[null,null,14,{"$nulls":12},0]
[null,null,15,{"$nulls":12},0]
[null,null,16,{"$nulls":12},0]
[null,null,17,{"$nulls":12},0]
[null,null,25,{"$nulls":12},0]
[null,null,26,{"$nulls":12},0]
[null,null,27,{"$nulls":12},0]
[152,"Indemnizaciones",11,{"v":13929,"d":"13,929"},{"v":13929,"d":"13,929"},{"v":13929,"d":"13,929"},{"v":13929,"d":"13,929"},{"v":13929,"d":"13,929"},{"v":13929,"d":"13,929"},{"v":13929,"d":"13,929"},{"v":13929,"d":"13,929"},{"v":13929,"d":"13,929"},{"v":13929,"d":"13,929"},{"v":13929,"d":"13,929"},{"v":13929,"d":"13,929"},{"v":167148,"d":"167,148"}]
[null,null,12,{"$nulls":12},0]
[null,null,13,{"$nulls":12},0]
[null,null,14,{"$nulls":12},0]
[null,null,15,{"$nulls":12},0]
[null,null,16,{"$nulls":12},0]
[null,null,17,{"$nulls":12},0]
[null,null,25,{"$nulls":12},0]
[null,null,26,{"$nulls":12},0]
[null,null,27,{"$nulls":12},0]
[153,"Prestaciones y haberes de retiro",11,{"$nulls":12},0]
[null,null,12,{"$nulls":12},0]
[null,null,13,{"$nulls":12},0]
[null,null,14,{"$nulls":12},0]
[null,null,15,{"$nulls":12},0]
[null,null,16,{"$nulls":12},0]
[null,null,17,{"$nulls":12},0]
[null,null,25,{"$nulls":12},0]
[null,null,26,{"$nulls":12},0]
[null,null,27,{"$nulls":12},0]
[154,"Prestaciones contractuales",11,{"$nulls":12},0]
[null,null,12,{"$nulls":12},0]
[null,null,13,{"$nulls":12},0]
[null,null,14,{"$nulls":12},0]
[null,null,15,{"$nulls":12},0]
[null,null,16,{"$nulls":12},0]
[null,null,17,{"$nulls":12},0]
[null,null,25,{"$nulls":12},0]
[null,null,26,{"$nulls":12},0]
[null,null,27,{"$nulls":12},0]
[155,"Apoyos a la capacitación de los servidores públicos",11,{"$nulls":12},0]
[null,null,12,{"$nulls":12},0]
[null,null,13,{"$nulls":12},0]
[null,null,14,{"$nulls":12},0]
[null,null,15,{"$nulls":12},0]
[null,null,16,{"$nulls":12},0]
[null,null,17,{"$nulls":12},0]
[null,null,25,{"$nulls":12},0]
[null,null,26,{"$nulls":12},0]
[null,null,27,{"$nulls":12},0]
[159,"Otras prestaciones sociales y económicas",11,{"$nulls":12},0]
[null,null,12,{"$nulls":12},0]
[null,null,13,{"$nulls":12},0]
[null,null,14,{"$nulls":12},0]
[null,null,15,{"$nulls":12},0]
[null,null,16,{"$nulls":12},0]
[null,null,17,{"$nulls":12},0]
[null,null,25,{"$nulls":12},0]
[null,null,26,{"$nulls":12},0]
[null,null,27,{"$nulls":12},0]
[1600,"PREVISIONES",null,{"$f":"SUM(D233:D240)","v":0},{"$f":"SUM(E233:E240)","v":0},0,0,0,0,0,0,0,0,0,0,0]
[161,"Previsiones de carácter laboral, económica y de seguridad social",11,{"$nulls":12},{"$f":"SUM(D233:O233)","v":0}]
[null,null,12,{"$nulls":12},{"$f":"SUM(D234:O234)","v":0}]
[null,null,13,{"$nulls":12},0]
[null,null,14,{"$nulls":12},{"$f":"SUM(D236:O236)","v":0}]
[null,null,15,{"$nulls":12},0]
[null,null,16,{"$nulls":12},0]
[null,null,17,{"$nulls":12},0]
[null,null,25,{"$nulls":12},0]
[null,null,26,{"$nulls":12},0]
[null,null,27,{"$nulls":12},0]
[1700,"PAGO DE ESTÍMULOS A SERVIDORES PÚBLICOS",null,{"$f":"SUM(D244:D260)","v":0},{"$f":"SUM(E244:E260)","v":0},0,0,0,0,0,0,0,0,0,0,0]
[171,"Estímulos",11,{"$nulls":12},{"$f":"SUM(D244:O244)","v":0}]
[null,null,12,{"$nulls":12},{"$f":"SUM(D245:O245)","v":0}]
[null,null,13,{"$nulls":12},0]
[null,null,14,{"$nulls":12},{"$f":"SUM(D247:O247)","v":0}]
[null,null,15,{"$nulls":12},0]
[null,null,16,{"$nulls":12},0]
[null,null,17,{"$nulls":12},0]
[null,null,25,{"$nulls":12},0]
[null,null,26,{"$nulls":12},0]
[null,null,27,{"$nulls":12},0]
[172,"Recompensas",11,{"$nulls":12},0]
[null,null,12,{"$nulls":12},0]
[null,null,13,{"$nulls":12},0]
[null,null,14,{"$nulls":12},0]
[null,null,15,{"$nulls":12},0]
[null,null,16,{"$nulls":12},0]
[null,null,17,{"$nulls":12},0]
[null,null,25,{"$nulls":12},0]
[null,null,26,{"$nulls":12},0]
[null,null,27,{"$nulls":12},0]
[2000,"MATERIALES Y SUMINISTROS",null,{"$f":"D265+D346+D377+D387+D478+D549+D570+D621+D652","v":{"v":1793685,"d":"1,793,685"}},{"v":1793685,"d":"1,793,685"},{"v":1793685,"d":"1,793,685"},{"v":1793685,"d":"1,793,685"},{"v":1793685,"d":"1,793,685"},{"v":1793685,"d":"1,793,685"},{"v":1793685,"d":"1,793,685"},{"v":1793685,"d":"1,793,685"},{"v":1793685,"d":"1,793,685"},{"v":1793685,"d":"1,793,685"},{"v":1793685,"d":"1,793,685"},{"v":1793685,"d":"1,793,685"},{"v":21524220,"d":"21,524,220"}]
[2100,"MATERIALES DE ADMINISTRACIÓN, EMISIÓN DE DOCUMENTOS Y ARTÍCULOS OFICIALES",null,{"$f":"SUM(D266:D342)","v":{"v":154372,"d":"154,372"}},{"v":154372,"d":"154,372"},{"v":154372,"d":"154,372"},{"v":154372,"d":"154,372"},{"v":154372,"d":"154,372"},{"v":154372,"d":"154,372"},{"v":154372,"d":"154,372"},{"v":154372,"d":"154,372"},{"v":154372,"d":"154,372"},{"v":154372,"d":"154,372"},{"v":154372,"d":"154,372"},{"v":154372,"d":"154,372"},{"v":1852464,"d":"1,852,464"}]
[211,"Materiales, útiles y equipos menores de oficina",11,{"v":50991,"d":"50,991"},{"v":50991,"d":"50,991"},{"v":50991,"d":"50,991"},{"v":50991,"d":"50,991"},{"v":50991,"d":"50,991"},{"v":50991,"d":"50,991"},{"v":50991,"d":"50,991"},{"v":50991,"d":"50,991"},{"v":50991,"d":"50,991"},{"v":50991,"d":"50,991"},{"v":50991,"d":"50,991"},{"v":50991,"d":"50,991"},{"$f":"SUM(D266:O266)","v":{"v":611892,"d":"611,892"}}]
[null,null,12,{"$nulls":12},{"$f":"SUM(D267:O267)","v":0}]
[null,null,13,{"$nulls":12},0]
[null,null,14,{"$nulls":12},{"$f":"SUM(D269:O269)","v":0}]
[null,null,15,{"$nulls":12},0]
[null,null,16,{"$nulls":12},0]
[null,null,17,{"$nulls":12},0]
[null,null,25,{"$nulls":12},0]
[null,null,26,{"$nulls":12},0]
[null,null,27,{"$nulls":12},0]
[212,"Materiales y útiles de impresión y reproducción",11,{"v":49976,"d":"49,976"},{"v":49976,"d":"49,976"},{"v":49976,"d":"49,976"},{"v":49976,"d":"49,976"},{"v":49976,"d":"49,976"},{"v":49976,"d":"49,976"},{"v":49976,"d":"49,976"},{"v":49976,"d":"49,976"},{"v":49976,"d":"49,976"},{"v":49976,"d":"49,976"},{"v":49976,"d":"49,976"},{"v":49976,"d":"49,976"},{"v":599712,"d":"599,712"}]
[null,null,12,{"$nulls":12},0]
[null,null,13,{"$nulls":12},0]
[null,null,14,{"$nulls":12},0]
[null,null,15,{"$nulls":12},0]
[null,null,16,{"$nulls":12},0]
[null,null,17,{"$nulls":12},0]
[null,null,25,{"$nulls":12},0]
[null,null,26,{"$nulls":12},0]
[null,null,27,{"$nulls":12},0]
[213,"Material estadístico y geográfico",11,{"$nulls":12},0]
[null,null,12,{"$nulls":12},0]
[null,null,13,{"$nulls":12},0]
[null,null,14,{"$nulls":12},0]
[null,null,15,{"$nulls":12},0]
[null,null,16,{"$nulls":12},0]
[null,null,17,{"$nulls":12},0]
[null,null,25,{"$nulls":12},0]
[null,null,26,{"$nulls":12},0]
[null,null,27,{"$nulls":12},0]
[214,"Materiales, útiles y equipos menores de tecnologías de la información y comunicaciones",11,{"v":14306,"d":"14,306"},{"v":14306,"d":"14,306"},{"v":14306,"d":"14,306"},{"v":14306,"d":"14,306"},{"v":14306,"d":"14,306"},{"v":14306,"d":"14,306"},{"v":14306,"d":"14,306"},{"v":14306,"d":"14,306"},{"v":14306,"d":"14,306"},{"v":14306,"d":"14,306"},{"v":14306,"d":"14,306"},{"v":14306,"d":"14,306"},{"v":171672,"d":"171,672"}]
[null,null,12,{"$nulls":12},0]
[null,null,13,{"$nulls":12},0]
[null,null,14,{"$nulls":12},0]
[null,null,15,{"$nulls":12},0]
[null,null,16,{"$nulls":12},0]
[null,null,17,{"$nulls":12},0]
[null,null,25,{"$nulls":12},0]
[null,null,26,{"$nulls":12},0]
[null,null,27,{"$nulls":12},0]
[215,"Material impreso e información digital",11,{"$nulls":12},0]
[null,null,12,{"$nulls":12},0]
[null,null,13,{"$nulls":12},0]
[null,null,14,{"$nulls":12},0]
[null,null,15,{"$nulls":12},0]
[null,null,16,{"$nulls":12},0]
[null,null,17,{"$nulls":12},0]
[null,null,25,{"$nulls":12},0]
[null,null,26,{"$nulls":12},0]
[null,null,27,{"$nulls":12},0]
[216,"Material de limpieza",11,{"v":37688,"d":"37,688"},{"v":37688,"d":"37,688"},{"v":37688,"d":"37,688"},{"v":37688,"d":"37,688"},{"v":37688,"d":"37,688"},{"v":37688,"d":"37,688"},{"v":37688,"d":"37,688"},{"v":37688,"d":"37,688"},{"v":37688,"d":"37,688"},{"v":37688,"d":"37,688"},{"v":37688,"d":"37,688"},{"v":37688,"d":"37,688"},{"v":452256,"d":"452,256"}]
[null,null,12,{"$nulls":12},0]
[null,null,13,{"$nulls":12},0]
[null,null,14,{"$nulls":12},0]
[null,null,15,{"$nulls":12},0]
[null,null,16,{"$nulls":12},0]
[null,null,17,{"$nulls":12},0]
[null,null,25,{"$nulls":12},0]
[null,null,26,{"$nulls":12},0]
[null,null,27,{"$nulls":12},0]
[217,"Materiales y útiles de enseñanza",11,{"$nulls":12},0]
[null,null,12,{"$nulls":12},0]
[null,null,13,{"$nulls":12},0]
[null,null,14,{"$nulls":12},0]
[null,null,15,{"$nulls":12},0]
[null,null,16,{"$nulls":12},0]
[null,null,17,{"$nulls":12},0]
[null,null,25,{"$nulls":12},0]
[null,null,26,{"$nulls":12},0]
[null,null,27,{"$nulls":12},0]
[218,"Materiales para el registro e identificación de bienes y personas",11,{"v":1411,"d":"1,411"},{"v":1411,"d":"1,411"},{"v":1411,"d":"1,411"},{"v":1411,"d":"1,411"},{"v":1411,"d":"1,411"},{"v":1411,"d":"1,411"},{"v":1411,"d":"1,411"},{"v":1411,"d":"1,411"},{"v":1411,"d":"1,411"},{"v":1411,"d":"1,411"},{"v":1411,"d":"1,411"},{"v":1411,"d":"1,411"},{"v":16932,"d":"16,932"}]
[null,null,12,{"$nulls":12},0]
[null,null,13,{"$nulls":12},0]
[null,null,14,{"$nulls":12},0]
[null,null,15,{"$nulls":12},0]
[null,null,16,{"$nulls":12},0]
[null,null,17,{"$nulls":12},0]
[null,null,25,{"$nulls":12},0]
[null,null,26,{"$nulls":12},{"$f":"SUM(D344:O344)","v":0}]
[null,null,27,{"$nulls":12},0]
[2200,"ALIMENTOS Y UTENSILIOS",null,{"$f":"SUM(D347:D373)","v":{"v":80507,"d":"80,507"}},{"v":80507,"d":"80,507"},{"v":80507,"d":"80,507"},{"v":80507,"d":"80,507"},{"v":80507,"d":"80,507"},{"v":80507,"d":"80,507"},{"v":80507,"d":"80,507"},{"v":80507,"d":"80,507"},{"v":80507,"d":"80,507"},{"v":80507,"d":"80,507"},{"v":80507,"d":"80,507"},{"v":80507,"d":"80,507"},{"v":966084,"d":"966,084"}]
[221,"Productos alimenticios para personas",11,{"v":44871,"d":"44,871"},{"v":44871,"d":"44,871"},{"v":44871,"d":"44,871"},{"v":44871,"d":"44,871"},{"v":44871,"d":"44,871"},{"v":44871,"d":"44,871"},{"v":44871,"d":"44,871"},{"v":44871,"d":"44,871"},{"v":44871,"d":"44,871"},{"v":44871,"d":"44,871"},{"v":44871,"d":"44,871"},{"v":44871,"d":"44,871"},{"$f":"SUM(D347:O347)","v":{"v":538452,"d":"538,452"}}]
[null,null,12,{"$nulls":12},{"$f":"SUM(D348:O348)","v":0}]
[null,null,13,{"$nulls":12},0]
[null,null,14,{"$nulls":12},{"$f":"SUM(D350:O350)","v":0}]
[null,null,15,{"$nulls":12},0]
[null,null,16,{"$nulls":12},0]
[null,null,17,{"$nulls":12},0]
[null,null,25,{"$nulls":12},0]
[null,null,26,{"$nulls":12},0]
[null,null,27,{"$nulls":12},0]
[222,"Productos alimenticios para animales",11,{"$nulls":12},0]
[null,null,12,{"$nulls":12},0]
[null,null,13,{"$nulls":12},0]
[null,null,14,{"$nulls":12},0]
[null,null,15,{"$nulls":12},0]
[null,null,16,{"$nulls":12},0]
[null,null,17,{"$nulls":12},0]
[null,null,25,{"$nulls":12},0]
[null,null,26,{"$nulls":12},0]
[null,null,27,{"$nulls":12},0]
[223,"Utensilios para el servicio de alimentación",11,{"v":35636,"d":"35,636"},{"v":35636,"d":"35,636"},{"v":35636,"d":"35,636"},{"v":35636,"d":"35,636"},{"v":35636,"d":"35,636"},{"v":35636,"d":"35,636"},{"v":35636,"d":"35,636"},{"v":35636,"d":"35,636"},{"v":35636,"d":"35,636"},{"v":35636,"d":"35,636"},{"v":35636,"d":"35,636"},{"v":35636,"d":"35,636"},{"v":427632,"d":"427,632"}]
[null,null,12,{"$nulls":12},0]
[null,null,13,{"$nulls":12},0]
[null,null,14,{"$nulls":12},0]
[null,null,15,{"$nulls":12},0]
[null,null,16,{"$nulls":12},0]
[null,null,17,{"$nulls":12},0]
[null,null,25,{"$nulls":12},0]
[null,null,26,{"$nulls":12},0]
[null,null,27,{"$nulls":12},0]
[2300,"MATERIAS PRIMAS Y MATERIALES DE PRODUCCIÓN Y COMERCIALIZACIÓN",null,{"$f":"SUM(D378:D386)","v":0},0,0,0,0,0,0,0,0,0,0,0,0]
[231,"Productos alimenticios, agropecuarios y forestales adquiridos como materia prima",{"$nulls":13},{"$f":"SUM(D378:O378)","v":0}]
[232,"Insumos textiles adquiridos como materia prima",{"$nulls":13},0]
[233,"Productos de papel, cartón e impresos adquiridos como materia prima",{"$nulls":13},0]
[234,"Combustibles, lubricantes, aditivos, carbón y sus derivados adquiridos como materia prima",{"$nulls":13},0]
[235,"Productos químicos, farmacéuticos y de laboratorio adquiridos como materia prima",{"$nulls":13},0]
[236,"Productos metálicos y a base de minerales no metálicos adquiridos como materia prima",{"$nulls":13},0]
[237,"Productos de cuero, piel, plástico y hule adquiridos como materia prima",{"$nulls":13},0]
[238,"Mercancías adquiridas para su comercialización",{"$nulls":13},0]
[239,"Otros productos adquiridos como materia prima",{"$nulls":13},0]
[2400,"MATERIALES Y ARTÍCULOS DE CONSTRUCCIÓN Y DE REPARACIÓN",null,{"$f":"SUM(D388:D477)","v":{"v":426509,"d":"426,509"}},{"$f":"SUM(E388:E477)","v":{"v":426509,"d":"426,509"}},{"v":426509,"d":"426,509"},{"v":426509,"d":"426,509"},{"v":426509,"d":"426,509"},{"v":426509,"d":"426,509"},{"v":426509,"d":"426,509"},{"v":426509,"d":"426,509"},{"v":426509,"d":"426,509"},{"v":426509,"d":"426,509"},{"v":426509,"d":"426,509"},{"v":426509,"d":"426,509"},{"v":5118108,"d":"5,118,108"}]
[241,"Productos minerales no metálicos",11,{"v":47661,"d":"47,661"},{"v":47661,"d":"47,661"},{"v":47661,"d":"47,661"},{"v":47661,"d":"47,661"},{"v":47661,"d":"47,661"},{"v":47661,"d":"47,661"},{"v":47661,"d":"47,661"},{"v":47661,"d":"47,661"},{"v":47661,"d":"47,661"},{"v":47661,"d":"47,661"},{"v":47661,"d":"47,661"},{"v":47661,"d":"47,661"},{"$f":"SUM(D388:O388)","v":{"v":571932,"d":"571,932"}}]
[null,null,12,{"$nulls":12},{"$f":"SUM(D389:O389)","v":0}]
[null,null,13,{"$nulls":12},0]
[null,null,14,{"$nulls":12},{"$f":"SUM(D391:O391)","v":0}]
[null,null,15,{"$nulls":12},0]
[null,null,16,{"$nulls":12},0]
[null,null,17,{"$nulls":12},0]
[null,null,25,{"$nulls":12},0]
[null,null,26,{"$nulls":12},0]
[null,null,27,{"$nulls":12},0]
[242,"Cemento y productos de concreto",11,{"v":222147,"d":"222,147"},{"v":222147,"d":"222,147"},{"v":222147,"d":"222,147"},{"v":222147,"d":"222,147"},{"v":222147,"d":"222,147"},{"v":222147,"d":"222,147"},{"v":222147,"d":"222,147"},{"v":222147,"d":"222,147"},{"v":222147,"d":"222,147"},{"v":222147,"d":"222,147"},{"v":222147,"d":"222,147"},{"v":222147,"d":"222,147"},{"v":2665764,"d":"2,665,764"}]
[null,null,12,{"$nulls":12},0]
[null,null,13,{"$nulls":12},0]
[null,null,14,{"$nulls":12},0]
[null,null,15,{"$nulls":12},0]
[null,null,16,{"$nulls":12},0]
[null,null,17,{"$nulls":12},0]
[null,null,25,{"$nulls":12},0]
[null,null,26,{"$nulls":12},0]
[null,null,27,{"$nulls":12},0]
[243,"Cal, yeso y productos de yeso",11,{"$nulls":12},0]
[null,null,12,{"$nulls":12},0]
[null,null,13,{"$nulls":12},0]
[null,null,14,{"$nulls":12},0]
[null,null,15,{"$nulls":12},0]
[null,null,16,{"$nulls":12},0]
[null,null,17,{"$nulls":12},0]
[null,null,25,{"$nulls":12},0]
[null,null,26,{"$nulls":12},0]
[null,null,27,{"$nulls":12},0]
[244,"Madera y productos de madera",11,313,313,313,313,313,313,313,313,313,313,313,313,{"v":3756,"d":"3,756"}]
[null,null,12,{"$nulls":12},0]
[null,null,13,{"$nulls":12},0]
[null,null,14,{"$nulls":12},0]
[null,null,15,{"$nulls":12},0]
[null,null,16,{"$nulls":12},0]
[null,null,17,{"$nulls":12},0]
[null,null,25,{"$nulls":12},0]
[null,null,26,{"$nulls":12},0]
[null,null,27,{"$nulls":12},0]
[245,"Vidrio y productos de vidrio",11,{"$nulls":12},0]
[null,null,12,{"$nulls":12},0]
[null,null,13,{"$nulls":12},0]
[null,null,14,{"$nulls":12},0]
[null,null,15,{"$nulls":12},0]
[null,null,16,{"$nulls":12},0]
[null,null,17,{"$nulls":12},0]
[null,null,25,{"$nulls":12},0]
[null,null,26,{"$nulls":12},0]
[null,null,27,{"$nulls":12},0]
[246,"Material eléctrico y electrónico",11,{"v":79948,"d":"79,948"},{"v":79948,"d":"79,948"},{"v":79948,"d":"79,948"},{"v":79948,"d":"79,948"},{"v":79948,"d":"79,948"},{"v":79948,"d":"79,948"},{"v":79948,"d":"79,948"},{"v":79948,"d":"79,948"},{"v":79948,"d":"79,948"},{"v":79948,"d":"79,948"},{"v":79948,"d":"79,948"},{"v":79948,"d":"79,948"},{"v":959376,"d":"959,376"}]
[null,null,12,{"$nulls":12},0]
[null,null,13,{"$nulls":12},0]
[null,null,14,{"$nulls":12},0]
[null,null,15,{"$nulls":12},0]
[null,null,16,{"$nulls":12},0]
[null,null,17,{"$nulls":12},0]
[null,null,25,{"$nulls":12},0]
[null,null,26,{"$nulls":12},0]
[null,null,27,{"$nulls":12},0]
[247,"Artículos metálicos para la construcción",11,{"v":24974,"d":"24,974"},{"v":24974,"d":"24,974"},{"v":24974,"d":"24,974"},{"v":24974,"d":"24,974"},{"v":24974,"d":"24,974"},{"v":24974,"d":"24,974"},{"v":24974,"d":"24,974"},{"v":24974,"d":"24,974"},{"v":24974,"d":"24,974"},{"v":24974,"d":"24,974"},{"v":24974,"d":"24,974"},{"v":24974,"d":"24,974"},{"v":299688,"d":"299,688"}]
[null,null,12,{"$nulls":12},0]
[null,null,13,{"$nulls":12},0]
[null,null,14,{"$nulls":12},0]
[null,null,15,{"$nulls":12},0]
[null,null,16,{"$nulls":12},0]
[null,null,17,{"$nulls":12},0]
[null,null,25,{"$nulls":12},0]
[null,null,26,{"$nulls":12},0]
[null,null,27,{"$nulls":12},0]
[248,"Materiales complementarios",11,{"$nulls":12},0]
[null,null,12,{"$nulls":12},0]
[null,null,13,{"$nulls":12},0]
[null,null,14,{"$nulls":12},0]
[null,null,15,{"$nulls":12},0]
[null,null,16,{"$nulls":12},0]
[null,null,17,{"$nulls":12},0]
[null,null,25,{"$nulls":12},0]
[null,null,26,{"$nulls":12},0]
[null,null,27,{"$nulls":12},0]
[249,"Otros materiales y artículos de construcción y reparación",11,{"v":51466,"d":"51,466"},{"v":51466,"d":"51,466"},{"v":51466,"d":"51,466"},{"v":51466,"d":"51,466"},{"v":51466,"d":"51,466"},{"v":51466,"d":"51,466"},{"v":51466,"d":"51,466"},{"v":51466,"d":"51,466"},{"v":51466,"d":"51,466"},{"v":51466,"d":"51,466"},{"v":51466,"d":"51,466"},{"v":51466,"d":"51,466"},{"v":617592,"d":"617,592"}]
[null,null,12,{"$nulls":12},0]
[null,null,13,{"$nulls":12},{"$f":"SUM(D470:O470)","v":0}]
[null,null,14,{"$nulls":12},{"$f":"SUM(D471:O471)","v":0}]
[null,null,15,{"$nulls":12},0]
[null,null,16,{"$nulls":12},0]
[null,null,17,{"$nulls":12},0]
[null,null,25,{"$nulls":12},0]
[null,null,26,{"$nulls":12},0]
[null,null,27,{"$nulls":12},0]
[2500,"PRODUCTOS QUÍMICOS, FARMACÉUTICOS Y DE LABORATORIO",null,{"$f":"SUM(D479:D545)","v":{"v":52474,"d":"52,474"}},{"v":52474,"d":"52,474"},{"v":52474,"d":"52,474"},{"v":52474,"d":"52,474"},{"v":52474,"d":"52,474"},{"v":52474,"d":"52,474"},{"v":52474,"d":"52,474"},{"v":52474,"d":"52,474"},{"v":52474,"d":"52,474"},{"v":52474,"d":"52,474"},{"v":52474,"d":"52,474"},{"v":52474,"d":"52,474"},{"v":629688,"d":"629,688"}]
[251,"Productos químicos básicos",11,{"$nulls":12},{"$f":"SUM(D479:O479)","v":0}]
[null,null,12,{"$nulls":12},{"$f":"SUM(D480:O480)","v":0}]
[null,null,13,{"$nulls":12},0]
[null,null,14,{"$nulls":12},{"$f":"SUM(D482:O482)","v":0}]
[null,null,15,{"$nulls":12},0]
[null,null,16,{"$nulls":12},0]
[null,null,17,{"$nulls":12},0]
[null,null,25,{"$nulls":12},0]
[null,null,26,{"$nulls":12},0]
[null,null,27,{"$nulls":12},0]
[252,"Fertilizantes, pesticidas y otros agroquímicos",11,{"v":8563,"d":"8,563"},{"v":8563,"d":"8,563"},{"v":8563,"d":"8,563"},{"v":8563,"d":"8,563"},{"v":8563,"d":"8,563"},{"v":8563,"d":"8,563"},{"v":8563,"d":"8,563"},{"v":8563,"d":"8,563"},{"v":8563,"d":"8,563"},{"v":8563,"d":"8,563"},{"v":8563,"d":"8,563"},{"v":8563,"d":"8,563"},{"v":102756,"d":"102,756"}]
[null,null,12,{"$nulls":12},0]
[null,null,13,{"$nulls":12},0]
[null,null,14,{"$nulls":12},0]
[null,null,15,{"$nulls":12},0]
[null,null,16,{"$nulls":12},0]
[null,null,17,{"$nulls":12},0]
[null,null,25,{"$nulls":12},0]
[null,null,26,{"$nulls":12},0]
[null,null,27,{"$nulls":12},0]
[253,"Medicinas y productos farmacéuticos",11,{"v":17384,"d":"17,384"},{"v":17384,"d":"17,384"},{"v":17384,"d":"17,384"},{"v":17384,"d":"17,384"},{"v":17384,"d":"17,384"},{"v":17384,"d":"17,384"},{"v":17384,"d":"17,384"},{"v":17384,"d":"17,384"},{"v":17384,"d":"17,384"},{"v":17384,"d":"17,384"},{"v":17384,"d":"17,384"},{"v":17384,"d":"17,384"},{"v":208608,"d":"208,608"}]
[null,null,12,{"$nulls":12},0]
[null,null,13,{"$nulls":12},0]
[null,null,14,{"$nulls":12},0]
[null,null,15,{"$nulls":12},0]
[null,null,16,{"$nulls":12},0]
[null,null,17,{"$nulls":12},0]
[null,null,25,{"$nulls":12},0]
[null,null,26,{"$nulls":12},0]
[null,null,27,{"$nulls":12},0]
[254,"Materiales, accesorios y suministros médicos",11,305,305,305,305,305,305,305,305,305,305,305,305,{"v":3660,"d":"3,660"}]
[null,null,12,{"$nulls":12},0]
[null,null,13,{"$nulls":12},0]
[null,null,14,{"$nulls":12},0]
[null,null,15,{"$nulls":12},0]
[null,null,16,{"$nulls":12},0]
[null,null,17,{"$nulls":12},0]
[null,null,25,{"$nulls":12},0]
[null,null,26,{"$nulls":12},0]
[null,null,27,{"$nulls":12},0]
[255,"Materiales, accesorios y suministros de laboratorio",11,{"$nulls":12},0]
[null,null,12,{"$nulls":12},0]
[null,null,13,{"$nulls":12},0]
[null,null,14,{"$nulls":12},0]
[null,null,15,{"$nulls":12},0]
[null,null,16,{"$nulls":12},0]
[null,null,17,{"$nulls":12},0]
[null,null,25,{"$nulls":12},0]
[null,null,26,{"$nulls":12},0]
[null,null,27,{"$nulls":12},0]
[256,"Fibras sintéticas, hules plásticos y derivados",11,{"v":2500,"d":"2,500"},{"v":2500,"d":"2,500"},{"v":2500,"d":"2,500"},{"v":2500,"d":"2,500"},{"v":2500,"d":"2,500"},{"v":2500,"d":"2,500"},{"v":2500,"d":"2,500"},{"v":2500,"d":"2,500"},{"v":2500,"d":"2,500"},{"v":2500,"d":"2,500"},{"v":2500,"d":"2,500"},{"v":2500,"d":"2,500"},{"v":30000,"d":"30,000"}]
[null,null,12,{"$nulls":12},0]
[null,null,13,{"$nulls":12},0]
[null,null,14,{"$nulls":12},0]
[null,null,15,{"$nulls":12},0]
[null,null,16,{"$nulls":12},0]
[null,null,17,{"$nulls":12},0]
[null,null,25,{"$nulls":12},0]
[null,null,26,{"$nulls":12},0]
[null,null,27,{"$nulls":12},0]
[259,"Otros productos químicos",11,{"v":23722,"d":"23,722"},{"v":23722,"d":"23,722"},{"v":23722,"d":"23,722"},{"v":23722,"d":"23,722"},{"v":23722,"d":"23,722"},{"v":23722,"d":"23,722"},{"v":23722,"d":"23,722"},{"v":23722,"d":"23,722"},{"v":23722,"d":"23,722"},{"v":23722,"d":"23,722"},{"v":23722,"d":"23,722"},{"v":23722,"d":"23,722"},{"v":284664,"d":"284,664"}]
[null,null,12,{"$nulls":12},0]
[null,null,13,{"$nulls":12},0]
[null,null,14,{"$nulls":12},0]
[null,null,15,{"$nulls":12},0]
[null,null,16,{"$nulls":12},0]
[null,null,17,{"$nulls":12},0]
[null,null,25,{"$nulls":12},0]
[null,null,26,{"$nulls":12},{"$f":"SUM(D547:O547)","v":0}]
[null,null,27,{"$nulls":12},0]
[2600,"COMBUSTIBLES, LUBRICANTES Y ADITIVOS",null,{"$f":"SUM(D550:D566)","v":{"v":815942,"d":"815,942"}},{"v":815942,"d":"815,942"},{"v":815942,"d":"815,942"},{"v":815942,"d":"815,942"},{"v":815942,"d":"815,942"},{"v":815942,"d":"815,942"},{"v":815942,"d":"815,942"},{"v":815942,"d":"815,942"},{"v":815942,"d":"815,942"},{"v":815942,"d":"815,942"},{"v":815942,"d":"815,942"},{"v":815942,"d":"815,942"},{"v":9791304,"d":"9,791,304"}]
[261,"Combustibles, lubricantes y aditivos",11,{"v":815942,"d":"815,942"},{"v":815942,"d":"815,942"},{"v":815942,"d":"815,942"},{"v":815942,"d":"815,942"},{"v":815942,"d":"815,942"},{"v":815942,"d":"815,942"},{"v":815942,"d":"815,942"},{"v":815942,"d":"815,942"},{"v":815942,"d":"815,942"},{"v":815942,"d":"815,942"},{"v":815942,"d":"815,942"},{"v":815942,"d":"815,942"},{"$f":"SUM(D550:O550)","v":{"v":9791304,"d":"9,791,304"}}]
[null,null,12,{"$nulls":12},{"$f":"SUM(D551:O551)","v":0}]
[null,null,13,{"$nulls":12},0]
[null,null,14,{"$nulls":12},{"$f":"SUM(D553:O553)","v":0}]
[null,null,15,{"$nulls":12},0]
[null,null,16,{"$nulls":12},0]
[null,null,17,{"$nulls":12},0]
[null,null,25,{"$nulls":12},0]
[null,null,26,{"$nulls":12},0]
[null,null,27,{"$nulls":12},0]
[262,"Carbón y sus derivados",11,{"$nulls":12},0]
[null,null,12,{"$nulls":12},0]
[null,null,13,{"$nulls":12},0]
[null,null,14,{"$nulls":12},0]
[null,null,15,{"$nulls":12},0]
[null,null,16,{"$nulls":12},0]
[null,null,17,{"$nulls":12},0]
[null,null,25,{"$nulls":12},0]
[null,null,26,{"$nulls":12},0]
[null,null,27,{"$nulls":12},0]
[2700,"VESTUARIO, BLANCOS, PRENDAS DE PROTECCIÓN Y ARTÍCULOS DEPORTIVOS",null,{"$f":"SUM(D571:D617)","v":{"v":34259,"d":"34,259"}},{"v":34259,"d":"34,259"},{"v":34259,"d":"34,259"},{"v":34259,"d":"34,259"},{"v":34259,"d":"34,259"},{"v":34259,"d":"34,259"},{"v":34259,"d":"34,259"},{"v":34259,"d":"34,259"},{"v":34259,"d":"34,259"},{"v":34259,"d":"34,259"},{"v":34259,"d":"34,259"},{"v":34259,"d":"34,259"},{"v":411108,"d":"411,108"}]
[271,"Vestuario y uniformes",11,{"v":22764,"d":"22,764"},{"v":22764,"d":"22,764"},{"v":22764,"d":"22,764"},{"v":22764,"d":"22,764"},{"v":22764,"d":"22,764"},{"v":22764,"d":"22,764"},{"v":22764,"d":"22,764"},{"v":22764,"d":"22,764"},{"v":22764,"d":"22,764"},{"v":22764,"d":"22,764"},{"v":22764,"d":"22,764"},{"v":22764,"d":"22,764"},{"$f":"SUM(D571:O571)","v":{"v":273168,"d":"273,168"}}]
[null,null,12,{"$nulls":12},{"$f":"SUM(D572:O572)","v":0}]
[null,null,13,{"$nulls":12},0]
[null,null,14,{"$nulls":12},{"$f":"SUM(D574:O574)","v":0}]
[null,null,15,{"$nulls":12},0]
[null,null,16,{"$nulls":12},0]
[null,null,17,{"$nulls":12},0]
[null,null,25,{"$nulls":12},0]
[null,null,26,{"$nulls":12},0]
[null,null,27,{"$nulls":12},0]
[272,"Prendas de seguridad y protección personal",11,{"$nulls":12},0]
[null,null,12,{"$nulls":12},0]
[null,null,13,{"$nulls":12},0]
[null,null,14,{"$nulls":12},0]
[null,null,15,{"$nulls":12},0]
[null,null,16,{"$nulls":12},0]
[null,null,17,{"$nulls":12},0]
[null,null,25,{"$nulls":12},0]
[null,null,26,{"$nulls":12},0]
[null,null,27,{"$nulls":12},0]
[273,"Artículos deportivos",11,{"v":11495,"d":"11,495"},{"v":11495,"d":"11,495"},{"v":11495,"d":"11,495"},{"v":11495,"d":"11,495"},{"v":11495,"d":"11,495"},{"v":11495,"d":"11,495"},{"v":11495,"d":"11,495"},{"v":11495,"d":"11,495"},{"v":11495,"d":"11,495"},{"v":11495,"d":"11,495"},{"v":11495,"d":"11,495"},{"v":11495,"d":"11,495"},{"v":137940,"d":"137,940"}]
[null,null,12,{"$nulls":12},0]
[null,null,13,{"$nulls":12},0]
[null,null,14,{"$nulls":12},0]
[null,null,15,{"$nulls":12},0]
[null,null,16,{"$nulls":12},0]
[null,null,17,{"$nulls":12},0]
[null,null,25,{"$nulls":12},0]
[null,null,26,{"$nulls":12},0]
[null,null,27,{"$nulls":12},0]
[274,"Productos textiles",11,{"$nulls":12},0]
[null,null,12,{"$nulls":12},0]
[null,null,13,{"$nulls":12},0]
[null,null,14,{"$nulls":12},0]
[null,null,15,{"$nulls":12},0]
[null,null,16,{"$nulls":12},0]
[null,null,17,{"$nulls":12},0]
[null,null,25,{"$nulls":12},0]
[null,null,26,{"$nulls":12},0]
[null,null,27,{"$nulls":12},0]
[275,"Blancos y otros productos textiles, excepto prendas de vestir",11,{"$nulls":12},0]
[null,null,12,{"$nulls":12},0]
[null,null,13,{"$nulls":12},0]
[null,null,14,{"$nulls":12},0]
[null,null,15,{"$nulls":12},0]
[null,null,16,{"$nulls":12},0]
[null,null,17,{"$nulls":12},0]
[null,null,25,{"$nulls":12},0]
[null,null,26,{"$nulls":12},0]
[null,null,27,{"$nulls":12},0]
[2800,"MATERIALES Y SUMINISTROS PARA SEGURIDAD",null,{"$f":"SUM(D622:D651)","v":{"v":11994,"d":"11,994"}},{"v":11994,"d":"11,994"},{"v":11994,"d":"11,994"},{"v":11994,"d":"11,994"},{"v":11994,"d":"11,994"},{"v":11994,"d":"11,994"},{"v":11994,"d":"11,994"},{"v":11994,"d":"11,994"},{"v":11994,"d":"11,994"},{"v":11994,"d":"11,994"},{"v":11994,"d":"11,994"},{"v":11994,"d":"11,994"},{"v":143928,"d":"143,928"}]
[281,"Sustancias y materiales explosivos",11,{"$nulls":12},{"$f":"SUM(D622:O622)","v":0}]
[null,null,12,{"$nulls":12},{"$f":"SUM(D623:O623)","v":0}]
[null,null,13,{"$nulls":12},0]
[null,null,14,{"$nulls":12},{"$f":"SUM(D625:O625)","v":0}]
[null,null,15,{"$nulls":12},0]
[null,null,16,{"$nulls":12},0]
[null,null,17,{"$nulls":12},0]
[null,null,25,{"$nulls":12},0]
[null,null,26,{"$nulls":12},0]
[null,null,27,{"$nulls":12},0]
[282,"Materiales de seguridad pública",11,{"v":11994,"d":"11,994"},{"v":11994,"d":"11,994"},{"v":11994,"d":"11,994"},{"v":11994,"d":"11,994"},{"v":11994,"d":"11,994"},{"v":11994,"d":"11,994"},{"v":11994,"d":"11,994"},{"v":11994,"d":"11,994"},{"v":11994,"d":"11,994"},{"v":11994,"d":"11,994"},{"v":11994,"d":"11,994"},{"v":11994,"d":"11,994"},{"v":143928,"d":"143,928"}]
[null,null,12,{"$nulls":12},0]
[null,null,13,{"$nulls":12},0]
[null,null,14,{"$nulls":12},0]
[null,null,15,{"$nulls":12},0]
[null,null,16,{"$nulls":12},0]
[null,null,17,{"$nulls":12},0]
[null,null,25,{"$nulls":12},0]
[null,null,26,{"$nulls":12},0]
[null,null,27,{"$nulls":12},0]
[283,"Prendas de protección para seguridad pública y nacional",11,{"$nulls":12},0]
[null,null,12,{"$nulls":12},0]
[null,null,13,{"$nulls":12},0]
[null,null,14,{"$nulls":12},0]
[null,null,15,{"$nulls":12},0]
[null,null,16,{"$nulls":12},0]
[null,null,17,{"$nulls":12},0]
[null,null,25,{"$nulls":12},0]
[null,null,26,{"$nulls":12},0]
[null,null,27,{"$nulls":12},0]
[2900,"HERRAMIENTAS, REFACCIONES Y ACCESORIOS MENORES",null,{"$f":"SUM(D653:D739)","v":{"v":217628,"d":"217,628"}},{"v":217628,"d":"217,628"},{"v":217628,"d":"217,628"},{"v":217628,"d":"217,628"},{"v":217628,"d":"217,628"},{"v":217628,"d":"217,628"},{"v":217628,"d":"217,628"},{"v":217628,"d":"217,628"},{"v":217628,"d":"217,628"},{"v":217628,"d":"217,628"},{"v":217628,"d":"217,628"},{"v":217628,"d":"217,628"},{"v":2611536,"d":"2,611,536"}]
[291,"Herramientas menores",11,{"v":40366,"d":"40,366"},{"v":40366,"d":"40,366"},{"v":40366,"d":"40,366"},{"v":40366,"d":"40,366"},{"v":40366,"d":"40,366"},{"v":40366,"d":"40,366"},{"v":40366,"d":"40,366"},{"v":40366,"d":"40,366"},{"v":40366,"d":"40,366"},{"v":40366,"d":"40,366"},{"v":40366,"d":"40,366"},{"v":40366,"d":"40,366"},{"$f":"SUM(D653:O653)","v":{"v":484392,"d":"484,392"}}]
[null,null,12,{"$nulls":12},{"$f":"SUM(D654:O654)","v":0}]
[null,null,13,{"$nulls":12},0]
[null,null,14,{"$nulls":12},{"$f":"SUM(D656:O656)","v":0}]
[null,null,15,{"$nulls":12},0]
[null,null,16,{"$nulls":12},0]
[null,null,17,{"$nulls":12},0]
[null,null,25,{"$nulls":12},0]
[null,null,26,{"$nulls":12},0]
[null,null,27,{"$nulls":12},0]
[292,"Refacciones y accesorios menores de edificios",11,{"v":3089,"d":"3,089"},{"v":3089,"d":"3,089"},{"v":3089,"d":"3,089"},{"v":3089,"d":"3,089"},{"v":3089,"d":"3,089"},{"v":3089,"d":"3,089"},{"v":3089,"d":"3,089"},{"v":3089,"d":"3,089"},{"v":3089,"d":"3,089"},{"v":3089,"d":"3,089"},{"v":3089,"d":"3,089"},{"v":3089,"d":"3,089"},{"v":37068,"d":"37,068"}]
[null,null,12,{"$nulls":12},0]
[null,null,13,{"$nulls":12},0]
[null,null,14,{"$nulls":12},0]
[null,null,15,{"$nulls":12},0]
[null,null,16,{"$nulls":12},0]
[null,null,17,{"$nulls":12},0]
[null,null,25,{"$nulls":12},0]
[null,null,26,{"$nulls":12},0]
[null,null,27,{"$nulls":12},0]
[293,"Refacciones y accesorios menores de mobiliario  y equipo de administración, educacional y recreativo",11,812,812,812,812,812,812,812,812,812,812,812,812,{"v":9744,"d":"9,744"}]
[null,null,12,{"$nulls":12},0]
[null,null,13,{"$nulls":12},0]
[null,null,14,{"$nulls":12},0]
[null,null,15,{"$nulls":12},0]
[null,null,16,{"$nulls":12},0]
[null,null,17,{"$nulls":12},0]
[null,null,25,{"$nulls":12},0]
[null,null,26,{"$nulls":12},0]
[null,null,27,{"$nulls":12},0]
[294,"Refacciones y accesorios menores de equipo de cómputo y tecnologías de la información",11,{"v":4980,"d":"4,980"},{"v":4980,"d":"4,980"},{"v":4980,"d":"4,980"},{"v":4980,"d":"4,980"},{"v":4980,"d":"4,980"},{"v":4980,"d":"4,980"},{"v":4980,"d":"4,980"},{"v":4980,"d":"4,980"},{"v":4980,"d":"4,980"},{"v":4980,"d":"4,980"},{"v":4980,"d":"4,980"},{"v":4980,"d":"4,980"},{"v":59760,"d":"59,760"}]
[null,null,12,{"$nulls":12},0]
[null,null,13,{"$nulls":12},0]
[null,null,14,{"$nulls":12},0]
[null,null,15,{"$nulls":12},0]
[null,null,16,{"$nulls":12},0]
[null,null,17,{"$nulls":12},0]
[null,null,25,{"$nulls":12},0]
[null,null,26,{"$nulls":12},0]
[null,null,27,{"$nulls":12},0]
[295,"Refacciones y accesorios menores de equipo e instrumental médico y de laboratorio",11,{"$nulls":12},0]
[null,null,12,{"$nulls":12},0]
[null,null,13,{"$nulls":12},0]
[null,null,14,{"$nulls":12},0]
[null,null,15,{"$nulls":12},0]
[null,null,16,{"$nulls":12},0]
[null,null,17,{"$nulls":12},0]
[null,null,25,{"$nulls":12},0]
[null,null,26,{"$nulls":12},0]
[null,null,27,{"$nulls":12},0]
[296,"Refacciones y accesorios menores de equipo de transporte",11,{"v":92956,"d":"92,956"},{"v":92956,"d":"92,956"},{"v":92956,"d":"92,956"},{"v":92956,"d":"92,956"},{"v":92956,"d":"92,956"},{"v":92956,"d":"92,956"},{"v":92956,"d":"92,956"},{"v":92956,"d":"92,956"},{"v":92956,"d":"92,956"},{"v":92956,"d":"92,956"},{"v":92956,"d":"92,956"},{"v":92956,"d":"92,956"},{"v":1115472,"d":"1,115,472"}]
[null,null,12,{"$nulls":12},0]
[null,null,13,{"$nulls":12},0]
[null,null,14,{"$nulls":12},0]
[null,null,15,{"$nulls":12},0]
[null,null,16,{"$nulls":12},0]
[null,null,17,{"$nulls":12},0]
[null,null,25,{"$nulls":12},0]
[null,null,26,{"$nulls":12},0]
[null,null,27,{"$nulls":12},0]
[297,"Refacciones y accesorios menores de equipo de defensa y seguridad",11,{"$nulls":12},0]
[null,null,12,{"$nulls":12},0]
[null,null,13,{"$nulls":12},0]
[null,null,14,{"$nulls":12},0]
[null,null,15,{"$nulls":12},0]
[null,null,16,{"$nulls":12},0]
[null,null,17,{"$nulls":12},0]
[null,null,25,{"$nulls":12},0]
[null,null,26,{"$nulls":12},0]
[null,null,27,{"$nulls":12},0]
[298,"Refacciones y accesorios menores de maquinaria y otros equipos",11,{"v":75425,"d":"75,425"},{"v":75425,"d":"75,425"},{"v":75425,"d":"75,425"},{"v":75425,"d":"75,425"},{"v":75425,"d":"75,425"},{"v":75425,"d":"75,425"},{"v":75425,"d":"75,425"},{"v":75425,"d":"75,425"},{"v":75425,"d":"75,425"},{"v":75425,"d":"75,425"},{"v":75425,"d":"75,425"},{"v":75425,"d":"75,425"},{"v":905100,"d":"905,100"}]
[null,null,12,{"$nulls":12},0]
[null,null,13,{"$nulls":12},0]
[null,null,14,{"$nulls":12},0]
[null,null,15,{"$nulls":12},0]
[null,null,16,{"$nulls":12},0]
[null,null,17,{"$nulls":12},0]
[null,null,25,{"$nulls":12},0]
[null,null,26,{"$nulls":12},0]
[null,null,27,{"$nulls":12},0]
[299,"Refacciones y accesorios menores otros bienes muebles",11,{"$nulls":12},0]
[null,null,12,{"$nulls":12},0]
[null,null,13,{"$nulls":12},0]
[null,null,14,{"$nulls":12},0]
[null,null,15,{"$nulls":12},0]
[null,null,16,{"$nulls":12},0]
[null,null,17,{"$nulls":12},0]
[null,null,25,{"$nulls":12},0]
[null,null,26,{"$nulls":12},{"$f":"SUM(D741:O741)","v":0}]
[null,null,27,{"$nulls":12},0]
[3000,"SERVICIOS GENERALES",null,{"$f":"D744+D835+D926+D1017+D1108+D1199+D1270+D1361+D1412","v":{"v":2390721,"d":"2,390,721"}},{"v":2390721,"d":"2,390,721"},{"v":2390721,"d":"2,390,721"},{"v":2390721,"d":"2,390,721"},{"v":2390721,"d":"2,390,721"},{"v":2390721,"d":"2,390,721"},{"v":2390721,"d":"2,390,721"},{"v":2390721,"d":"2,390,721"},{"v":2390721,"d":"2,390,721"},{"v":2390721,"d":"2,390,721"},{"v":2390721,"d":"2,390,721"},{"v":2390721,"d":"2,390,721"},{"v":28688652,"d":"28,688,652"}]
[3100,"SERVICIOS BÁSICOS",null,{"$f":"SUM(D745:D831)","v":{"v":447392,"d":"447,392"}},{"v":447392,"d":"447,392"},{"v":447392,"d":"447,392"},{"v":447392,"d":"447,392"},{"v":447392,"d":"447,392"},{"v":447392,"d":"447,392"},{"v":447392,"d":"447,392"},{"v":447392,"d":"447,392"},{"v":447392,"d":"447,392"},{"v":447392,"d":"447,392"},{"v":447392,"d":"447,392"},{"v":447392,"d":"447,392"},{"v":5368704,"d":"5,368,704"}]
[311,"Energía eléctrica",11,{"v":415421,"d":"415,421"},{"v":415421,"d":"415,421"},{"v":415421,"d":"415,421"},{"v":415421,"d":"415,421"},{"v":415421,"d":"415,421"},{"v":415421,"d":"415,421"},{"v":415421,"d":"415,421"},{"v":415421,"d":"415,421"},{"v":415421,"d":"415,421"},{"v":415421,"d":"415,421"},{"v":415421,"d":"415,421"},{"v":415421,"d":"415,421"},{"$f":"SUM(D745:O745)","v":{"v":4985052,"d":"4,985,052"}}]
[null,null,12,{"$nulls":12},0]
[null,null,13,{"$nulls":12},0]
[null,null,14,{"$nulls":12},0]
[null,null,15,{"$nulls":12},0]
[null,null,16,{"$nulls":12},0]
[null,null,17,{"$nulls":12},0]
[null,null,25,{"$nulls":12},0]
[null,null,26,{"$nulls":12},0]
[null,null,27,{"$nulls":12},0]
[312,"Gas ",11,{"v":2087,"d":"2,087"},{"v":2087,"d":"2,087"},{"v":2087,"d":"2,087"},{"v":2087,"d":"2,087"},{"v":2087,"d":"2,087"},{"v":2087,"d":"2,087"},{"v":2087,"d":"2,087"},{"v":2087,"d":"2,087"},{"v":2087,"d":"2,087"},{"v":2087,"d":"2,087"},{"v":2087,"d":"2,087"},{"v":2087,"d":"2,087"},{"v":25044,"d":"25,044"}]
[null,null,12,{"$nulls":12},0]
[null,null,13,{"$nulls":12},0]
[null,null,14,{"$nulls":12},0]
[null,null,15,{"$nulls":12},0]
[null,null,16,{"$nulls":12},0]
[null,null,17,{"$nulls":12},0]
[null,null,25,{"$nulls":12},0]
[null,null,26,{"$nulls":12},0]
[null,null,27,{"$nulls":12},0]
[313,"Agua",11,{"$nulls":12},0]
[null,null,12,{"$nulls":12},0]
[null,null,13,{"$nulls":12},0]
[null,null,14,{"$nulls":12},0]
[null,null,15,{"$nulls":12},0]
[null,null,16,{"$nulls":12},0]
[null,null,17,{"$nulls":12},0]
[null,null,25,{"$nulls":12},0]
[null,null,26,{"$nulls":12},0]
[null,null,27,{"$nulls":12},0]
[314,"Telefonía tradicional",11,{"v":12191,"d":"12,191"},{"v":12191,"d":"12,191"},{"v":12191,"d":"12,191"},{"v":12191,"d":"12,191"},{"v":12191,"d":"12,191"},{"v":12191,"d":"12,191"},{"v":12191,"d":"12,191"},{"v":12191,"d":"12,191"},{"v":12191,"d":"12,191"},{"v":12191,"d":"12,191"},{"v":12191,"d":"12,191"},{"v":12191,"d":"12,191"},{"v":146292,"d":"146,292"}]
[null,null,12,{"$nulls":12},0]
[null,null,13,{"$nulls":12},0]
[null,null,14,{"$nulls":12},0]
[null,null,15,{"$nulls":12},0]
[null,null,16,{"$nulls":12},0]
[null,null,17,{"$nulls":12},0]
[null,null,25,{"$nulls":12},0]
[null,null,26,{"$nulls":12},0]
[null,null,27,{"$nulls":12},0]
[315,"Telefonía celular",11,{"v":6035,"d":"6,035"},{"v":6035,"d":"6,035"},{"v":6035,"d":"6,035"},{"v":6035,"d":"6,035"},{"v":6035,"d":"6,035"},{"v":6035,"d":"6,035"},{"v":6035,"d":"6,035"},{"v":6035,"d":"6,035"},{"v":6035,"d":"6,035"},{"v":6035,"d":"6,035"},{"v":6035,"d":"6,035"},{"v":6035,"d":"6,035"},{"v":72420,"d":"72,420"}]
[null,null,12,{"$nulls":12},0]
[null,null,13,{"$nulls":12},0]
[null,null,14,{"$nulls":12},0]
[null,null,15,{"$nulls":12},0]
[null,null,16,{"$nulls":12},0]
[null,null,17,{"$nulls":12},0]
[null,null,25,{"$nulls":12},0]
[null,null,26,{"$nulls":12},0]
[null,null,27,{"$nulls":12},0]
[316,"Servicios de telecomunicaciones y satélites",11,{"$nulls":12},0]
[null,null,12,{"$nulls":12},0]
[null,null,13,{"$nulls":12},0]
[null,null,14,{"$nulls":12},0]
[null,null,15,{"$nulls":12},0]
[null,null,16,{"$nulls":12},0]
[null,null,17,{"$nulls":12},0]
[null,null,25,{"$nulls":12},0]
[null,null,26,{"$nulls":12},0]
[null,null,27,{"$nulls":12},0]
[317,"Servicios de acceso de Internet, redes y procesamiento de información",11,{"v":11614,"d":"11,614"},{"v":11614,"d":"11,614"},{"v":11614,"d":"11,614"},{"v":11614,"d":"11,614"},{"v":11614,"d":"11,614"},{"v":11614,"d":"11,614"},{"v":11614,"d":"11,614"},{"v":11614,"d":"11,614"},{"v":11614,"d":"11,614"},{"v":11614,"d":"11,614"},{"v":11614,"d":"11,614"},{"v":11614,"d":"11,614"},{"v":139368,"d":"139,368"}]
[null,null,12,{"$nulls":12},0]
[null,null,13,{"$nulls":12},0]
[null,null,14,{"$nulls":12},0]
[null,null,15,{"$nulls":12},0]
[null,null,16,{"$nulls":12},0]
[null,null,17,{"$nulls":12},0]
[null,null,25,{"$nulls":12},0]
[null,null,26,{"$nulls":12},0]
[null,null,27,{"$nulls":12},0]
[318,"Servicios postales y telegráficos",11,44,44,44,44,44,44,44,44,44,44,44,44,528]
[null,null,12,{"$nulls":12},0]
[null,null,13,{"$nulls":12},0]
[null,null,14,{"$nulls":12},0]
[null,null,15,{"$nulls":12},0]
[null,null,16,{"$nulls":12},0]
[null,null,17,{"$nulls":12},0]
[null,null,25,{"$nulls":12},0]
[null,null,26,{"$nulls":12},0]
[null,null,27,{"$nulls":12},0]
[319,"Servicios integrales y otros servicios",11,{"$nulls":12},0]
[null,null,12,{"$nulls":12},0]
[null,null,13,{"$nulls":12},0]
[null,null,14,{"$nulls":12},0]
[null,null,15,{"$nulls":12},0]
[null,null,16,{"$nulls":12},0]
[null,null,17,{"$nulls":12},0]
[null,null,25,{"$nulls":12},0]
[null,null,26,{"$nulls":12},0]
[null,null,27,{"$nulls":12},0]
[3200,"SERVICIOS DE ARRENDAMIENTO",null,{"$f":"SUM(D836:D922)","v":{"v":779663,"d":"779,663"}},{"v":779663,"d":"779,663"},{"v":779663,"d":"779,663"},{"v":779663,"d":"779,663"},{"v":779663,"d":"779,663"},{"v":779663,"d":"779,663"},{"v":779663,"d":"779,663"},{"v":779663,"d":"779,663"},{"v":779663,"d":"779,663"},{"v":779663,"d":"779,663"},{"v":779663,"d":"779,663"},{"v":779663,"d":"779,663"},{"v":9355956,"d":"9,355,956"}]
[321,"Arrendamiento de terrenos",11,{"$nulls":12},0]
[null,null,12,{"$nulls":12},0]
[null,null,13,{"$nulls":12},0]
[null,null,14,{"$nulls":12},0]
[null,null,15,{"$nulls":12},0]
[null,null,16,{"$nulls":12},0]
[null,null,17,{"$nulls":12},0]
[null,null,25,{"$nulls":12},0]
[null,null,26,{"$nulls":12},0]
[null,null,27,{"$nulls":12},0]
[322,"Arrendamiento de edificios",11,{"v":14250,"d":"14,250"},{"v":14250,"d":"14,250"},{"v":14250,"d":"14,250"},{"v":14250,"d":"14,250"},{"v":14250,"d":"14,250"},{"v":14250,"d":"14,250"},{"v":14250,"d":"14,250"},{"v":14250,"d":"14,250"},{"v":14250,"d":"14,250"},{"v":14250,"d":"14,250"},{"v":14250,"d":"14,250"},{"v":14250,"d":"14,250"},{"v":171000,"d":"171,000"}]
[null,null,12,{"$nulls":12},0]
[null,null,13,{"$nulls":12},0]
[null,null,14,{"$nulls":12},0]
[null,null,15,{"$nulls":12},0]
[null,null,16,{"$nulls":12},0]
[null,null,17,{"$nulls":12},0]
[null,null,25,{"$nulls":12},0]
[null,null,26,{"$nulls":12},0]
[null,null,27,{"$nulls":12},0]
[323,"Arrendamiento de mobiliario y equipo de administración, educacional y recreativo",11,{"$nulls":12},0]
[null,null,12,{"$nulls":12},0]
[null,null,13,{"$nulls":12},0]
[null,null,14,{"$nulls":12},0]
[null,null,15,{"$nulls":12},0]
[null,null,16,{"$nulls":12},0]
[null,null,17,{"$nulls":12},0]
[null,null,25,{"$nulls":12},0]
[null,null,26,{"$nulls":12},0]
[null,null,27,{"$nulls":12},0]
[324,"Arrendamiento de equipo e instrumental médico y de laboratorio",11,{"$nulls":12},0]
[null,null,12,{"$nulls":12},0]
[null,null,13,{"$nulls":12},0]
[null,null,14,{"$nulls":12},0]
[null,null,15,{"$nulls":12},0]
[null,null,16,{"$nulls":12},0]
[null,null,17,{"$nulls":12},0]
[null,null,25,{"$nulls":12},0]
[null,null,26,{"$nulls":12},0]
[null,null,27,{"$nulls":12},0]
[325,"Arrendamiento de equipo de transporte",11,{"$nulls":12},0]
[null,null,12,{"$nulls":12},0]
[null,null,13,{"$nulls":12},0]
[null,null,14,{"$nulls":12},0]
[null,null,15,{"$nulls":12},0]
[null,null,16,{"$nulls":12},0]
[null,null,17,{"$nulls":12},0]
[null,null,25,{"$nulls":12},0]
[null,null,26,{"$nulls":12},0]
[null,null,27,{"$nulls":12},0]
[326,"Arrendamiento de maquinaria, otros equipos y herramientas",11,{"v":765413,"d":"765,413"},{"v":765413,"d":"765,413"},{"v":765413,"d":"765,413"},{"v":765413,"d":"765,413"},{"v":765413,"d":"765,413"},{"v":765413,"d":"765,413"},{"v":765413,"d":"765,413"},{"v":765413,"d":"765,413"},{"v":765413,"d":"765,413"},{"v":765413,"d":"765,413"},{"v":765413,"d":"765,413"},{"v":765413,"d":"765,413"},{"v":9184956,"d":"9,184,956"}]
[null,null,12,{"$nulls":12},0]
[null,null,13,{"$nulls":12},0]
[null,null,14,{"$nulls":12},0]
[null,null,15,{"$nulls":12},0]
[null,null,16,{"$nulls":12},0]
[null,null,17,{"$nulls":12},0]
[null,null,25,{"$nulls":12},0]
[null,null,26,{"$nulls":12},0]
[null,null,27,{"$nulls":12},0]
[327,"Arrendamiento de activos intangibles",11,{"$nulls":12},0]
[null,null,12,{"$nulls":12},0]
[null,null,13,{"$nulls":12},0]
[null,null,14,{"$nulls":12},0]
[null,null,15,{"$nulls":12},0]
[null,null,16,{"$nulls":12},0]
[null,null,17,{"$nulls":12},0]
[null,null,25,{"$nulls":12},0]
[null,null,26,{"$nulls":12},0]
[null,null,27,{"$nulls":12},0]
[328,"Arrendamiento financiero",11,{"$nulls":12},0]
[null,null,12,{"$nulls":12},0]
[null,null,13,{"$nulls":12},0]
[null,null,14,{"$nulls":12},0]
[null,null,15,{"$nulls":12},0]
[null,null,16,{"$nulls":12},0]
[null,null,17,{"$nulls":12},0]
[null,null,25,{"$nulls":12},0]
[null,null,26,{"$nulls":12},0]
[null,null,27,{"$nulls":12},0]
[329,"Otros arrendamientos",11,{"$nulls":12},0]
[null,null,12,{"$nulls":12},0]
[null,null,13,{"$nulls":12},{"$f":"SUM(D918:O918)","v":0}]
[null,null,14,{"$nulls":12},{"$f":"SUM(D919:O919)","v":0}]
[null,null,15,{"$nulls":12},0]
[null,null,16,{"$nulls":12},0]
[null,null,17,{"$nulls":12},0]
[null,null,25,{"$nulls":12},0]
[null,null,26,{"$nulls":12},0]
[null,null,27,{"$nulls":12},0]
[3300,"SERVICIOS PROFESIONALES, CIENTÍFICOS, TÉCNICOS Y OTROS SERVICIOS",null,{"$f":"SUM(D927:D1013)","v":{"v":148850,"d":"148,850"}},{"v":148850,"d":"148,850"},{"v":148850,"d":"148,850"},{"v":148850,"d":"148,850"},{"v":148850,"d":"148,850"},{"v":148850,"d":"148,850"},{"v":148850,"d":"148,850"},{"v":148850,"d":"148,850"},{"v":148850,"d":"148,850"},{"v":148850,"d":"148,850"},{"v":148850,"d":"148,850"},{"v":148850,"d":"148,850"},{"v":1786200,"d":"1,786,200"}]
[331,"Servicios legales, de contabilidad, auditoría y relacionados",11,{"v":99648,"d":"99,648"},{"v":99648,"d":"99,648"},{"v":99648,"d":"99,648"},{"v":99648,"d":"99,648"},{"v":99648,"d":"99,648"},{"v":99648,"d":"99,648"},{"v":99648,"d":"99,648"},{"v":99648,"d":"99,648"},{"v":99648,"d":"99,648"},{"v":99648,"d":"99,648"},{"v":99648,"d":"99,648"},{"v":99648,"d":"99,648"},{"$f":"SUM(D927:O927)","v":{"v":1195776,"d":"1,195,776"}}]
[null,null,12,{"$nulls":12},0]
[null,null,13,{"$nulls":12},0]
[null,null,14,{"$nulls":12},0]
[null,null,15,{"$nulls":12},0]
[null,null,16,{"$nulls":12},0]
[null,null,17,{"$nulls":12},0]
[null,null,25,{"$nulls":12},0]
[null,null,26,{"$nulls":12},0]
[null,null,27,{"$nulls":12},0]
[332,"Servicios de diseño, arquitectura, ingeniería y actividades relacionadas",11,{"v":2595,"d":"2,595"},{"v":2595,"d":"2,595"},{"v":2595,"d":"2,595"},{"v":2595,"d":"2,595"},{"v":2595,"d":"2,595"},{"v":2595,"d":"2,595"},{"v":2595,"d":"2,595"},{"v":2595,"d":"2,595"},{"v":2595,"d":"2,595"},{"v":2595,"d":"2,595"},{"v":2595,"d":"2,595"},{"v":2595,"d":"2,595"},{"v":31140,"d":"31,140"}]
[null,null,12,{"$nulls":12},0]
[null,null,13,{"$nulls":12},0]
[null,null,14,{"$nulls":12},0]
[null,null,15,{"$nulls":12},0]
[null,null,16,{"$nulls":12},0]
[null,null,17,{"$nulls":12},0]
[null,null,25,{"$nulls":12},0]
[null,null,26,{"$nulls":12},0]
[null,null,27,{"$nulls":12},0]
[333,"Servicios de consultoría administrativa, procesos, técnica y en tecnologías de la información",11,{"$nulls":12},0]
[null,null,12,{"$nulls":12},0]
[null,null,13,{"$nulls":12},0]
[null,null,14,{"$nulls":12},0]
[null,null,15,{"$nulls":12},0]
[null,null,16,{"$nulls":12},0]
[null,null,17,{"$nulls":12},0]
[null,null,25,{"$nulls":12},0]
[null,null,26,{"$nulls":12},0]
[null,null,27,{"$nulls":12},0]
[334,"Servicios de capacitación",11,{"v":32459,"d":"32,459"},{"v":32459,"d":"32,459"},{"v":32459,"d":"32,459"},{"v":32459,"d":"32,459"},{"v":32459,"d":"32,459"},{"v":32459,"d":"32,459"},{"v":32459,"d":"32,459"},{"v":32459,"d":"32,459"},{"v":32459,"d":"32,459"},{"v":32459,"d":"32,459"},{"v":32459,"d":"32,459"},{"v":32459,"d":"32,459"},{"v":389508,"d":"389,508"}]
[null,null,12,{"$nulls":12},0]
[null,null,13,{"$nulls":12},0]
[null,null,14,{"$nulls":12},0]
[null,null,15,{"$nulls":12},0]
[null,null,16,{"$nulls":12},0]
[null,null,17,{"$nulls":12},0]
[null,null,25,{"$nulls":12},0]
[null,null,26,{"$nulls":12},0]
[null,null,27,{"$nulls":12},0]
[335,"Servicios de investigación científica y desarrollo",11,{"$nulls":12},0]
[null,null,12,{"$nulls":12},0]
[null,null,13,{"$nulls":12},0]
[null,null,14,{"$nulls":12},0]
[null,null,15,{"$nulls":12},0]
[null,null,16,{"$nulls":12},0]
[null,null,17,{"$nulls":12},0]
[null,null,25,{"$nulls":12},0]
[null,null,26,{"$nulls":12},0]
[null,null,27,{"$nulls":12},0]
[336,"Servicios de apoyo administrativo, traducción, fotocopiado e impresión",11,{"v":14148,"d":"14,148"},{"v":14148,"d":"14,148"},{"v":14148,"d":"14,148"},{"v":14148,"d":"14,148"},{"v":14148,"d":"14,148"},{"v":14148,"d":"14,148"},{"v":14148,"d":"14,148"},{"v":14148,"d":"14,148"},{"v":14148,"d":"14,148"},{"v":14148,"d":"14,148"},{"v":14148,"d":"14,148"},{"v":14148,"d":"14,148"},{"v":169776,"d":"169,776"}]
[null,null,12,{"$nulls":12},0]
[null,null,13,{"$nulls":12},0]
[null,null,14,{"$nulls":12},0]
[null,null,15,{"$nulls":12},0]
[null,null,16,{"$nulls":12},0]
[null,null,17,{"$nulls":12},0]
[null,null,25,{"$nulls":12},0]
[null,null,26,{"$nulls":12},0]
[null,null,27,{"$nulls":12},0]
[337,"Servicios de protección y seguridad",11,{"$nulls":12},0]
[null,null,12,{"$nulls":12},0]
[null,null,13,{"$nulls":12},0]
[null,null,14,{"$nulls":12},0]
[null,null,15,{"$nulls":12},0]
[null,null,16,{"$nulls":12},0]
[null,null,17,{"$nulls":12},0]
[null,null,25,{"$nulls":12},0]
[null,null,26,{"$nulls":12},0]
[null,null,27,{"$nulls":12},0]
[338,"Servicios de vigilancia",11,{"$nulls":12},0]
[null,null,12,{"$nulls":12},0]
[null,null,13,{"$nulls":12},0]
[null,null,14,{"$nulls":12},0]
[null,null,15,{"$nulls":12},0]
[null,null,16,{"$nulls":12},0]
[null,null,17,{"$nulls":12},0]
[null,null,25,{"$nulls":12},0]
[null,null,26,{"$nulls":12},0]
[null,null,27,{"$nulls":12},0]
[339,"Servicios profesionales, científicos y técnicos integrales",11,{"$nulls":12},0]
[null,null,12,{"$nulls":12},0]
[null,null,13,{"$nulls":12},0]
[null,null,14,{"$nulls":12},0]
[null,null,15,{"$nulls":12},0]
[null,null,16,{"$nulls":12},0]
[null,null,17,{"$nulls":12},0]
[null,null,25,{"$nulls":12},0]
[null,null,26,{"$nulls":12},{"$f":"SUM(D1015:O1015)","v":0}]
[null,null,27,{"$nulls":12},0]
[3400,"SERVICIOS FINANCIEROS, BANCARIOS Y COMERCIALES",null,{"$f":"SUM(D1018:D1104)","v":{"v":53556,"d":"53,556"}},{"v":53556,"d":"53,556"},{"v":53556,"d":"53,556"},{"v":53556,"d":"53,556"},{"v":53556,"d":"53,556"},{"v":53556,"d":"53,556"},{"v":53556,"d":"53,556"},{"v":53556,"d":"53,556"},{"v":53556,"d":"53,556"},{"v":53556,"d":"53,556"},{"v":53556,"d":"53,556"},{"v":53556,"d":"53,556"},{"v":642672,"d":"642,672"}]
[341,"Servicios financieros y bancarios",11,{"v":8964,"d":"8,964"},{"v":8964,"d":"8,964"},{"v":8964,"d":"8,964"},{"v":8964,"d":"8,964"},{"v":8964,"d":"8,964"},{"v":8964,"d":"8,964"},{"v":8964,"d":"8,964"},{"v":8964,"d":"8,964"},{"v":8964,"d":"8,964"},{"v":8964,"d":"8,964"},{"v":8964,"d":"8,964"},{"v":8964,"d":"8,964"},{"$f":"SUM(D1018:O1018)","v":{"v":107568,"d":"107,568"}}]
[null,null,12,{"$nulls":12},0]
[null,null,13,{"$nulls":12},0]
[null,null,14,{"$nulls":12},0]
[null,null,15,{"$nulls":12},0]
[null,null,16,{"$nulls":12},0]
[null,null,17,{"$nulls":12},0]
[null,null,25,{"$nulls":12},0]
[null,null,26,{"$nulls":12},0]
[null,null,27,{"$nulls":12},0]
[342,"Servicios de cobranza, investigación crediticia y similar",11,{"$nulls":12},0]
[null,null,12,{"$nulls":12},0]
[null,null,13,{"$nulls":12},0]
[null,null,14,{"$nulls":12},0]
[null,null,15,{"$nulls":12},0]
[null,null,16,{"$nulls":12},0]
[null,null,17,{"$nulls":12},0]
[null,null,25,{"$nulls":12},0]
[null,null,26,{"$nulls":12},0]
[null,null,27,{"$nulls":12},0]
[343,"Servicios de recaudación, traslado y custodia de valores",11,{"$nulls":12},0]
[null,null,12,{"$nulls":12},0]
[null,null,13,{"$nulls":12},0]
[null,null,14,{"$nulls":12},0]
[null,null,15,{"$nulls":12},0]
[null,null,16,{"$nulls":12},0]
[null,null,17,{"$nulls":12},0]
[null,null,25,{"$nulls":12},0]
[null,null,26,{"$nulls":12},0]
[null,null,27,{"$nulls":12},0]
[344,"Seguros de responsabilidad patrimonial y fianzas",11,{"v":10000,"d":"10,000"},{"v":10000,"d":"10,000"},{"v":10000,"d":"10,000"},{"v":10000,"d":"10,000"},{"v":10000,"d":"10,000"},{"v":10000,"d":"10,000"},{"v":10000,"d":"10,000"},{"v":10000,"d":"10,000"},{"v":10000,"d":"10,000"},{"v":10000,"d":"10,000"},{"v":10000,"d":"10,000"},{"v":10000,"d":"10,000"},{"v":120000,"d":"120,000"}]
[null,null,12,{"$nulls":12},0]
[null,null,13,{"$nulls":12},0]
[null,null,14,{"$nulls":12},0]
[null,null,15,{"$nulls":12},0]
[null,null,16,{"$nulls":12},0]
[null,null,17,{"$nulls":12},0]
[null,null,25,{"$nulls":12},0]
[null,null,26,{"$nulls":12},0]
[null,null,27,{"$nulls":12},0]
[345,"Seguro de bienes patrimoniales",11,{"v":18333,"d":"18,333"},{"v":18333,"d":"18,333"},{"v":18333,"d":"18,333"},{"v":18333,"d":"18,333"},{"v":18333,"d":"18,333"},{"v":18333,"d":"18,333"},{"v":18333,"d":"18,333"},{"v":18333,"d":"18,333"},{"v":18333,"d":"18,333"},{"v":18333,"d":"18,333"},{"v":18333,"d":"18,333"},{"v":18333,"d":"18,333"},{"v":219996,"d":"219,996"}]
[null,null,12,{"$nulls":12},0]
[null,null,13,{"$nulls":12},0]
[null,null,14,{"$nulls":12},0]
[null,null,15,{"$nulls":12},0]
[null,null,16,{"$nulls":12},0]
[null,null,17,{"$nulls":12},0]
[null,null,25,{"$nulls":12},0]
[null,null,26,{"$nulls":12},0]
[null,null,27,{"$nulls":12},0]
[346,"Almacenaje, envase y embalaje",11,{"$nulls":12},0]
[null,null,12,{"$nulls":12},0]
[null,null,13,{"$nulls":12},0]
[null,null,14,{"$nulls":12},0]
[null,null,15,{"$nulls":12},0]
[null,null,16,{"$nulls":12},0]
[null,null,17,{"$nulls":12},0]
[null,null,25,{"$nulls":12},0]
[null,null,26,{"$nulls":12},0]
[null,null,27,{"$nulls":12},0]
[347,"Fletes y maniobras",11,{"v":15631,"d":"15,631"},{"v":15631,"d":"15,631"},{"v":15631,"d":"15,631"},{"v":15631,"d":"15,631"},{"v":15631,"d":"15,631"},{"v":15631,"d":"15,631"},{"v":15631,"d":"15,631"},{"v":15631,"d":"15,631"},{"v":15631,"d":"15,631"},{"v":15631,"d":"15,631"},{"v":15631,"d":"15,631"},{"v":15631,"d":"15,631"},{"v":187572,"d":"187,572"}]
[null,null,12,{"$nulls":12},0]
[null,null,13,{"$nulls":12},0]
[null,null,14,{"$nulls":12},0]
[null,null,15,{"$nulls":12},0]
[null,null,16,{"$nulls":12},0]
[null,null,17,{"$nulls":12},0]
[null,null,25,{"$nulls":12},0]
[null,null,26,{"$nulls":12},0]
[null,null,27,{"$nulls":12},0]
[348,"Comisiones por ventas",11,{"$nulls":12},0]
[null,null,12,{"$nulls":12},0]
[null,null,13,{"$nulls":12},0]
[null,null,14,{"$nulls":12},0]
[null,null,15,{"$nulls":12},0]
[null,null,16,{"$nulls":12},0]
[null,null,17,{"$nulls":12},0]
[null,null,25,{"$nulls":12},0]
[null,null,26,{"$nulls":12},0]
[null,null,27,{"$nulls":12},0]
[349,"Servicios financieros, bancarios y comerciales integrales",11,628,628,628,628,628,628,628,628,628,628,628,628,{"v":7536,"d":"7,536"}]
[null,null,12,{"$nulls":12},0]
[null,null,13,{"$nulls":12},0]
[null,null,14,{"$nulls":12},0]
[null,null,15,{"$nulls":12},0]
[null,null,16,{"$nulls":12},0]
[null,null,17,{"$nulls":12},0]
[null,null,25,{"$nulls":12},0]
[null,null,26,{"$nulls":12},{"$f":"SUM(D1106:O1106)","v":0}]
[null,null,27,{"$nulls":12},0]
[3500,"SERVICIOS DE INSTALACIÓN, REPARACIÓN, MANTENIMIENTO Y CONSERVACIÓN",null,{"$f":"SUM(D1109:D1195)","v":{"v":436403,"d":"436,403"}},{"v":436403,"d":"436,403"},{"v":436403,"d":"436,403"},{"v":436403,"d":"436,403"},{"v":436403,"d":"436,403"},{"v":436403,"d":"436,403"},{"v":436403,"d":"436,403"},{"v":436403,"d":"436,403"},{"v":436403,"d":"436,403"},{"v":436403,"d":"436,403"},{"v":436403,"d":"436,403"},{"v":436403,"d":"436,403"},{"v":5236836,"d":"5,236,836"}]
[351,"Conservación y mantenimiento menor de inmuebles",11,{"v":151349,"d":"151,349"},{"v":151349,"d":"151,349"},{"v":151349,"d":"151,349"},{"v":151349,"d":"151,349"},{"v":151349,"d":"151,349"},{"v":151349,"d":"151,349"},{"v":151349,"d":"151,349"},{"v":151349,"d":"151,349"},{"v":151349,"d":"151,349"},{"v":151349,"d":"151,349"},{"v":151349,"d":"151,349"},{"v":151349,"d":"151,349"},{"$f":"SUM(D1109:O1109)","v":{"v":1816188,"d":"1,816,188"}}]
[null,null,12,{"$nulls":12},0]
[null,null,13,{"$nulls":12},0]
[null,null,14,{"$nulls":12},0]
[null,null,15,{"$nulls":12},0]
[null,null,16,{"$nulls":12},0]
[null,null,17,{"$nulls":12},0]
[null,null,25,{"$nulls":12},0]
[null,null,26,{"$nulls":12},0]
[null,null,27,{"$nulls":12},0]
[352,"Instalación, reparación y mantenimiento de mobiliario y equipo de administración, educacional y recreativo",11,{"v":2726,"d":"2,726"},{"v":2726,"d":"2,726"},{"v":2726,"d":"2,726"},{"v":2726,"d":"2,726"},{"v":2726,"d":"2,726"},{"v":2726,"d":"2,726"},{"v":2726,"d":"2,726"},{"v":2726,"d":"2,726"},{"v":2726,"d":"2,726"},{"v":2726,"d":"2,726"},{"v":2726,"d":"2,726"},{"v":2726,"d":"2,726"},{"v":32712,"d":"32,712"}]
[null,null,12,{"$nulls":12},0]
[null,null,13,{"$nulls":12},0]
[null,null,14,{"$nulls":12},0]
[null,null,15,{"$nulls":12},0]
[null,null,16,{"$nulls":12},0]
[null,null,17,{"$nulls":12},0]
[null,null,25,{"$nulls":12},0]
[null,null,26,{"$nulls":12},0]
[null,null,27,{"$nulls":12},0]
[353,"Instalación, reparación y mantenimiento de equipo de cómputo y tecnología de la información",11,{"$nulls":12},0]
[null,null,12,{"$nulls":12},0]
[null,null,13,{"$nulls":12},0]
[null,null,14,{"$nulls":12},0]
[null,null,15,{"$nulls":12},0]
[null,null,16,{"$nulls":12},0]
[null,null,17,{"$nulls":12},0]
[null,null,25,{"$nulls":12},0]
[null,null,26,{"$nulls":12},0]
[null,null,27,{"$nulls":12},0]
[354,"Instalación, reparación y mantenimiento de equipo e instrumental médico y de laboratorio",11,{"$nulls":12},0]
[null,null,12,{"$nulls":12},0]
[null,null,13,{"$nulls":12},0]
[null,null,14,{"$nulls":12},0]
[null,null,15,{"$nulls":12},0]
[null,null,16,{"$nulls":12},0]
[null,null,17,{"$nulls":12},0]
[null,null,25,{"$nulls":12},0]
[null,null,26,{"$nulls":12},0]
[null,null,27,{"$nulls":12},0]
[355,"Reparación y mantenimiento de equipo de transporte",11,{"v":199990,"d":"199,990"},{"v":199990,"d":"199,990"},{"v":199990,"d":"199,990"},{"v":199990,"d":"199,990"},{"v":199990,"d":"199,990"},{"v":199990,"d":"199,990"},{"v":199990,"d":"199,990"},{"v":199990,"d":"199,990"},{"v":199990,"d":"199,990"},{"v":199990,"d":"199,990"},{"v":199990,"d":"199,990"},{"v":199990,"d":"199,990"},{"v":2399880,"d":"2,399,880"}]
[null,null,12,{"$nulls":12},0]
[null,null,13,{"$nulls":12},0]
[null,null,14,{"$nulls":12},0]
[null,null,15,{"$nulls":12},0]
[null,null,16,{"$nulls":12},0]
[null,null,17,{"$nulls":12},0]
[null,null,25,{"$nulls":12},0]
[null,null,26,{"$nulls":12},0]
[null,null,27,{"$nulls":12},0]
[356,"Reparación y mantenimiento de equipo de defensa y seguridad",11,{"$nulls":12},0]
[null,null,12,{"$nulls":12},0]
[null,null,13,{"$nulls":12},0]
[null,null,14,{"$nulls":12},0]
[null,null,15,{"$nulls":12},0]
[null,null,16,{"$nulls":12},0]
[null,null,17,{"$nulls":12},0]
[null,null,25,{"$nulls":12},0]
[null,null,26,{"$nulls":12},0]
[null,null,27,{"$nulls":12},0]
[357,"Instalación, reparación y mantenimiento de maquinaria, otros equipos y herramienta",11,{"v":46424,"d":"46,424"},{"v":46424,"d":"46,424"},{"v":46424,"d":"46,424"},{"v":46424,"d":"46,424"},{"v":46424,"d":"46,424"},{"v":46424,"d":"46,424"},{"v":46424,"d":"46,424"},{"v":46424,"d":"46,424"},{"v":46424,"d":"46,424"},{"v":46424,"d":"46,424"},{"v":46424,"d":"46,424"},{"v":46424,"d":"46,424"},{"v":557088,"d":"557,088"}]
[null,null,12,{"$nulls":12},0]
[null,null,13,{"$nulls":12},0]
[null,null,14,{"$nulls":12},0]
[null,null,15,{"$nulls":12},0]
[null,null,16,{"$nulls":12},0]
[null,null,17,{"$nulls":12},0]
[null,null,25,{"$nulls":12},0]
[null,null,26,{"$nulls":12},0]
[null,null,27,{"$nulls":12},0]
[358,"Servicios de limpieza y manejo de desechos",11,{"v":20588,"d":"20,588"},{"v":20588,"d":"20,588"},{"v":20588,"d":"20,588"},{"v":20588,"d":"20,588"},{"v":20588,"d":"20,588"},{"v":20588,"d":"20,588"},{"v":20588,"d":"20,588"},{"v":20588,"d":"20,588"},{"v":20588,"d":"20,588"},{"v":20588,"d":"20,588"},{"v":20588,"d":"20,588"},{"v":20588,"d":"20,588"},{"v":247056,"d":"247,056"}]
[null,null,12,{"$nulls":12},0]
[null,null,13,{"$nulls":12},0]
[null,null,14,{"$nulls":12},0]
[null,null,15,{"$nulls":12},0]
[null,null,16,{"$nulls":12},0]
[null,null,17,{"$nulls":12},0]
[null,null,25,{"$nulls":12},0]
[null,null,26,{"$nulls":12},0]
[null,null,27,{"$nulls":12},0]
[359,"Servicios de jardinería y fumigación",11,{"v":15326,"d":"15,326"},{"v":15326,"d":"15,326"},{"v":15326,"d":"15,326"},{"v":15326,"d":"15,326"},{"v":15326,"d":"15,326"},{"v":15326,"d":"15,326"},{"v":15326,"d":"15,326"},{"v":15326,"d":"15,326"},{"v":15326,"d":"15,326"},{"v":15326,"d":"15,326"},{"v":15326,"d":"15,326"},{"v":15326,"d":"15,326"},{"v":183912,"d":"183,912"}]
[null,null,12,{"$nulls":12},0]
[null,null,13,{"$nulls":12},0]
[null,null,14,{"$nulls":12},0]
[null,null,15,{"$nulls":12},0]
[null,null,16,{"$nulls":12},0]
[null,null,17,{"$nulls":12},0]
[null,null,25,{"$nulls":12},0]
[null,null,26,{"$nulls":12},{"$f":"SUM(D1197:O1197)","v":0}]
[null,null,27,{"$nulls":12},0]
[3600,"SERVICIOS DE COMUNICACIÓN SOCIAL Y PUBLICIDAD",null,{"$f":"SUM(D1200:D1266)","v":{"v":3356,"d":"3,356"}},{"v":3356,"d":"3,356"},{"v":3356,"d":"3,356"},{"v":3356,"d":"3,356"},{"v":3356,"d":"3,356"},{"v":3356,"d":"3,356"},{"v":3356,"d":"3,356"},{"v":3356,"d":"3,356"},{"v":3356,"d":"3,356"},{"v":3356,"d":"3,356"},{"v":3356,"d":"3,356"},{"v":3356,"d":"3,356"},{"v":40272,"d":"40,272"}]
[361,"Difusión por radio, televisión y otros medios de mensajes sobre programas y actividades gubernamentales",11,{"v":3356,"d":"3,356"},{"v":3356,"d":"3,356"},{"v":3356,"d":"3,356"},{"v":3356,"d":"3,356"},{"v":3356,"d":"3,356"},{"v":3356,"d":"3,356"},{"v":3356,"d":"3,356"},{"v":3356,"d":"3,356"},{"v":3356,"d":"3,356"},{"v":3356,"d":"3,356"},{"v":3356,"d":"3,356"},{"v":3356,"d":"3,356"},{"$f":"SUM(D1200:O1200)","v":{"v":40272,"d":"40,272"}}]
[null,null,12,{"$nulls":12},0]
[null,null,13,{"$nulls":12},0]
[null,null,14,{"$nulls":12},0]
[null,null,15,{"$nulls":12},0]
[null,null,16,{"$nulls":12},0]
[null,null,17,{"$nulls":12},0]
[null,null,25,{"$nulls":12},0]
[null,null,26,{"$nulls":12},0]
[null,null,27,{"$nulls":12},0]
[362,"Difusión por radio,  televisión y otros medios de mensajes comerciales para promover la venta de bienes o servicios",11,{"$nulls":12},0]
[null,null,12,{"$nulls":12},0]
[null,null,13,{"$nulls":12},0]
[null,null,14,{"$nulls":12},0]
[null,null,15,{"$nulls":12},0]
[null,null,16,{"$nulls":12},0]
[null,null,17,{"$nulls":12},0]
[null,null,25,{"$nulls":12},0]
[null,null,26,{"$nulls":12},0]
[null,null,27,{"$nulls":12},0]
[363,"Servicios de creatividad, preproducción y producción de publicidad, excepto Internet",11,{"$nulls":12},0]
[null,null,12,{"$nulls":12},0]
[null,null,13,{"$nulls":12},0]
[null,null,14,{"$nulls":12},0]
[null,null,15,{"$nulls":12},0]
[null,null,16,{"$nulls":12},0]
[null,null,17,{"$nulls":12},0]
[null,null,25,{"$nulls":12},0]
[null,null,26,{"$nulls":12},0]
[null,null,27,{"$nulls":12},0]
[364,"Servicios de revelado de  fotografías",11,{"$nulls":12},0]
[null,null,12,{"$nulls":12},0]
[null,null,13,{"$nulls":12},0]
[null,null,14,{"$nulls":12},0]
[null,null,15,{"$nulls":12},0]
[null,null,16,{"$nulls":12},0]
[null,null,17,{"$nulls":12},0]
[null,null,25,{"$nulls":12},0]
[null,null,26,{"$nulls":12},0]
[null,null,27,{"$nulls":12},0]
[365,"Servicios de la industria fílmica, del sonido y del video",11,{"$nulls":12},0]
[null,null,12,{"$nulls":12},0]
[null,null,13,{"$nulls":12},0]
[null,null,14,{"$nulls":12},0]
[null,null,15,{"$nulls":12},0]
[null,null,16,{"$nulls":12},0]
[null,null,17,{"$nulls":12},0]
[null,null,25,{"$nulls":12},0]
[null,null,26,{"$nulls":12},0]
[null,null,27,{"$nulls":12},0]
[366,"Servicio de creación y difusión de contenido exclusivamente a través de Internet",11,{"$nulls":12},0]
[null,null,12,{"$nulls":12},0]
[null,null,13,{"$nulls":12},0]
[null,null,14,{"$nulls":12},0]
[null,null,15,{"$nulls":12},0]
[null,null,16,{"$nulls":12},0]
[null,null,17,{"$nulls":12},0]
[null,null,25,{"$nulls":12},0]
[null,null,26,{"$nulls":12},0]
[null,null,27,{"$nulls":12},0]
[369,"Otros servicios de información",11,{"$nulls":12},0]
[null,null,12,{"$nulls":12},0]
[null,null,13,{"$nulls":12},0]
[null,null,14,{"$nulls":12},0]
[null,null,15,{"$nulls":12},0]
[null,null,16,{"$nulls":12},0]
[null,null,17,{"$nulls":12},0]
[null,null,25,{"$nulls":12},0]
[null,null,26,{"$nulls":12},{"$f":"SUM(D1268:O1268)","v":0}]
[null,null,27,{"$nulls":12},0]
[3700,"SERVICIOS DE TRASLADO Y VIÁTICOS",null,{"$f":"SUM(D1271:D1357)","v":{"v":88635,"d":"88,635"}},{"v":88635,"d":"88,635"},{"v":88635,"d":"88,635"},{"v":88635,"d":"88,635"},{"v":88635,"d":"88,635"},{"v":88635,"d":"88,635"},{"v":88635,"d":"88,635"},{"v":88635,"d":"88,635"},{"v":88635,"d":"88,635"},{"v":88635,"d":"88,635"},{"v":88635,"d":"88,635"},{"v":88635,"d":"88,635"},{"v":1063620,"d":"1,063,620"}]
[371,"Pasajes aéreos",11,{"$nulls":12},{"$f":"SUM(D1271:O1271)","v":0}]
[null,null,12,{"$nulls":12},0]
[null,null,13,{"$nulls":12},0]
[null,null,14,{"$nulls":12},0]
[null,null,15,{"$nulls":12},0]
[null,null,16,{"$nulls":12},0]
[null,null,17,{"$nulls":12},0]
[null,null,25,{"$nulls":12},0]
[null,null,26,{"$nulls":12},0]
[null,null,27,{"$nulls":12},0]
[372,"Pasajes terrestres",11,{"$nulls":12},0]
[null,null,12,{"$nulls":12},0]
[null,null,13,{"$nulls":12},0]
[null,null,14,{"$nulls":12},0]
[null,null,15,{"$nulls":12},0]
[null,null,16,{"$nulls":12},0]
[null,null,17,{"$nulls":12},0]
[null,null,25,{"$nulls":12},0]
[null,null,26,{"$nulls":12},0]
[null,null,27,{"$nulls":12},0]
[373,"Pasajes marítimos, lacustres y fluviales",11,{"$nulls":12},0]
[null,null,12,{"$nulls":12},0]
[null,null,13,{"$nulls":12},0]
[null,null,14,{"$nulls":12},0]
[null,null,15,{"$nulls":12},0]
[null,null,16,{"$nulls":12},0]
[null,null,17,{"$nulls":12},0]
[null,null,25,{"$nulls":12},0]
[null,null,26,{"$nulls":12},0]
[null,null,27,{"$nulls":12},0]
[374,"Autotransporte",11,{"$nulls":12},0]
[null,null,12,{"$nulls":12},0]
[null,null,13,{"$nulls":12},0]
[null,null,14,{"$nulls":12},0]
[null,null,15,{"$nulls":12},0]
[null,null,16,{"$nulls":12},0]
[null,null,17,{"$nulls":12},0]
[null,null,25,{"$nulls":12},0]
[null,null,26,{"$nulls":12},0]
[null,null,27,{"$nulls":12},0]
[375,"Viáticos en el país",11,{"v":88635,"d":"88,635"},{"v":88635,"d":"88,635"},{"v":88635,"d":"88,635"},{"v":88635,"d":"88,635"},{"v":88635,"d":"88,635"},{"v":88635,"d":"88,635"},{"v":88635,"d":"88,635"},{"v":88635,"d":"88,635"},{"v":88635,"d":"88,635"},{"v":88635,"d":"88,635"},{"v":88635,"d":"88,635"},{"v":88635,"d":"88,635"},{"v":1063620,"d":"1,063,620"}]
[null,null,12,{"$nulls":12},0]
[null,null,13,{"$nulls":12},0]
[null,null,14,{"$nulls":12},0]
[null,null,15,{"$nulls":12},0]
[null,null,16,{"$nulls":12},0]
[null,null,17,{"$nulls":12},0]
[null,null,25,{"$nulls":12},0]
[null,null,26,{"$nulls":12},0]
[null,null,27,{"$nulls":12},0]
[376,"Viáticos en el extranjero ",11,{"$nulls":12},0]
[null,null,12,{"$nulls":12},0]
[null,null,13,{"$nulls":12},0]
[null,null,14,{"$nulls":12},0]
[null,null,15,{"$nulls":12},0]
[null,null,16,{"$nulls":12},0]
[null,null,17,{"$nulls":12},0]
[null,null,25,{"$nulls":12},0]
[null,null,26,{"$nulls":12},0]
[null,null,27,{"$nulls":12},0]
[377,"Gastos de instalación y traslado de menaje",11,{"$nulls":12},0]
[null,null,12,{"$nulls":12},0]
[null,null,13,{"$nulls":12},0]
[null,null,14,{"$nulls":12},0]
[null,null,15,{"$nulls":12},0]
[null,null,16,{"$nulls":12},0]
[null,null,17,{"$nulls":12},0]
[null,null,25,{"$nulls":12},0]
[null,null,26,{"$nulls":12},0]
[null,null,27,{"$nulls":12},0]
[378,"Servicios integrales de traslado y viáticos",11,{"$nulls":12},0]
[null,null,12,{"$nulls":12},0]
[null,null,13,{"$nulls":12},0]
[null,null,14,{"$nulls":12},0]
[null,null,15,{"$nulls":12},0]
[null,null,16,{"$nulls":12},0]
[null,null,17,{"$nulls":12},0]
[null,null,25,{"$nulls":12},0]
[null,null,26,{"$nulls":12},0]
[null,null,27,{"$nulls":12},0]
[379,"Otros servicios de traslado y hospedaje",11,{"$nulls":12},0]
[null,null,12,{"$nulls":12},0]
[null,null,13,{"$nulls":12},0]
[null,null,14,{"$nulls":12},0]
[null,null,15,{"$nulls":12},0]
[null,null,16,{"$nulls":12},0]
[null,null,17,{"$nulls":12},0]
[null,null,25,{"$nulls":12},0]
[null,null,26,{"$nulls":12},{"$f":"SUM(D1359:O1359)","v":0}]
[null,null,27,{"$nulls":12},0]
[3800,"SERVICIOS OFICIALES",null,{"$f":"SUM(D1362:D1408)","v":{"v":235425,"d":"235,425"}},{"v":235425,"d":"235,425"},{"v":235425,"d":"235,425"},{"v":235425,"d":"235,425"},{"v":235425,"d":"235,425"},{"v":235425,"d":"235,425"},{"v":235425,"d":"235,425"},{"v":235425,"d":"235,425"},{"v":235425,"d":"235,425"},{"v":235425,"d":"235,425"},{"v":235425,"d":"235,425"},{"v":235425,"d":"235,425"},{"v":2825100,"d":"2,825,100"}]
[381,"Gastos de ceremonial",11,{"$nulls":12},{"$f":"SUM(D1362:O1362)","v":0}]
[null,null,12,{"$nulls":12},{"$f":"SUM(D1363:O1363)","v":0}]
[null,null,13,{"$nulls":12},0]
[null,null,14,{"$nulls":12},{"$f":"SUM(D1365:O1365)","v":0}]
[null,null,15,{"$nulls":12},0]
[null,null,16,{"$nulls":12},0]
[null,null,17,{"$nulls":12},0]
[null,null,25,{"$nulls":12},0]
[null,null,26,{"$nulls":12},0]
[null,null,27,{"$nulls":12},0]
[382,"Gastos de orden  social y cultural",11,{"v":235425,"d":"235,425"},{"v":235425,"d":"235,425"},{"v":235425,"d":"235,425"},{"v":235425,"d":"235,425"},{"v":235425,"d":"235,425"},{"v":235425,"d":"235,425"},{"v":235425,"d":"235,425"},{"v":235425,"d":"235,425"},{"v":235425,"d":"235,425"},{"v":235425,"d":"235,425"},{"v":235425,"d":"235,425"},{"v":235425,"d":"235,425"},{"v":2825100,"d":"2,825,100"}]
[null,null,12,{"$nulls":12},0]
[null,null,13,{"$nulls":12},0]
[null,null,14,{"$nulls":12},0]
[null,null,15,{"$nulls":12},0]
[null,null,16,{"$nulls":12},0]
[null,null,17,{"$nulls":12},0]
[null,null,25,{"$nulls":12},0]
[null,null,26,{"$nulls":12},0]
[null,null,27,{"$nulls":12},0]
[383,"Congresos y convenciones",11,{"$nulls":12},0]
[null,null,12,{"$nulls":12},0]
[null,null,13,{"$nulls":12},0]
[null,null,14,{"$nulls":12},0]
[null,null,15,{"$nulls":12},0]
[null,null,16,{"$nulls":12},0]
[null,null,17,{"$nulls":12},0]
[null,null,25,{"$nulls":12},0]
[null,null,26,{"$nulls":12},0]
[null,null,27,{"$nulls":12},0]
[384,"Exposiciones",11,{"$nulls":12},0]
[null,null,12,{"$nulls":12},0]
[null,null,13,{"$nulls":12},0]
[null,null,14,{"$nulls":12},0]
[null,null,15,{"$nulls":12},0]
[null,null,16,{"$nulls":12},0]
[null,null,17,{"$nulls":12},0]
[null,null,25,{"$nulls":12},0]
[null,null,26,{"$nulls":12},0]
[null,null,27,{"$nulls":12},0]
[385,"Gastos de representación",11,{"$nulls":12},0]
[null,null,12,{"$nulls":12},0]
[null,null,13,{"$nulls":12},0]
[null,null,14,{"$nulls":12},0]
[null,null,15,{"$nulls":12},0]
[null,null,16,{"$nulls":12},0]
[null,null,17,{"$nulls":12},0]
[null,null,25,{"$nulls":12},0]
[null,null,26,{"$nulls":12},0]
[null,null,27,{"$nulls":12},0]
[3900,"OTROS SERVICIOS GENERALES",null,{"$f":"SUM(D1413:D1490)","v":{"v":197441,"d":"197,441"}},{"v":197441,"d":"197,441"},{"v":197441,"d":"197,441"},{"v":197441,"d":"197,441"},{"v":197441,"d":"197,441"},{"v":197441,"d":"197,441"},{"v":197441,"d":"197,441"},{"v":197441,"d":"197,441"},{"v":197441,"d":"197,441"},{"v":197441,"d":"197,441"},{"v":197441,"d":"197,441"},{"v":197441,"d":"197,441"},{"v":2369292,"d":"2,369,292"}]
[391,"Servicios funerarios y de cementerios",11,{"v":20000,"d":"20,000"},{"v":20000,"d":"20,000"},{"v":20000,"d":"20,000"},{"v":20000,"d":"20,000"},{"v":20000,"d":"20,000"},{"v":20000,"d":"20,000"},{"v":20000,"d":"20,000"},{"v":20000,"d":"20,000"},{"v":20000,"d":"20,000"},{"v":20000,"d":"20,000"},{"v":20000,"d":"20,000"},{"v":20000,"d":"20,000"},{"$f":"SUM(D1413:O1413)","v":{"v":240000,"d":"240,000"}}]
[null,null,12,{"$nulls":12},0]
[null,null,13,{"$nulls":12},0]
[null,null,14,{"$nulls":12},0]
[null,null,15,{"$nulls":12},0]
[null,null,16,{"$nulls":12},0]
[null,null,17,{"$nulls":12},0]
[null,null,25,{"$nulls":12},0]
[null,null,26,{"$nulls":12},0]
[null,null,27,{"$nulls":12},0]
[392,"Impuestos y derechos",11,{"v":29108,"d":"29,108"},{"v":29108,"d":"29,108"},{"v":29108,"d":"29,108"},{"v":29108,"d":"29,108"},{"v":29108,"d":"29,108"},{"v":29108,"d":"29,108"},{"v":29108,"d":"29,108"},{"v":29108,"d":"29,108"},{"v":29108,"d":"29,108"},{"v":29108,"d":"29,108"},{"v":29108,"d":"29,108"},{"v":29108,"d":"29,108"},{"v":349296,"d":"349,296"}]
[null,null,12,{"$nulls":12},0]
[null,null,13,{"$nulls":12},0]
[null,null,14,{"$nulls":12},0]
[null,null,15,{"$nulls":12},0]
[null,null,16,{"$nulls":12},0]
[null,null,17,{"$nulls":12},0]
[null,null,25,{"$nulls":12},0]
[null,null,26,{"$nulls":12},0]
[null,null,27,{"$nulls":12},0]
[393,"Impuestos y derechos de importación",11,{"$nulls":12},0]
[null,null,12,{"$nulls":12},0]
[null,null,13,{"$nulls":12},0]
[null,null,14,{"$nulls":12},0]
[null,null,15,{"$nulls":12},0]
[null,null,16,{"$nulls":12},0]
[null,null,17,{"$nulls":12},0]
[null,null,25,{"$nulls":12},0]
[null,null,26,{"$nulls":12},0]
[null,null,27,{"$nulls":12},0]
[394,"Sentencias y resoluciones por autoridad competente",11,{"$nulls":12},0]
[null,null,12,{"$nulls":12},0]
[null,null,13,{"$nulls":12},0]
[null,null,14,{"$nulls":12},0]
[null,null,15,{"$nulls":12},0]
[null,null,16,{"$nulls":12},0]
[null,null,17,{"$nulls":12},0]
[null,null,25,{"$nulls":12},0]
[null,null,26,{"$nulls":12},0]
[null,null,27,{"$nulls":12},0]
[395,"Penas, multas, accesorios y actualizaciones",11,{"v":15000,"d":"15,000"},{"v":15000,"d":"15,000"},{"v":15000,"d":"15,000"},{"v":15000,"d":"15,000"},{"v":15000,"d":"15,000"},{"v":15000,"d":"15,000"},{"v":15000,"d":"15,000"},{"v":15000,"d":"15,000"},{"v":15000,"d":"15,000"},{"v":15000,"d":"15,000"},{"v":15000,"d":"15,000"},{"v":15000,"d":"15,000"},{"v":180000,"d":"180,000"}]
[null,null,12,{"$nulls":12},0]
[null,null,13,{"$nulls":12},0]
[null,null,14,{"$nulls":12},0]
[null,null,15,{"$nulls":12},0]
[null,null,16,{"$nulls":12},0]
[null,null,17,{"$nulls":12},0]
[null,null,25,{"$nulls":12},0]
[null,null,26,{"$nulls":12},0]
[null,null,27,{"$nulls":12},0]
[396,"Otros gastos por responsabilidades",11,{"$nulls":12},0]
[null,null,12,{"$nulls":12},0]
[null,null,13,{"$nulls":12},0]
[null,null,14,{"$nulls":12},0]
[null,null,15,{"$nulls":12},0]
[null,null,16,{"$nulls":12},0]
[null,null,17,{"$nulls":12},0]
[null,null,25,{"$nulls":12},0]
[null,null,26,{"$nulls":12},0]
[null,null,27,{"$nulls":12},0]
[397,"Utilidades",{"$nulls":13},{"$f":"SUM(D1473:O1473)","v":0}]
[398,"Impuesto sobre nómina y otros que se deriven de una relación laboral",11,{"v":133333,"d":"133,333"},{"v":133333,"d":"133,333"},{"v":133333,"d":"133,333"},{"v":133333,"d":"133,333"},{"v":133333,"d":"133,333"},{"v":133333,"d":"133,333"},{"v":133333,"d":"133,333"},{"v":133333,"d":"133,333"},{"v":133333,"d":"133,333"},{"v":133333,"d":"133,333"},{"v":133333,"d":"133,333"},{"v":133333,"d":"133,333"},{"v":1599996,"d":"1,599,996"}]
[null,null,12,{"$nulls":12},0]
[null,null,13,{"$nulls":12},0]
[null,null,14,{"$nulls":12},0]
[null,null,15,{"$nulls":12},0]
[null,null,16,{"$nulls":12},0]
[null,null,17,{"$nulls":12},0]
[null,null,25,{"$nulls":12},0]
[null,null,26,{"$nulls":12},0]
[null,null,27,{"$nulls":12},0]
[399,"Otros servicios generales",11,{"$nulls":12},0]
[null,null,12,{"$nulls":12},0]
[null,null,13,{"$nulls":12},0]
[null,null,14,{"$nulls":12},0]
[null,null,15,{"$nulls":12},0]
[null,null,16,{"$nulls":12},0]
[null,null,17,{"$nulls":12},0]
[null,null,25,{"$nulls":12},0]
[null,null,26,{"$nulls":12},{"$f":"SUM(D1492:O1492)","v":0}]
[null,null,27,{"$nulls":12},0]
[4000,"TRANSFERENCIAS, ASIGNACIONES, SUBSIDIOS Y OTRAS  AYUDAS",null,{"$f":"D1495+D1523+D1538+D1620+D1701+D1732+D1767+D1778+D1829","v":{"v":732588,"d":"732,588"}},{"v":732588,"d":"732,588"},{"v":732588,"d":"732,588"},{"v":732588,"d":"732,588"},{"v":732588,"d":"732,588"},{"v":732588,"d":"732,588"},{"v":732588,"d":"732,588"},{"v":732588,"d":"732,588"},{"v":732588,"d":"732,588"},{"v":732588,"d":"732,588"},{"v":732588,"d":"732,588"},{"v":732588,"d":"732,588"},{"v":8791056,"d":"8,791,056"}]
[4100,"TRANSFERENCIAS INTERNAS Y ASIGNACIONES AL SECTOR PÚBLICO",null,{"$f":"SUM(D1496:D1522)","v":0},0,0,0,0,0,0,0,0,0,0,0,0]
[411,"Asignaciones presupuestarias al Poder Ejecutivo",{"$nulls":13},{"$f":"SUM(D1496:O1496)","v":0}]
[412,"Asignaciones presupuestarias al Poder Legislativo",{"$nulls":13},0]
[413,"Asignaciones presupuestarias al Poder Judicial",{"$nulls":13},0]
[414,"Asignaciones presupuestarias a Órganos Autónomos",{"$nulls":13},0]
[415,"Transferencias internas otorgadas a entidades paraestatales no empresariales y no financieras",11,{"$nulls":12},{"$f":"SUM(D1500:O1500)","v":0}]
[null,null,12,{"$nulls":12},0]
[null,null,13,{"$nulls":12},0]
[null,null,14,{"$nulls":12},0]
[null,null,15,{"$nulls":12},0]
[null,null,16,{"$nulls":12},0]
[null,null,17,{"$nulls":12},0]
[null,null,25,{"$nulls":12},0]
[null,null,26,{"$nulls":12},0]
[null,null,27,{"$nulls":12},0]
[416,"Transferencias internas otorgadas a entidades paraestatales empresariales y no financieras",{"$nulls":13},{"$f":"SUM(D1510:O1510)","v":0}]
[417,"Transferencias internas otorgadas a fideicomisos públicos empresariales y no financieros",11,{"$nulls":12},0]
[null,null,12,{"$nulls":12},0]
[null,null,13,{"$nulls":12},0]
[null,null,14,{"$nulls":12},0]
[null,null,15,{"$nulls":12},0]
[null,null,16,{"$nulls":12},0]
[null,null,17,{"$nulls":12},0]
[null,null,25,{"$nulls":12},0]
[null,null,26,{"$nulls":12},0]
[null,null,27,{"$nulls":12},0]
[418,"Transferencias internas otorgadas a instituciones paraestatales públicas financieras",{"$nulls":13},0]
[419,"Transferencias internas otorgadas a fideicomisos públicos financieros",{"$nulls":13},0]
[4200,"TRANSFERENCIAS AL RESTO DEL SECTOR PÚBLICO",null,{"$f":"SUM(D1524:D1537)","v":{"v":63736,"d":"63,736"}},{"v":63736,"d":"63,736"},{"v":63736,"d":"63,736"},{"v":63736,"d":"63,736"},{"v":63736,"d":"63,736"},{"v":63736,"d":"63,736"},{"v":63736,"d":"63,736"},{"v":63736,"d":"63,736"},{"v":63736,"d":"63,736"},{"v":63736,"d":"63,736"},{"v":63736,"d":"63,736"},{"v":63736,"d":"63,736"},{"v":764832,"d":"764,832"}]
[421,"Transferencias otorgadas a entidades paraestatales no empresariales y no financieras",11,{"v":63736,"d":"63,736"},{"v":63736,"d":"63,736"},{"v":63736,"d":"63,736"},{"v":63736,"d":"63,736"},{"v":63736,"d":"63,736"},{"v":63736,"d":"63,736"},{"v":63736,"d":"63,736"},{"v":63736,"d":"63,736"},{"v":63736,"d":"63,736"},{"v":63736,"d":"63,736"},{"v":63736,"d":"63,736"},{"v":63736,"d":"63,736"},{"$f":"SUM(D1524:O1524)","v":{"v":764832,"d":"764,832"}}]
[null,null,12,{"$nulls":12},{"$f":"SUM(D1525:O1525)","v":0}]
[null,null,13,{"$nulls":12},0]
[null,null,14,{"$nulls":12},{"$f":"SUM(D1527:O1527)","v":0}]
[null,null,15,{"$nulls":12},0]
[null,null,16,{"$nulls":12},0]
[null,null,17,{"$nulls":12},0]
[null,null,25,{"$nulls":12},0]
[null,null,26,{"$nulls":12},0]
[null,null,27,{"$nulls":12},0]
[422,"Transferencias otorgadas para entidades paraestatales empresariales y no financieras",{"$nulls":13},0]
[423,"Transferencias otorgadas para instituciones paraestatales públicas financieras  ",{"$nulls":13},0]
[424,"Transferencias otorgadas a entidades federativas y municipios",{"$nulls":13},0]
[425,"Transferencias a fideicomisos de entidades federativas y municipios",{"$nulls":13},0]
[4300,"SUBSIDIOS Y SUBVENCIONES",null,{"$f":"SUM(D1539:D1619)","v":0},{"$f":"SUM(E1539:E1619)","v":0},0,0,0,0,0,0,0,0,0,0,0]
[431,"Subsidios a la producción",11,{"$nulls":12},{"$f":"SUM(D1539:O1539)","v":0}]
[null,null,12,{"$nulls":12},0]
[null,null,13,{"$nulls":12},0]
[null,null,14,{"$nulls":12},0]
[null,null,15,{"$nulls":12},0]
[null,null,16,{"$nulls":12},0]
[null,null,17,{"$nulls":12},0]
[null,null,25,{"$nulls":12},0]
[null,null,26,{"$nulls":12},0]
[null,null,27,{"$nulls":12},0]
[432,"Subsidios a la distribución",11,{"$nulls":12},0]
[null,null,12,{"$nulls":12},0]
[null,null,13,{"$nulls":12},0]
[null,null,14,{"$nulls":12},0]
[null,null,15,{"$nulls":12},0]
[null,null,16,{"$nulls":12},0]
[null,null,17,{"$nulls":12},0]
[null,null,25,{"$nulls":12},0]
[null,null,26,{"$nulls":12},0]
[null,null,27,{"$nulls":12},0]
[433,"Subsidios a la inversión",11,{"$nulls":12},0]
[null,null,12,{"$nulls":12},0]
[null,null,13,{"$nulls":12},0]
[null,null,14,{"$nulls":12},0]
[null,null,15,{"$nulls":12},0]
[null,null,16,{"$nulls":12},0]
[null,null,17,{"$nulls":12},0]
[null,null,25,{"$nulls":12},0]
[null,null,26,{"$nulls":12},0]
[null,null,27,{"$nulls":12},0]
[434,"Subsidios a la prestación de servicios públicos",11,{"$nulls":12},0]
[null,null,12,{"$nulls":12},0]
[null,null,13,{"$nulls":12},0]
[null,null,14,{"$nulls":12},0]
[null,null,15,{"$nulls":12},0]
[null,null,16,{"$nulls":12},0]
[null,null,17,{"$nulls":12},0]
[null,null,25,{"$nulls":12},0]
[null,null,26,{"$nulls":12},0]
[null,null,27,{"$nulls":12},0]
[435,"Subsidios para cubrir diferenciales de tasas de interés",11,{"$nulls":12},0]
[null,null,12,{"$nulls":12},0]
[null,null,13,{"$nulls":12},0]
[null,null,14,{"$nulls":12},0]
[null,null,15,{"$nulls":12},0]
[null,null,16,{"$nulls":12},0]
[null,null,17,{"$nulls":12},0]
[null,null,25,{"$nulls":12},0]
[null,null,26,{"$nulls":12},0]
[null,null,27,{"$nulls":12},0]
[436,"Subsidios a la vivienda ",11,{"$nulls":12},0]
[null,null,12,{"$nulls":12},0]
[null,null,13,{"$nulls":12},0]
[null,null,14,{"$nulls":12},0]
[null,null,15,{"$nulls":12},0]
[null,null,16,{"$nulls":12},0]
[null,null,17,{"$nulls":12},0]
[null,null,25,{"$nulls":12},0]
[null,null,26,{"$nulls":12},0]
[null,null,27,{"$nulls":12},0]
[437,"Subvenciones al consumo",11,{"$nulls":12},0]
[null,null,12,{"$nulls":12},0]
[null,null,13,{"$nulls":12},0]
[null,null,14,{"$nulls":12},0]
[null,null,15,{"$nulls":12},0]
[null,null,16,{"$nulls":12},0]
[null,null,17,{"$nulls":12},0]
[null,null,25,{"$nulls":12},0]
[null,null,26,{"$nulls":12},0]
[null,null,27,{"$nulls":12},0]
[438,"Subsidios a entidades federativas y municipios",{"$nulls":13},{"$f":"SUM(D1609:O1609)","v":0}]
[439,"Otros subsidios",11,{"$nulls":12},0]
[null,null,12,{"$nulls":12},0]
[null,null,13,{"$nulls":12},0]
[null,null,14,{"$nulls":12},0]
[null,null,15,{"$nulls":12},0]
[null,null,16,{"$nulls":12},0]
[null,null,17,{"$nulls":12},0]
[null,null,25,{"$nulls":12},0]
[null,null,26,{"$nulls":12},0]
[null,null,27,{"$nulls":12},{"$f":"SUM(D1619:O1619)","v":0}]
[4400,"AYUDAS SOCIALES",null,{"$f":"SUM(D1621:D1700)","v":{"v":656594,"d":"656,594"}},{"v":656594,"d":"656,594"},{"v":656594,"d":"656,594"},{"v":656594,"d":"656,594"},{"v":656594,"d":"656,594"},{"v":656594,"d":"656,594"},{"v":656594,"d":"656,594"},{"v":656594,"d":"656,594"},{"v":656594,"d":"656,594"},{"v":656594,"d":"656,594"},{"v":656594,"d":"656,594"},{"v":656594,"d":"656,594"},{"v":7879128,"d":"7,879,128"}]
[441,"Ayudas sociales a personas ",11,{"v":573540,"d":"573,540"},{"v":573540,"d":"573,540"},{"v":573540,"d":"573,540"},{"v":573540,"d":"573,540"},{"v":573540,"d":"573,540"},{"v":573540,"d":"573,540"},{"v":573540,"d":"573,540"},{"v":573540,"d":"573,540"},{"v":573540,"d":"573,540"},{"v":573540,"d":"573,540"},{"v":573540,"d":"573,540"},{"v":573540,"d":"573,540"},{"$f":"SUM(D1621:O1621)","v":{"v":6882480,"d":"6,882,480"}}]
[null,null,12,{"$nulls":12},0]
[null,null,13,{"$nulls":12},0]
[null,null,14,{"$nulls":12},0]
[null,null,15,{"$nulls":12},0]
[null,null,16,{"$nulls":12},0]
[null,null,17,{"$nulls":12},0]
[null,null,25,{"$nulls":12},0]
[null,null,26,{"$nulls":12},0]
[null,null,27,{"$nulls":12},0]
[442,"Becas y otras ayudas para programas de capacitación",11,{"$nulls":12},0]
[null,null,12,{"$nulls":12},0]
[null,null,13,{"$nulls":12},0]
[null,null,14,{"$nulls":12},0]
[null,null,15,{"$nulls":12},0]
[null,null,16,{"$nulls":12},0]
[null,null,17,{"$nulls":12},0]
[null,null,25,{"$nulls":12},0]
[null,null,26,{"$nulls":12},0]
[null,null,27,{"$nulls":12},0]
[443,"Ayudas sociales a instituciones de enseñanza",11,{"v":69152,"d":"69,152"},{"v":69152,"d":"69,152"},{"v":69152,"d":"69,152"},{"v":69152,"d":"69,152"},{"v":69152,"d":"69,152"},{"v":69152,"d":"69,152"},{"v":69152,"d":"69,152"},{"v":69152,"d":"69,152"},{"v":69152,"d":"69,152"},{"v":69152,"d":"69,152"},{"v":69152,"d":"69,152"},{"v":69152,"d":"69,152"},{"v":829824,"d":"829,824"}]
[null,null,12,{"$nulls":12},0]
[null,null,13,{"$nulls":12},0]
[null,null,14,{"$nulls":12},0]
[null,null,15,{"$nulls":12},0]
[null,null,16,{"$nulls":12},0]
[null,null,17,{"$nulls":12},0]
[null,null,25,{"$nulls":12},0]
[null,null,26,{"$nulls":12},0]
[null,null,27,{"$nulls":12},0]
[444,"Ayudas sociales a actividades científicas o académicas",11,{"$nulls":12},0]
[null,null,12,{"$nulls":12},0]
[null,null,13,{"$nulls":12},0]
[null,null,14,{"$nulls":12},0]
[null,null,15,{"$nulls":12},0]
[null,null,16,{"$nulls":12},0]
[null,null,17,{"$nulls":12},0]
[null,null,25,{"$nulls":12},0]
[null,null,26,{"$nulls":12},0]
[null,null,27,{"$nulls":12},0]
[445,"Ayudas sociales a instituciones sin fines de lucro",11,{"$nulls":12},0]
[null,null,12,{"$nulls":12},0]
[null,null,13,{"$nulls":12},0]
[null,null,14,{"$nulls":12},0]
[null,null,15,{"$nulls":12},0]
[null,null,16,{"$nulls":12},0]
[null,null,17,{"$nulls":12},0]
[null,null,25,{"$nulls":12},0]
[null,null,26,{"$nulls":12},0]
[null,null,27,{"$nulls":12},0]
[446,"Ayudas sociales a cooperativas",11,{"$nulls":12},0]
[null,null,12,{"$nulls":12},0]
[null,null,13,{"$nulls":12},0]
[null,null,14,{"$nulls":12},0]
[null,null,15,{"$nulls":12},0]
[null,null,16,{"$nulls":12},0]
[null,null,17,{"$nulls":12},0]
[null,null,25,{"$nulls":12},0]
[null,null,26,{"$nulls":12},0]
[null,null,27,{"$nulls":12},0]
[447,"Ayudas sociales a entidades de interés público",11,{"v":13902,"d":"13,902"},{"v":13902,"d":"13,902"},{"v":13902,"d":"13,902"},{"v":13902,"d":"13,902"},{"v":13902,"d":"13,902"},{"v":13902,"d":"13,902"},{"v":13902,"d":"13,902"},{"v":13902,"d":"13,902"},{"v":13902,"d":"13,902"},{"v":13902,"d":"13,902"},{"v":13902,"d":"13,902"},{"v":13902,"d":"13,902"},{"v":166824,"d":"166,824"}]
[null,null,12,{"$nulls":12},0]
[null,null,13,{"$nulls":12},0]
[null,null,14,{"$nulls":12},0]
[null,null,15,{"$nulls":12},0]
[null,null,16,{"$nulls":12},0]
[null,null,17,{"$nulls":12},0]
[null,null,25,{"$nulls":12},0]
[null,null,26,{"$nulls":12},0]
[null,null,27,{"$nulls":12},0]
[448,"Ayudas por desastres naturales y otros siniestros",11,{"$nulls":12},0]
[null,null,12,{"$nulls":12},0]
[null,null,13,{"$nulls":12},0]
[null,null,14,{"$nulls":12},0]
[null,null,15,{"$nulls":12},0]
[null,null,16,{"$nulls":12},0]
[null,null,17,{"$nulls":12},0]
[null,null,25,{"$nulls":12},0]
[null,null,26,{"$nulls":12},0]
[null,null,27,{"$nulls":12},0]
[4500,"PENSIONES Y JUBILACIONES",null,{"$f":"SUM(D1702:D1728)","v":{"v":12258,"d":"12,258"}},{"v":12258,"d":"12,258"},{"v":12258,"d":"12,258"},{"v":12258,"d":"12,258"},{"v":12258,"d":"12,258"},{"v":12258,"d":"12,258"},{"v":12258,"d":"12,258"},{"v":12258,"d":"12,258"},{"v":12258,"d":"12,258"},{"v":12258,"d":"12,258"},{"v":12258,"d":"12,258"},{"v":12258,"d":"12,258"},{"v":147096,"d":"147,096"}]
[451,"Pensiones",11,{"v":12258,"d":"12,258"},{"v":12258,"d":"12,258"},{"v":12258,"d":"12,258"},{"v":12258,"d":"12,258"},{"v":12258,"d":"12,258"},{"v":12258,"d":"12,258"},{"v":12258,"d":"12,258"},{"v":12258,"d":"12,258"},{"v":12258,"d":"12,258"},{"v":12258,"d":"12,258"},{"v":12258,"d":"12,258"},{"v":12258,"d":"12,258"},{"$f":"SUM(D1702:O1702)","v":{"v":147096,"d":"147,096"}}]
[null,null,12,{"$nulls":12},{"$f":"SUM(D1703:O1703)","v":0}]
[null,null,13,{"$nulls":12},0]
[null,null,14,{"$nulls":12},{"$f":"SUM(D1705:O1705)","v":0}]
[null,null,15,{"$nulls":12},0]
[null,null,16,{"$nulls":12},0]
[null,null,17,{"$nulls":12},0]
[null,null,25,{"$nulls":12},0]
[null,null,26,{"$nulls":12},0]
[null,null,27,{"$nulls":12},0]
[452,"Jubilaciones",11,{"$nulls":12},0]
[null,null,12,{"$nulls":12},0]
[null,null,13,{"$nulls":12},0]
[null,null,14,{"$nulls":12},0]
[null,null,15,{"$nulls":12},0]
[null,null,16,{"$nulls":12},0]
[null,null,17,{"$nulls":12},0]
[null,null,25,{"$nulls":12},0]
[null,null,26,{"$nulls":12},0]
[null,null,27,{"$nulls":12},0]
[459,"Otras pensiones y jubilaciones",11,{"$nulls":12},0]
[null,null,12,{"$nulls":12},0]
[null,null,13,{"$nulls":12},0]
[null,null,14,{"$nulls":12},0]
[null,null,15,{"$nulls":12},0]
[null,null,16,{"$nulls":12},0]
[null,null,17,{"$nulls":12},0]
[null,null,25,{"$nulls":12},0]
[null,null,26,{"$nulls":12},0]
[null,null,27,{"$nulls":12},0]
[4600,"TRANSFERENCIAS A FIDEICOMISOS, MANDATOS Y OTROS ANÁLOGOS",null,{"$f":"SUM(D1733:D1763)","v":0},0,0,0,0,0,0,0,0,0,0,0,0]
[461,"Transferencias a fideicomisos del Poder Ejecutivo",11,{"$nulls":12},{"$f":"SUM(D1733:O1733)","v":0}]
[null,null,12,{"$nulls":12},0]
[null,null,13,{"$nulls":12},0]
[null,null,14,{"$nulls":12},0]
[null,null,15,{"$nulls":12},0]
[null,null,16,{"$nulls":12},0]
[null,null,17,{"$nulls":12},0]
[null,null,25,{"$nulls":12},0]
[null,null,26,{"$nulls":12},0]
[null,null,27,{"$nulls":12},0]
[462,"Transferencias a fideicomisos del Poder Legislativo",{"$nulls":13},0]
[463,"Transferencias a fideicomisos del Poder Judicial",{"$nulls":13},0]
[464,"Trasferencias a fideicomisos públicos de entidades paraestatales no empresariales y no financieras",11,{"$nulls":12},0]
[null,null,12,{"$nulls":12},0]
[null,null,13,{"$nulls":12},0]
[null,null,14,{"$nulls":12},0]
[null,null,15,{"$nulls":12},0]
[null,null,16,{"$nulls":12},0]
[null,null,17,{"$nulls":12},0]
[null,null,25,{"$nulls":12},0]
[null,null,26,{"$nulls":12},0]
[null,null,27,{"$nulls":12},0]
[465,"Transferencias a fideicomisos públicos de entidades paraestatales empresariales y no financieras",{"$nulls":13},0]
[466,"Transferencias a fideicomisos de instituciones públicas financieras",{"$nulls":13},0]
[469,"Otras transferencias a fideicomisos   ",11,{"$nulls":12},0]
[null,null,12,{"$nulls":12},0]
[null,null,13,{"$nulls":12},0]
[null,null,14,{"$nulls":12},0]
[null,null,15,{"$nulls":12},0]
[null,null,16,{"$nulls":12},0]
[null,null,17,{"$nulls":12},0]
[null,null,25,{"$nulls":12},0]
[null,null,26,{"$nulls":12},0]
[null,null,27,{"$nulls":12},0]
[4700,"TRANSFERENCIAS A LA SEGURIDAD SOCIAL",null,{"$f":"SUM(D1768:D1774)","v":0},0,0,0,0,0,0,0,0,0,0,0,0]
[471,"Transferencias por obligación de ley",11,{"$nulls":12},{"$f":"SUM(D1768:O1768)","v":0}]
[null,null,12]
[null,null,13]
[null,null,14,{"$nulls":12},{"$f":"SUM(D1771:O1771)","v":0}]
[null,null,15,{"$nulls":12},0]
[null,null,16,{"$nulls":12},0]
[null,null,17,{"$nulls":12},0]
[null,null,25]
[null,null,26]
[null,null,27]
[4800,"DONATIVOS",null,{"$f":"SUM(D1779:D1825)","v":0},0,0,0,0,0,0,0,0,0,0,0,0]
[481,"Donativos a instituciones sin fines de lucro",11,{"$nulls":12},{"$f":"SUM(D1779:O1779)","v":0}]
[null,null,12,{"$nulls":12},{"$f":"SUM(D1780:O1780)","v":0}]
[null,null,13,{"$nulls":12},0]
[null,null,14,{"$nulls":12},{"$f":"SUM(D1782:O1782)","v":0}]
[null,null,15,{"$nulls":12},0]
[null,null,16,{"$nulls":12},0]
[null,null,17,{"$nulls":12},0]
[null,null,25,{"$nulls":12},0]
[null,null,26,{"$nulls":12},0]
[null,null,27,{"$nulls":12},0]
[482,"Donativos a entidades federativas ",11,{"$nulls":12},0]
[null,null,12,{"$nulls":12},0]
[null,null,13,{"$nulls":12},0]
[null,null,14,{"$nulls":12},0]
[null,null,15,{"$nulls":12},0]
[null,null,16,{"$nulls":12},0]
[null,null,17,{"$nulls":12},0]
[null,null,25,{"$nulls":12},0]
[null,null,26,{"$nulls":12},0]
[null,null,27,{"$nulls":12},0]
[483,"Donativos a fideicomisos privados",11,{"$nulls":12},0]
[null,null,12,{"$nulls":12},0]
[null,null,13,{"$nulls":12},0]
[null,null,14,{"$nulls":12},0]
[null,null,15,{"$nulls":12},0]
[null,null,16,{"$nulls":12},0]
[null,null,17,{"$nulls":12},0]
[null,null,25,{"$nulls":12},0]
[null,null,26,{"$nulls":12},0]
[null,null,27,{"$nulls":12},0]
[484,"Donativos a fideicomisos estatales",11,{"$nulls":12},0]
[null,null,12,{"$nulls":12},0]
[null,null,13,{"$nulls":12},0]
[null,null,14,{"$nulls":12},0]
[null,null,15,{"$nulls":12},0]
[null,null,16,{"$nulls":12},0]
[null,null,17,{"$nulls":12},0]
[null,null,25,{"$nulls":12},0]
[null,null,26,{"$nulls":12},0]
[null,null,27,{"$nulls":12},0]
[485,"Donativos internacionales",11,{"$nulls":12},0]
[null,null,12,{"$nulls":12},0]
[null,null,13,{"$nulls":12},0]
[null,null,14,{"$nulls":12},0]
[null,null,15,{"$nulls":12},0]
[null,null,16,{"$nulls":12},0]
[null,null,17,{"$nulls":12},0]
[null,null,25,{"$nulls":12},0]
[null,null,26,{"$nulls":12},0]
[null,null,27,{"$nulls":12},0]
[4900,"TRANSFERENCIAS AL EXTERIOR",null,{"$f":"SUM(D1830:D1856)","v":0},0,0,0,0,0,0,0,0,0,0,0,0]
[491,"Transferencias para gobiernos extranjeros",11,{"$nulls":12},{"$f":"SUM(D1830:O1830)","v":0}]
[null,null,12,{"$nulls":12},{"$f":"SUM(D1831:O1831)","v":0}]
[null,null,13,{"$nulls":12},0]
[null,null,14,{"$nulls":12},{"$f":"SUM(D1833:O1833)","v":0}]
[null,null,15,{"$nulls":12},0]
[null,null,16,{"$nulls":12},0]
[null,null,17,{"$nulls":12},0]
[null,null,25,{"$nulls":12},0]
[null,null,26,{"$nulls":12},0]
[null,null,27,{"$nulls":12},0]
[492,"Transferencias para organismos internacionales",11,{"$nulls":12},0]
[null,null,12,{"$nulls":12},0]
[null,null,13,{"$nulls":12},0]
[null,null,14,{"$nulls":12},0]
[null,null,15,{"$nulls":12},0]
[null,null,16,{"$nulls":12},0]
[null,null,17,{"$nulls":12},0]
[null,null,25,{"$nulls":12},0]
[null,null,26,{"$nulls":12},0]
[null,null,27,{"$nulls":12},0]
[493,"Transferencias para el sector privado externo",11,{"$nulls":12},0]
[null,null,12,{"$nulls":12},0]
[null,null,13,{"$nulls":12},0]
[null,null,14,{"$nulls":12},0]
[null,null,15,{"$nulls":12},0]
[null,null,16,{"$nulls":12},0]
[null,null,17,{"$nulls":12},0]
[null,null,25,{"$nulls":12},0]
[null,null,26,{"$nulls":12},0]
[null,null,27,{"$nulls":12},0]
[5000,"BIENES MUEBLES, INMUEBLES E INTANGIBLES ",null,{"$f":"D1861+D1922+D1963+D1984+D2045+D2056+D2137+D2228+D2269","v":{"v":171029,"d":"171,029"}},{"$f":"E1861+E1922+E1963+E1984+E2045+E2056+E2137+E2228+E2269","v":{"v":171029,"d":"171,029"}},{"v":171029,"d":"171,029"},{"v":171029,"d":"171,029"},{"v":171029,"d":"171,029"},{"v":171029,"d":"171,029"},{"v":171029,"d":"171,029"},{"v":171029,"d":"171,029"},{"v":171029,"d":"171,029"},{"v":171029,"d":"171,029"},{"v":171029,"d":"171,029"},{"v":171029,"d":"171,029"},{"v":2052348,"d":"2,052,348"}]
[5100,"MOBILIARIO Y EQUIPO DE ADMINISTRACIÓN",null,{"$f":"SUM(D1862:D1921)","v":{"v":136917,"d":"136,917"}},{"$f":"SUM(E1862:E1921)","v":{"v":136917,"d":"136,917"}},{"v":136917,"d":"136,917"},{"v":136917,"d":"136,917"},{"v":136917,"d":"136,917"},{"v":136917,"d":"136,917"},{"v":136917,"d":"136,917"},{"v":136917,"d":"136,917"},{"v":136917,"d":"136,917"},{"v":136917,"d":"136,917"},{"v":136917,"d":"136,917"},{"v":136917,"d":"136,917"},{"v":1643004,"d":"1,643,004"}]
[511,"Muebles de oficina y estantería ",11,{"v":100000,"d":"100,000"},{"v":100000,"d":"100,000"},{"v":100000,"d":"100,000"},{"v":100000,"d":"100,000"},{"v":100000,"d":"100,000"},{"v":100000,"d":"100,000"},{"v":100000,"d":"100,000"},{"v":100000,"d":"100,000"},{"v":100000,"d":"100,000"},{"v":100000,"d":"100,000"},{"v":100000,"d":"100,000"},{"v":100000,"d":"100,000"},{"$f":"SUM(D1862:O1862)","v":{"v":1200000,"d":"1,200,000"}}]
[null,null,12,{"$nulls":12},0]
[null,null,13,{"$nulls":12},0]
[null,null,14,{"$nulls":12},0]
[null,null,15,{"$nulls":12},0]
[null,null,16,{"$nulls":12},0]
[null,null,17,{"$nulls":12},0]
[null,null,25,{"$nulls":12},0]
[null,null,26,{"$nulls":12},0]
[null,null,27,{"$nulls":12},0]
[512,"Muebles, excepto de oficina y estantería",11,{"$nulls":12},0]
[null,null,12,{"$nulls":12},0]
[null,null,13,{"$nulls":12},0]
[null,null,14,{"$nulls":12},0]
[null,null,15,{"$nulls":12},0]
[null,null,16,{"$nulls":12},0]
[null,null,17,{"$nulls":12},0]
[null,null,25,{"$nulls":12},0]
[null,null,26,{"$nulls":12},0]
[null,null,27,{"$nulls":12},0]
[513,"Bienes artísticos, culturales y científicos",11,{"$nulls":12},0]
[null,null,12,{"$nulls":12},0]
[null,null,13,{"$nulls":12},0]
[null,null,14,{"$nulls":12},0]
[null,null,15,{"$nulls":12},0]
[null,null,16,{"$nulls":12},0]
[null,null,17,{"$nulls":12},0]
[null,null,25,{"$nulls":12},0]
[null,null,26,{"$nulls":12},0]
[null,null,27,{"$nulls":12},0]
[514,"Objetos de valor",11,{"$nulls":12},0]
[null,null,12,{"$nulls":12},0]
[null,null,13,{"$nulls":12},0]
[null,null,14,{"$nulls":12},0]
[null,null,15,{"$nulls":12},0]
[null,null,16,{"$nulls":12},0]
[null,null,17,{"$nulls":12},0]
[null,null,25,{"$nulls":12},0]
[null,null,26,{"$nulls":12},0]
[null,null,27,{"$nulls":12},0]
[515,"Equipo de cómputo de tecnologías de la información",11,{"v":36917,"d":"36,917"},{"v":36917,"d":"36,917"},{"v":36917,"d":"36,917"},{"v":36917,"d":"36,917"},{"v":36917,"d":"36,917"},{"v":36917,"d":"36,917"},{"v":36917,"d":"36,917"},{"v":36917,"d":"36,917"},{"v":36917,"d":"36,917"},{"v":36917,"d":"36,917"},{"v":36917,"d":"36,917"},{"v":36917,"d":"36,917"},{"v":443004,"d":"443,004"}]
[null,null,12,{"$nulls":12},0]
[null,null,13,{"$nulls":12},0]
[null,null,14,{"$nulls":12},0]
[null,null,15,{"$nulls":12},0]
[null,null,16,{"$nulls":12},0]
[null,null,17,{"$nulls":12},0]
[null,null,25,{"$nulls":12},0]
[null,null,26,{"$nulls":12},0]
[null,null,27,{"$nulls":12},0]
[519,"Otros mobiliarios y equipos de administración",11,{"$nulls":12},0]
[null,null,12,{"$nulls":12},0]
[null,null,13,{"$nulls":12},0]
[null,null,14,{"$nulls":12},0]
[null,null,15,{"$nulls":12},0]
[null,null,16,{"$nulls":12},0]
[null,null,17,{"$nulls":12},0]
[null,null,25,{"$nulls":12},0]
[null,null,26,{"$nulls":12},0]
[null,null,27,{"$nulls":12},0]
[5200,"MOBILIARIO Y EQUIPO EDUCACIONAL Y RECREATIVO",null,{"$f":"SUM(D1923:D1962)","v":{"v":1040,"d":"1,040"}},{"$f":"SUM(E1923:E1962)","v":{"v":1040,"d":"1,040"}},{"v":1040,"d":"1,040"},{"v":1040,"d":"1,040"},{"v":1040,"d":"1,040"},{"v":1040,"d":"1,040"},{"v":1040,"d":"1,040"},{"v":1040,"d":"1,040"},{"v":1040,"d":"1,040"},{"v":1040,"d":"1,040"},{"v":1040,"d":"1,040"},{"v":1040,"d":"1,040"},{"v":12480,"d":"12,480"}]
[521,"Equipos y aparatos audiovisuales",11,{"$nulls":12},{"$f":"SUM(D1923:O1923)","v":0}]
[null,null,12,{"$nulls":12},{"$f":"SUM(D1924:O1924)","v":0}]
[null,null,13,{"$nulls":12},0]
[null,null,14,{"$nulls":12},0]
[null,null,15,{"$nulls":12},0]
[null,null,16,{"$nulls":12},0]
[null,null,17,{"$nulls":12},0]
[null,null,25,{"$nulls":12},0]
[null,null,26,{"$nulls":12},0]
[null,null,27,{"$nulls":12},0]
[522,"Aparatos deportivos",11,{"$nulls":12},0]
[null,null,12,{"$nulls":12},0]
[null,null,13,{"$nulls":12},0]
[null,null,14,{"$nulls":12},0]
[null,null,15,{"$nulls":12},0]
[null,null,16,{"$nulls":12},0]
[null,null,17,{"$nulls":12},0]
[null,null,25,{"$nulls":12},0]
[null,null,26,{"$nulls":12},0]
[null,null,27,{"$nulls":12},0]
[523,"Cámaras fotográficas y de video",11,{"v":1040,"d":"1,040"},{"v":1040,"d":"1,040"},{"v":1040,"d":"1,040"},{"v":1040,"d":"1,040"},{"v":1040,"d":"1,040"},{"v":1040,"d":"1,040"},{"v":1040,"d":"1,040"},{"v":1040,"d":"1,040"},{"v":1040,"d":"1,040"},{"v":1040,"d":"1,040"},{"v":1040,"d":"1,040"},{"v":1040,"d":"1,040"},{"v":12480,"d":"12,480"}]
[null,null,12,{"$nulls":12},0]
[null,null,13,{"$nulls":12},0]
[null,null,14,{"$nulls":12},0]
[null,null,15,{"$nulls":12},0]
[null,null,16,{"$nulls":12},0]
[null,null,17,{"$nulls":12},0]
[null,null,25,{"$nulls":12},0]
[null,null,26,{"$nulls":12},0]
[null,null,27,{"$nulls":12},0]
[529,"Otro mobiliario y equipo educacional y recreativo ",11,{"$nulls":12},0]
[null,null,12,{"$nulls":12},0]
[null,null,13,{"$nulls":12},0]
[null,null,14,{"$nulls":12},0]
[null,null,15,{"$nulls":12},0]
[null,null,16,{"$nulls":12},0]
[null,null,17,{"$nulls":12},0]
[null,null,25,{"$nulls":12},0]
[null,null,26,{"$nulls":12},0]
[null,null,27,{"$nulls":12},0]
[5300,"EQUIPO E INSTRUMENTAL MÉDICO Y DE LABORATORIO",null,{"$f":"SUM(D1964:D1983)","v":0},{"$f":"SUM(E1964:E1983)","v":0},0,0,0,0,0,0,0,0,0,0,0]
[531,"Equipo médico y de laboratorio",11,{"$nulls":12},{"$f":"SUM(D1964:O1964)","v":0}]
[null,null,12,{"$nulls":12},{"$f":"SUM(D1965:O1965)","v":0}]
[null,null,13,{"$nulls":12},0]
[null,null,14,{"$nulls":12},0]
[null,null,15,{"$nulls":12},0]
[null,null,16,{"$nulls":12},0]
[null,null,17,{"$nulls":12},0]
[null,null,25,{"$nulls":12},0]
[null,null,26,{"$nulls":12},0]
[null,null,27,{"$nulls":12},0]
[532,"Instrumental médico y de laboratorio",11,{"$nulls":12},0]
[null,null,12,{"$nulls":12},0]
[null,null,13,{"$nulls":12},0]
[null,null,14,{"$nulls":12},0]
[null,null,15,{"$nulls":12},0]
[null,null,16,{"$nulls":12},0]
[null,null,17,{"$nulls":12},0]
[null,null,25,{"$nulls":12},0]
[null,null,26,{"$nulls":12},0]
[null,null,27,{"$nulls":12},0]
[5400,"VEHÍCULOS Y EQUIPO DE TRANSPORTE",null,{"$f":"SUM(D1985:D2044)","v":{"v":17855,"d":"17,855"}},{"$f":"SUM(E1985:E2044)","v":{"v":17855,"d":"17,855"}},{"v":17855,"d":"17,855"},{"v":17855,"d":"17,855"},{"v":17855,"d":"17,855"},{"v":17855,"d":"17,855"},{"v":17855,"d":"17,855"},{"v":17855,"d":"17,855"},{"v":17855,"d":"17,855"},{"v":17855,"d":"17,855"},{"v":17855,"d":"17,855"},{"v":17855,"d":"17,855"},{"v":214260,"d":"214,260"}]
[541,"Vehículos y equipo terrestre",11,{"v":17855,"d":"17,855"},{"v":17855,"d":"17,855"},{"v":17855,"d":"17,855"},{"v":17855,"d":"17,855"},{"v":17855,"d":"17,855"},{"v":17855,"d":"17,855"},{"v":17855,"d":"17,855"},{"v":17855,"d":"17,855"},{"v":17855,"d":"17,855"},{"v":17855,"d":"17,855"},{"v":17855,"d":"17,855"},{"v":17855,"d":"17,855"},{"$f":"SUM(D1985:O1985)","v":{"v":214260,"d":"214,260"}}]
[null,null,12,{"$nulls":12},0]
[null,null,13,{"$nulls":12},0]
[null,null,14,{"$nulls":12},0]
[null,null,15,{"$nulls":12},0]
[null,null,16,{"$nulls":12},0]
[null,null,17,{"$nulls":12},0]
[null,null,25,{"$nulls":12},0]
[null,null,26,{"$nulls":12},0]
[null,null,27,{"$nulls":12},0]
[542,"Carrocerías  y remolques",11,{"$nulls":12},0]
[null,null,12,{"$nulls":12},0]
[null,null,13,{"$nulls":12},0]
[null,null,14,{"$nulls":12},0]
[null,null,15,{"$nulls":12},0]
[null,null,16,{"$nulls":12},0]
[null,null,17,{"$nulls":12},0]
[null,null,25,{"$nulls":12},0]
[null,null,26,{"$nulls":12},0]
[null,null,27,{"$nulls":12},0]
[543,"Equipo aeroespacial",11,{"$nulls":12},0]
[null,null,12,{"$nulls":12},0]
[null,null,13,{"$nulls":12},0]
[null,null,14,{"$nulls":12},0]
[null,null,15,{"$nulls":12},0]
[null,null,16,{"$nulls":12},0]
[null,null,17,{"$nulls":12},0]
[null,null,25,{"$nulls":12},0]
[null,null,26,{"$nulls":12},0]
[null,null,27,{"$nulls":12},0]
[544,"Equipo ferroviario",11,{"$nulls":12},0]
[null,null,12,{"$nulls":12},0]
[null,null,13,{"$nulls":12},0]
[null,null,14,{"$nulls":12},0]
[null,null,15,{"$nulls":12},0]
[null,null,16,{"$nulls":12},0]
[null,null,17,{"$nulls":12},0]
[null,null,25,{"$nulls":12},0]
[null,null,26,{"$nulls":12},0]
[null,null,27,{"$nulls":12},0]
[545,"Embarcaciones",11,{"$nulls":12},0]
[null,null,12,{"$nulls":12},0]
[null,null,13,{"$nulls":12},0]
[null,null,14,{"$nulls":12},0]
[null,null,15,{"$nulls":12},0]
[null,null,16,{"$nulls":12},0]
[null,null,17,{"$nulls":12},0]
[null,null,25,{"$nulls":12},0]
[null,null,26,{"$nulls":12},0]
[null,null,27,{"$nulls":12},0]
[549,"Otros equipo de transporte",11,{"$nulls":12},0]
[null,null,12,{"$nulls":12},0]
[null,null,13,{"$nulls":12},0]
[null,null,14,{"$nulls":12},0]
[null,null,15,{"$nulls":12},0]
[null,null,16,{"$nulls":12},0]
[null,null,17,{"$nulls":12},0]
[null,null,25,{"$nulls":12},0]
[null,null,26,{"$nulls":12},0]
[null,null,27,{"$nulls":12},0]
[5500,"EQUIPO DE DEFENSA Y SEGURIDAD",null,{"$f":"SUM(D2046:D2055)","v":0},{"$f":"SUM(E2046:E2055)","v":0},0,0,0,0,0,0,0,0,0,0,0]
[551,"Equipo de defensa y seguridad",11,{"$nulls":12},{"$f":"SUM(D2046:O2046)","v":0}]
[null,null,12,{"$nulls":12},{"$f":"SUM(D2047:O2047)","v":0}]
[null,null,13]
[null,null,14,{"$nulls":12},0]
[null,null,15,{"$nulls":12},0]
[null,null,16,{"$nulls":12},0]
[null,null,17,{"$nulls":12},0]
[null,null,25,{"$nulls":12},0]
[null,null,26,{"$nulls":12},0]
[null,null,27,{"$nulls":12},0]
[5600,"MAQUINARIA, OTROS EQUIPOS Y HERRAMIENTAS",null,{"$f":"SUM(D2057:D2136)","v":{"v":9967,"d":"9,967"}},{"$f":"SUM(E2057:E2136)","v":{"v":9967,"d":"9,967"}},{"v":9967,"d":"9,967"},{"v":9967,"d":"9,967"},{"v":9967,"d":"9,967"},{"v":9967,"d":"9,967"},{"v":9967,"d":"9,967"},{"v":9967,"d":"9,967"},{"v":9967,"d":"9,967"},{"v":9967,"d":"9,967"},{"v":9967,"d":"9,967"},{"v":9967,"d":"9,967"},{"v":119604,"d":"119,604"}]
[561,"Maquinaria y equipo agropecuario",11,{"$nulls":12},{"$f":"SUM(D2057:O2057)","v":0}]
[null,null,12,{"$nulls":12},0]
[null,null,13,{"$nulls":12},0]
[null,null,14,{"$nulls":12},0]
[null,null,15,{"$nulls":12},0]
[null,null,16,{"$nulls":12},0]
[null,null,17,{"$nulls":12},0]
[null,null,25,{"$nulls":12},0]
[null,null,26,{"$nulls":12},0]
[null,null,27,{"$nulls":12},0]
[562,"Maquinaria y equipo industrial",11,{"$nulls":12},0]
[null,null,12,{"$nulls":12},0]
[null,null,13,{"$nulls":12},0]
[null,null,14,{"$nulls":12},0]
[null,null,15,{"$nulls":12},0]
[null,null,16,{"$nulls":12},0]
[null,null,17,{"$nulls":12},0]
[null,null,25,{"$nulls":12},0]
[null,null,26,{"$nulls":12},0]
[null,null,27,{"$nulls":12},0]
[563,"Maquinaria y equipo de construcción",11,{"$nulls":12},0]
[null,null,12,{"$nulls":12},0]
[null,null,13,{"$nulls":12},0]
[null,null,14,{"$nulls":12},0]
[null,null,15,{"$nulls":12},0]
[null,null,16,{"$nulls":12},0]
[null,null,17,{"$nulls":12},0]
[null,null,25,{"$nulls":12},0]
[null,null,26,{"$nulls":12},0]
[null,null,27,{"$nulls":12},0]
[564,"Sistemas de aire acondicionado, calefacción y de refrigeración industrial y comercial",11,{"$nulls":12},0]
[null,null,12,{"$nulls":12},0]
[null,null,13,{"$nulls":12},0]
[null,null,14,{"$nulls":12},0]
[null,null,15,{"$nulls":12},0]
[null,null,16,{"$nulls":12},0]
[null,null,17,{"$nulls":12},0]
[null,null,25,{"$nulls":12},0]
[null,null,26,{"$nulls":12},0]
[null,null,27,{"$nulls":12},0]
[565,"Equipo de comunicación y telecomunicación",11,{"$nulls":12},0]
[null,null,12,{"$nulls":12},0]
[null,null,13,{"$nulls":12},0]
[null,null,14,{"$nulls":12},0]
[null,null,15,{"$nulls":12},0]
[null,null,16,{"$nulls":12},0]
[null,null,17,{"$nulls":12},0]
[null,null,25,{"$nulls":12},0]
[null,null,26,{"$nulls":12},0]
[null,null,27,{"$nulls":12},0]
[566,"Equipo de generación eléctrica, aparatos y accesorios eléctricos",11,{"$nulls":12},0]
[null,null,12,{"$nulls":12},0]
[null,null,13,{"$nulls":12},0]
[null,null,14,{"$nulls":12},0]
[null,null,15,{"$nulls":12},0]
[null,null,16,{"$nulls":12},0]
[null,null,17,{"$nulls":12},0]
[null,null,25,{"$nulls":12},0]
[null,null,26,{"$nulls":12},0]
[null,null,27,{"$nulls":12},0]
[567,"Herramientas y máquinas-herramienta",11,{"v":9967,"d":"9,967"},{"v":9967,"d":"9,967"},{"v":9967,"d":"9,967"},{"v":9967,"d":"9,967"},{"v":9967,"d":"9,967"},{"v":9967,"d":"9,967"},{"v":9967,"d":"9,967"},{"v":9967,"d":"9,967"},{"v":9967,"d":"9,967"},{"v":9967,"d":"9,967"},{"v":9967,"d":"9,967"},{"v":9967,"d":"9,967"},{"v":119604,"d":"119,604"}]
[null,null,12,{"$nulls":12},0]
[null,null,13,{"$nulls":12},0]
[null,null,14,{"$nulls":12},0]
[null,null,15,{"$nulls":12},0]
[null,null,16,{"$nulls":12},0]
[null,null,17,{"$nulls":12},0]
[null,null,25,{"$nulls":12},0]
[null,null,26,{"$nulls":12},0]
[null,null,27,{"$nulls":12},0]
[569,"Otros equipos",11,{"$nulls":12},0]
[null,null,12,{"$nulls":12},0]
[null,null,13,{"$nulls":12},0]
[null,null,14,{"$nulls":12},0]
[null,null,15,{"$nulls":12},0]
[null,null,16,{"$nulls":12},0]
[null,null,17,{"$nulls":12},0]
[null,null,25,{"$nulls":12},0]
[null,null,26,{"$nulls":12},0]
[null,null,27,{"$nulls":12},0]
[5700,"ACTIVOS BIOLÓGICOS",null,{"$f":"SUM(D2138:D2227)","v":0},{"$f":"SUM(E2138:E2227)","v":0},0,0,0,0,0,0,0,0,0,0,0]
[571,"Bovinos",11,{"$nulls":12},{"$f":"SUM(D2138:O2138)","v":0}]
[null,null,12,{"$nulls":12},0]
[null,null,13,{"$nulls":12},0]
[null,null,14,{"$nulls":12},0]
[null,null,15,{"$nulls":12},0]
[null,null,16,{"$nulls":12},0]
[null,null,17,{"$nulls":12},0]
[null,null,25,{"$nulls":12},0]
[null,null,26,{"$nulls":12},0]
[null,null,27,{"$nulls":12},0]
[572,"Porcinos",11,{"$nulls":12},0]
[null,null,12,{"$nulls":12},0]
[null,null,13,{"$nulls":12},0]
[null,null,14,{"$nulls":12},0]
[null,null,15,{"$nulls":12},0]
[null,null,16,{"$nulls":12},0]
[null,null,17,{"$nulls":12},0]
[null,null,25,{"$nulls":12},0]
[null,null,26,{"$nulls":12},0]
[null,null,27,{"$nulls":12},0]
[573,"Aves",11,{"$nulls":12},0]
[null,null,12,{"$nulls":12},0]
[null,null,13,{"$nulls":12},0]
[null,null,14,{"$nulls":12},0]
[null,null,15,{"$nulls":12},0]
[null,null,16,{"$nulls":12},0]
[null,null,17,{"$nulls":12},0]
[null,null,25,{"$nulls":12},0]
[null,null,26,{"$nulls":12},0]
[null,null,27,{"$nulls":12},0]
[574,"Ovinos y caprinos ",11,{"$nulls":12},0]
[null,null,12,{"$nulls":12},0]
[null,null,13,{"$nulls":12},0]
[null,null,14,{"$nulls":12},0]
[null,null,15,{"$nulls":12},0]
[null,null,16,{"$nulls":12},0]
[null,null,17,{"$nulls":12},0]
[null,null,25,{"$nulls":12},0]
[null,null,26,{"$nulls":12},0]
[null,null,27,{"$nulls":12},0]
[575,"Peces y acuicultura",11,{"$nulls":12},0]
[null,null,12,{"$nulls":12},0]
[null,null,13,{"$nulls":12},0]
[null,null,14,{"$nulls":12},0]
[null,null,15,{"$nulls":12},0]
[null,null,16,{"$nulls":12},0]
[null,null,17,{"$nulls":12},0]
[null,null,25,{"$nulls":12},0]
[null,null,26,{"$nulls":12},0]
[null,null,27,{"$nulls":12},0]
[576,"Equinos",11,{"$nulls":12},0]
[null,null,12,{"$nulls":12},0]
[null,null,13,{"$nulls":12},0]
[null,null,14,{"$nulls":12},0]
[null,null,15,{"$nulls":12},0]
[null,null,16,{"$nulls":12},0]
[null,null,17,{"$nulls":12},0]
[null,null,25,{"$nulls":12},0]
[null,null,26,{"$nulls":12},0]
[null,null,27,{"$nulls":12},0]
[577,"Especies menores y de zoológico",11,{"$nulls":12},0]
[null,null,12,{"$nulls":12},0]
[null,null,13,{"$nulls":12},0]
[null,null,14,{"$nulls":12},0]
[null,null,15,{"$nulls":12},0]
[null,null,16,{"$nulls":12},0]
[null,null,17,{"$nulls":12},0]
[null,null,25,{"$nulls":12},0]
[null,null,26,{"$nulls":12},0]
[null,null,27,{"$nulls":12},0]
[578,"Árboles y plantas",11,{"$nulls":12},0]
[null,null,12,{"$nulls":12},0]
[null,null,13,{"$nulls":12},0]
[null,null,14,{"$nulls":12},0]
[null,null,15,{"$nulls":12},0]
[null,null,16,{"$nulls":12},0]
[null,null,17,{"$nulls":12},0]
[null,null,25,{"$nulls":12},0]
[null,null,26,{"$nulls":12},0]
[null,null,27,{"$nulls":12},0]
[579,"Otros activos biológicos",11,{"$nulls":12},0]
[null,null,12,{"$nulls":12},{"$f":"SUM(D2219:O2219)","v":0}]
[null,null,13,{"$nulls":12},0]
[null,null,14,{"$nulls":12},0]
[null,null,15,{"$nulls":12},0]
[null,null,16,{"$nulls":12},0]
[null,null,17,{"$nulls":12},0]
[null,null,25,{"$nulls":12},0]
[null,null,26,{"$nulls":12},0]
[null,null,27,{"$nulls":12},0]
[5800,"BIENES INMUEBLES",null,{"$f":"SUM(D2229:D2268)","v":0},{"$f":"SUM(E2229:E2268)","v":0},0,0,0,0,0,0,0,0,0,0,0]
[581,"Terrenos",11,{"$nulls":12},{"$f":"SUM(D2229:O2229)","v":0}]
[null,null,12,{"$nulls":12},{"$f":"SUM(D2230:O2230)","v":0}]
[null,null,13,{"$nulls":12},0]
[null,null,14,{"$nulls":12},0]
[null,null,15,{"$nulls":12},0]
[null,null,16,{"$nulls":12},0]
[null,null,17,{"$nulls":12},0]
[null,null,25,{"$nulls":12},0]
[null,null,26,{"$nulls":12},0]
[null,null,27,{"$nulls":12},0]
[582,"Viviendas ",11,{"$nulls":12},0]
[null,null,12,{"$nulls":12},0]
[null,null,13,{"$nulls":12},0]
[null,null,14,{"$nulls":12},0]
[null,null,15,{"$nulls":12},0]
[null,null,16,{"$nulls":12},0]
[null,null,17,{"$nulls":12},0]
[null,null,25,{"$nulls":12},0]
[null,null,26,{"$nulls":12},0]
[null,null,27,{"$nulls":12},0]
[583,"Edificios no residenciales",11,{"$nulls":12},0]
[null,null,12,{"$nulls":12},0]
[null,null,13,{"$nulls":12},0]
[null,null,14,{"$nulls":12},0]
[null,null,15,{"$nulls":12},0]
[null,null,16,{"$nulls":12},0]
[null,null,17,{"$nulls":12},0]
[null,null,25,{"$nulls":12},0]
[null,null,26,{"$nulls":12},0]
[null,null,27,{"$nulls":12},0]
[589,"Otros bienes inmuebles",11,{"$nulls":12},0]
[null,null,12,{"$nulls":12},0]
[null,null,13,{"$nulls":12},0]
[null,null,14,{"$nulls":12},0]
[null,null,15,{"$nulls":12},0]
[null,null,16,{"$nulls":12},0]
[null,null,17,{"$nulls":12},0]
[null,null,25,{"$nulls":12},0]
[null,null,26,{"$nulls":12},0]
[null,null,27,{"$nulls":12},0]
[5900,"ACTIVOS INTANGIBLES",null,{"$f":"SUM(D2270:D2359)","v":{"v":5250,"d":"5,250"}},{"v":5250,"d":"5,250"},{"v":5250,"d":"5,250"},{"v":5250,"d":"5,250"},{"v":5250,"d":"5,250"},{"v":5250,"d":"5,250"},{"v":5250,"d":"5,250"},{"v":5250,"d":"5,250"},{"v":5250,"d":"5,250"},{"v":5250,"d":"5,250"},{"v":5250,"d":"5,250"},{"v":5250,"d":"5,250"},{"v":63000,"d":"63,000"}]
[591,"Software",11,{"v":5250,"d":"5,250"},{"v":5250,"d":"5,250"},{"v":5250,"d":"5,250"},{"v":5250,"d":"5,250"},{"v":5250,"d":"5,250"},{"v":5250,"d":"5,250"},{"v":5250,"d":"5,250"},{"v":5250,"d":"5,250"},{"v":5250,"d":"5,250"},{"v":5250,"d":"5,250"},{"v":5250,"d":"5,250"},{"v":5250,"d":"5,250"},{"$f":"SUM(D2270:O2270)","v":{"v":63000,"d":"63,000"}}]
[null,null,12,{"$nulls":12},0]
[null,null,13,{"$nulls":12},0]
[null,null,14,{"$nulls":12},0]
[null,null,15,{"$nulls":12},0]
[null,null,16,{"$nulls":12},0]
[null,null,17,{"$nulls":12},0]
[null,null,25,{"$nulls":12},0]
[null,null,26,{"$nulls":12},0]
[null,null,27,{"$nulls":12},0]
[592,"Patentes",11,{"$nulls":12},0]
[null,null,12,{"$nulls":12},0]
[null,null,13,{"$nulls":12},0]
[null,null,14,{"$nulls":12},0]
[null,null,15,{"$nulls":12},0]
[null,null,16,{"$nulls":12},0]
[null,null,17,{"$nulls":12},0]
[null,null,25,{"$nulls":12},0]
[null,null,26,{"$nulls":12},0]
[null,null,27,{"$nulls":12},0]
[593,"Marcas",11,{"$nulls":12},0]
[null,null,12,{"$nulls":12},0]
[null,null,13,{"$nulls":12},0]
[null,null,14,{"$nulls":12},0]
[null,null,15,{"$nulls":12},0]
[null,null,16,{"$nulls":12},0]
[null,null,17,{"$nulls":12},0]
[null,null,25,{"$nulls":12},0]
[null,null,26,{"$nulls":12},0]
[null,null,27,{"$nulls":12},0]
[594,"Derechos",11,{"$nulls":12},0]
[null,null,12,{"$nulls":12},0]
[null,null,13,{"$nulls":12},0]
[null,null,14,{"$nulls":12},0]
[null,null,15,{"$nulls":12},0]
[null,null,16,{"$nulls":12},0]
[null,null,17,{"$nulls":12},0]
[null,null,25,{"$nulls":12},0]
[null,null,26,{"$nulls":12},0]
[null,null,27,{"$nulls":12},0]
[595,"Concesiones",11,{"$nulls":12},0]
[null,null,12,{"$nulls":12},0]
[null,null,13,{"$nulls":12},0]
[null,null,14,{"$nulls":12},0]
[null,null,15,{"$nulls":12},0]
[null,null,16,{"$nulls":12},0]
[null,null,17,{"$nulls":12},0]
[null,null,25,{"$nulls":12},0]
[null,null,26,{"$nulls":12},0]
[null,null,27,{"$nulls":12},0]
[596,"Franquicias",11,{"$nulls":12},0]
[null,null,12,{"$nulls":12},0]
[null,null,13,{"$nulls":12},0]
[null,null,14,{"$nulls":12},0]
[null,null,15,{"$nulls":12},0]
[null,null,16,{"$nulls":12},0]
[null,null,17,{"$nulls":12},0]
[null,null,25,{"$nulls":12},0]
[null,null,26,{"$nulls":12},0]
[null,null,27,{"$nulls":12},0]
[597,"Licencias informáticas e intelectuales",11,{"$nulls":12},0]
[null,null,12,{"$nulls":12},0]
[null,null,13,{"$nulls":12},0]
[null,null,14,{"$nulls":12},0]
[null,null,15,{"$nulls":12},0]
[null,null,16,{"$nulls":12},0]
[null,null,17,{"$nulls":12},0]
[null,null,25,{"$nulls":12},0]
[null,null,26,{"$nulls":12},0]
[null,null,27,{"$nulls":12},0]
[598,"Licencias industriales, comerciales y otras",11,{"$nulls":12},0]
[null,null,12,{"$nulls":12},0]
[null,null,13,{"$nulls":12},0]
[null,null,14,{"$nulls":12},0]
[null,null,15,{"$nulls":12},0]
[null,null,16,{"$nulls":12},0]
[null,null,17,{"$nulls":12},0]
[null,null,25,{"$nulls":12},0]
[null,null,26,{"$nulls":12},0]
[null,null,27,{"$nulls":12},0]
[599,"Otros activos intangibles",11,{"$nulls":12},0]
[null,null,12,{"$nulls":12},{"$f":"SUM(D2351:O2351)","v":0}]
[null,null,13,{"$nulls":12},0]
[null,null,14,{"$nulls":12},0]
[null,null,15,{"$nulls":12},0]
[null,null,16,{"$nulls":12},0]
[null,null,17,{"$nulls":12},0]
[null,null,25,{"$nulls":12},0]
[null,null,26,{"$nulls":12},0]
[null,null,27,{"$nulls":12},0]
[6000,"INVERSIÓN PÚBLICA",null,{"$f":"D2361+D2442+D2523","v":{"v":1758390,"d":"1,758,390"}},{"v":1758390,"d":"1,758,390"},{"v":1758390,"d":"1,758,390"},{"v":1758390,"d":"1,758,390"},{"v":1758390,"d":"1,758,390"},{"v":1758390,"d":"1,758,390"},{"v":1758390,"d":"1,758,390"},{"v":1758390,"d":"1,758,390"},{"v":1758390,"d":"1,758,390"},{"v":1758390,"d":"1,758,390"},{"v":1758390,"d":"1,758,390"},{"v":1758390,"d":"1,758,390"},{"v":21100680,"d":"21,100,680"}]
[6100,"OBRA PÚBLICA EN BIENES DE DOMINIO PÚBLICO",null,{"$f":"SUM(D2362:D2432)","v":{"v":1758390,"d":"1,758,390"}},{"$f":"SUM(E2362:E2432)","v":{"v":1758390,"d":"1,758,390"}},{"$f":"SUM(F2362:F2441)","v":{"v":1758390,"d":"1,758,390"}},{"v":1758390,"d":"1,758,390"},{"v":1758390,"d":"1,758,390"},{"v":1758390,"d":"1,758,390"},{"v":1758390,"d":"1,758,390"},{"v":1758390,"d":"1,758,390"},{"v":1758390,"d":"1,758,390"},{"v":1758390,"d":"1,758,390"},{"v":1758390,"d":"1,758,390"},{"v":1758390,"d":"1,758,390"},{"v":21100680,"d":"21,100,680"}]
[611,"Edificación habitacional",11,{"$nulls":12},{"$f":"SUM(D2362:O2362)","v":0}]
[null,null,12,{"$nulls":12},0]
[null,null,13,{"$nulls":12},0]
[null,null,14,{"$nulls":12},0]
[null,null,15,{"$nulls":12},0]
[null,null,16,{"$nulls":12},0]
[null,null,17,{"$nulls":12},0]
[null,null,25,{"$nulls":12},0]
[null,null,26,{"$nulls":12},0]
[null,null,27,{"$nulls":12},0]
[612,"Edificación no  habitacional",11,{"v":372348,"d":"372,348"},{"v":372348,"d":"372,348"},{"v":372348,"d":"372,348"},{"v":372348,"d":"372,348"},{"v":372348,"d":"372,348"},{"v":372348,"d":"372,348"},{"v":372348,"d":"372,348"},{"v":372348,"d":"372,348"},{"v":372348,"d":"372,348"},{"v":372348,"d":"372,348"},{"v":372348,"d":"372,348"},{"v":372348,"d":"372,348"},{"v":4468176,"d":"4,468,176"}]
[null,null,12,{"$nulls":12},0]
[null,null,13,{"$nulls":12},0]
[null,null,14,{"$nulls":12},0]
[null,null,15,{"$nulls":12},0]
[null,null,16,{"$nulls":12},0]
[null,null,17,{"$nulls":12},0]
[null,null,25,{"$nulls":12},0]
[null,null,26,{"$nulls":12},0]
[null,null,27,{"$nulls":12},0]
[613,"Construcción de obras para el abastecimiento de agua, petróleo, gas, electricidad y telecomunicaciones",11,{"v":298193,"d":"298,193"},{"v":298193,"d":"298,193"},{"v":298193,"d":"298,193"},{"v":298193,"d":"298,193"},{"v":298193,"d":"298,193"},{"v":298193,"d":"298,193"},{"v":298193,"d":"298,193"},{"v":298193,"d":"298,193"},{"v":298193,"d":"298,193"},{"v":298193,"d":"298,193"},{"v":298193,"d":"298,193"},{"v":298193,"d":"298,193"},{"v":3578316,"d":"3,578,316"}]
[null,null,12,{"$nulls":12},0]
[null,null,13,{"$nulls":12},0]
[null,null,14,{"$nulls":12},0]
[null,null,15,{"$nulls":12},0]
[null,null,16,{"$nulls":12},0]
[null,null,17,{"$nulls":12},0]
[null,null,25,{"v":59515,"d":"59,515"},{"v":59515,"d":"59,515"},{"v":59515,"d":"59,515"},{"v":59515,"d":"59,515"},{"v":59515,"d":"59,515"},{"v":59515,"d":"59,515"},{"v":59515,"d":"59,515"},{"v":59515,"d":"59,515"},{"v":59515,"d":"59,515"},{"v":59515,"d":"59,515"},{"v":59515,"d":"59,515"},{"v":59515,"d":"59,515"},{"v":714180,"d":"714,180"}]
[null,null,26,{"$nulls":12},0]
[null,null,27,{"$nulls":12},0]
[614,"División de terrenos y construcción de obras de urbanización",11,{"v":182484,"d":"182,484"},{"v":182484,"d":"182,484"},{"v":182484,"d":"182,484"},{"v":182484,"d":"182,484"},{"v":182484,"d":"182,484"},{"v":182484,"d":"182,484"},{"v":182484,"d":"182,484"},{"v":182484,"d":"182,484"},{"v":182484,"d":"182,484"},{"v":182484,"d":"182,484"},{"v":182484,"d":"182,484"},{"v":182484,"d":"182,484"},{"v":2189808,"d":"2,189,808"}]
[null,null,12,{"$nulls":12},0]
[null,null,13,{"$nulls":12},0]
[null,null,14,{"$nulls":12},0]
[null,null,15,{"$nulls":12},0]
[null,null,16,{"$nulls":12},0]
[null,null,17,{"$nulls":12},0]
[null,null,25,{"v":5259,"d":"5,259"},{"v":5259,"d":"5,259"},{"v":5259,"d":"5,259"},{"v":5259,"d":"5,259"},{"v":5259,"d":"5,259"},{"v":5259,"d":"5,259"},{"v":5259,"d":"5,259"},{"v":5259,"d":"5,259"},{"v":5259,"d":"5,259"},{"v":5259,"d":"5,259"},{"v":5259,"d":"5,259"},{"v":5259,"d":"5,259"},{"v":63108,"d":"63,108"}]
[null,null,26,{"$nulls":12},0]
[null,null,27,{"$nulls":12},0]
[615,"Construcción de vías de comunicación",11,{"v":631596,"d":"631,596"},{"v":631596,"d":"631,596"},{"v":631596,"d":"631,596"},{"v":631596,"d":"631,596"},{"v":631596,"d":"631,596"},{"v":631596,"d":"631,596"},{"v":631596,"d":"631,596"},{"v":631596,"d":"631,596"},{"v":631596,"d":"631,596"},{"v":631596,"d":"631,596"},{"v":631596,"d":"631,596"},{"v":631596,"d":"631,596"},{"v":7579152,"d":"7,579,152"}]
[null,null,12,{"$nulls":12},0]
[null,null,13,{"$nulls":12},0]
[null,null,14,{"$nulls":12},0]
[null,null,15,{"$nulls":12},0]
[null,null,16,{"$nulls":12},0]
[null,null,17,{"$nulls":12},0]
[null,null,25,{"v":154739,"d":"154,739"},{"v":154739,"d":"154,739"},{"v":154739,"d":"154,739"},{"v":154739,"d":"154,739"},{"v":154739,"d":"154,739"},{"v":154739,"d":"154,739"},{"v":154739,"d":"154,739"},{"v":154739,"d":"154,739"},{"v":154739,"d":"154,739"},{"v":154739,"d":"154,739"},{"v":154739,"d":"154,739"},{"v":154739,"d":"154,739"},{"v":1856868,"d":"1,856,868"}]
[null,null,26,{"$nulls":12},0]
[null,null,27,{"$nulls":12},0]
[616,"Otras construcciones de ingeniería civil u obra pesada",11,{"$nulls":12},0]
[null,null,12,{"$nulls":12},0]
[null,null,13,{"$nulls":12},0]
[null,null,14,{"$nulls":12},0]
[null,null,15,{"$nulls":12},0]
[null,null,16,{"$nulls":12},0]
[null,null,17,{"$nulls":12},0]
[null,null,25,{"$nulls":12},0]
[null,null,26,{"$nulls":12},0]
[null,null,27,{"$nulls":12},0]
[617,"Instalaciones y equipamiento en construcciones",11,{"$nulls":12},0]
[null,null,12,{"$nulls":12},0]
[null,null,13,{"$nulls":12},0]
[null,null,14,{"$nulls":12},0]
[null,null,15,{"$nulls":12},0]
[null,null,16,{"$nulls":12},0]
[null,null,17,{"$nulls":12},0]
[null,null,25,{"v":54256,"d":"54,256"},{"v":54256,"d":"54,256"},{"v":54256,"d":"54,256"},{"v":54256,"d":"54,256"},{"v":54256,"d":"54,256"},{"v":54256,"d":"54,256"},{"v":54256,"d":"54,256"},{"v":54256,"d":"54,256"},{"v":54256,"d":"54,256"},{"v":54256,"d":"54,256"},{"v":54256,"d":"54,256"},{"v":54256,"d":"54,256"},{"v":651072,"d":"651,072"}]
[null,null,26,{"$nulls":12},0]
[null,null,27,{"$nulls":12},0]
[619,"Trabajo de acabados en edificaciones y otros trabajos especializados",11,{"$nulls":12},0]
[null,null,12,{"$nulls":12},0]
[null,null,13,{"$nulls":12},0]
[null,null,14,{"$nulls":12},0]
[null,null,15,{"$nulls":12},0]
[null,null,16,{"$nulls":12},0]
[null,null,17,{"$nulls":12},0]
[null,null,25,{"$nulls":12},0]
[null,null,26,{"$nulls":12},0]
[null,null,27,{"$nulls":12},0]
[6200,"OBRA PÚBLICA EN BIENES PROPIOS",null,{"$f":"SUM(D2443:D2522)","v":0},{"$f":"SUM(E2443:E2522)","v":0},0,0,0,0,0,0,0,0,0,0,0]
[621,"Edificación habitacional",11,{"$nulls":12},{"$f":"SUM(D2443:O2443)","v":0}]
[null,null,12,{"$nulls":12},0]
[null,null,13,{"$nulls":12},0]
[null,null,14,{"$nulls":12},0]
[null,null,15,{"$nulls":12},0]
[null,null,16,{"$nulls":12},0]
[null,null,17,{"$nulls":12},0]
[null,null,25,{"$nulls":12},0]
[null,null,26,{"$nulls":12},0]
[null,null,27,{"$nulls":12},0]
[622,"Edificación no habitacional",11,{"$nulls":12},0]
[null,null,12,{"$nulls":12},0]
[null,null,13,{"$nulls":12},0]
[null,null,14,{"$nulls":12},0]
[null,null,15,{"$nulls":12},0]
[null,null,16,{"$nulls":12},0]
[null,null,17,{"$nulls":12},0]
[null,null,25,{"$nulls":12},0]
[null,null,26,{"$nulls":12},0]
[null,null,27,{"$nulls":12},0]
[623,"Construcción de obras para  el abastecimiento de agua,  petróleo, gas, electricidad y telecomunicaciones",11,{"$nulls":12},0]
[null,null,12,{"$nulls":12},0]
[null,null,13,{"$nulls":12},0]
[null,null,14,{"$nulls":12},0]
[null,null,15,{"$nulls":12},0]
[null,null,16,{"$nulls":12},0]
[null,null,17,{"$nulls":12},0]
[null,null,25,{"$nulls":12},0]
[null,null,26,{"$nulls":12},0]
[null,null,27,{"$nulls":12},0]
[624,"División de terrenos y construcción de obras de urbanización",11,{"$nulls":12},0]
[null,null,12,{"$nulls":12},0]
[null,null,13,{"$nulls":12},0]
[null,null,14,{"$nulls":12},0]
[null,null,15,{"$nulls":12},0]
[null,null,16,{"$nulls":12},0]
[null,null,17,{"$nulls":12},0]
[null,null,25,{"$nulls":12},0]
[null,null,26,{"$nulls":12},0]
[null,null,27,{"$nulls":12},0]
[625,"Construcción de vías de comunicación",11,{"$nulls":12},0]
[null,null,12,{"$nulls":12},0]
[null,null,13,{"$nulls":12},0]
[null,null,14,{"$nulls":12},0]
[null,null,15,{"$nulls":12},0]
[null,null,16,{"$nulls":12},0]
[null,null,17,{"$nulls":12},0]
[null,null,25,{"$nulls":12},0]
[null,null,26,{"$nulls":12},0]
[null,null,27,{"$nulls":12},0]
[626,"Otras construcciones de ingeniería civil u obra pesada",11,{"$nulls":12},0]
[null,null,12,{"$nulls":12},0]
[null,null,13,{"$nulls":12},0]
[null,null,14,{"$nulls":12},0]
[null,null,15,{"$nulls":12},0]
[null,null,16,{"$nulls":12},0]
[null,null,17,{"$nulls":12},0]
[null,null,25,{"$nulls":12},0]
[null,null,26,{"$nulls":12},0]
[null,null,27,{"$nulls":12},0]
[627,"Instalaciones y equipamiento en construcciones",11,{"$nulls":12},0]
[null,null,12,{"$nulls":12},0]
[null,null,13,{"$nulls":12},0]
[null,null,14,{"$nulls":12},0]
[null,null,15,{"$nulls":12},0]
[null,null,16,{"$nulls":12},0]
[null,null,17,{"$nulls":12},0]
[null,null,25,{"$nulls":12},0]
[null,null,26,{"$nulls":12},0]
[null,null,27,{"$nulls":12},0]
[629,"Trabajos de acabados en edificaciones y otros trabajos especializados",11,{"$nulls":12},0]
[null,null,12,{"$nulls":12},0]
[null,null,13,{"$nulls":12},0]
[null,null,14,{"$nulls":12},0]
[null,null,15,{"$nulls":12},0]
[null,null,16,{"$nulls":12},0]
[null,null,17,{"$nulls":12},0]
[null,null,25,{"$nulls":12},0]
[null,null,26,{"$nulls":12},0]
[null,null,27,{"$nulls":12},0]
[6300,"PROYECTOS PRODUCTIVOS Y ACCIONES DE FOMENTO",null,{"$f":"SUM(D2524:D2543)","v":0},{"$f":"SUM(E2524:E2543)","v":0},0,0,0,0,0,0,0,0,0,0,0]
[631,"Estudios, formulación y evaluación de proyectos productivos no incluidos en conceptos anteriores de este capítulo",11,{"$nulls":12},{"$f":"SUM(D2524:O2524)","v":0}]
[null,null,12,{"$nulls":12},{"$f":"SUM(D2525:O2525)","v":0}]
[null,null,13,{"$nulls":12},0]
[null,null,14,{"$nulls":12},0]
[null,null,15,{"$nulls":12},0]
[null,null,16,{"$nulls":12},0]
[null,null,17,{"$nulls":12},0]
[null,null,25,{"$nulls":12},0]
[null,null,26,{"$nulls":12},0]
[null,null,27,{"$nulls":12},0]
[632,"Ejecución de proyectos productivos no incluidos en conceptos anteriores de este capítulo",11,{"$nulls":12},0]
[null,null,12,{"$nulls":12},0]
[null,null,13,{"$nulls":12},0]
[null,null,14,{"$nulls":12},0]
[null,null,15,{"$nulls":12},0]
[null,null,16,{"$nulls":12},0]
[null,null,17,{"$nulls":12},0]
[null,null,25,{"$nulls":12},0]
[null,null,26,{"$nulls":12},0]
[null,null,27,{"$nulls":12},0]
[7000,"INVERSIONES FINANCIERAS Y OTRAS PROVISIONES",null,{"$f":"D2545+D2557+D2630+D2691+D2755+D2801+D2822","v":0},0,0,0,0,0,0,0,0,0,0,0,0]
[7100,"INVERSIONES PARA EL FOMENTO DE ACTIVIDADES PRODUCTIVAS",null,{"$f":"SUM(D2546:D2556)","v":0},{"$f":"SUM(E2546:E2556)","v":0},0,0,0,0,0,0,0,0,0,0,0]
[711,"Créditos otorgados por entidades federativas y municipios al sector social y privado para el fomento de actividades productivas",11,{"$nulls":12},{"$f":"SUM(D2546:O2546)","v":0}]
[null,null,12,{"$nulls":12},{"$f":"SUM(D2547:O2547)","v":0}]
[null,null,13,{"$nulls":12},0]
[null,null,14,{"$nulls":12},0]
[null,null,15,{"$nulls":12},0]
[null,null,16,{"$nulls":12},0]
[null,null,17,{"$nulls":12},0]
[null,null,25,{"$nulls":12},0]
[null,null,26,{"$nulls":12},0]
[null,null,27,{"$nulls":12},0]
[712,"Créditos otorgados por las entidades federativas a municipios para el fomento de actividades productivas",{"$nulls":13},{"$f":"SUM(D2556:O2556)","v":0}]
[7200,"ACCIONES Y PARTICIPACIONES DE CAPITAL",null,{"$f":"SUM(D2558:D2629)","v":0},{"$f":"SUM(E2558:E2629)","v":0},0,0,0,0,0,0,0,0,0,0,0]
[721,"Acciones y participaciones de capital en entidades paraestatales no empresariales y no financieras con fines de política económica",11,{"$nulls":12},{"$f":"SUM(D2558:O2558)","v":0}]
[null,null,12,{"$nulls":12},0]
[null,null,13,{"$nulls":12},0]
[null,null,14,{"$nulls":12},0]
[null,null,15,{"$nulls":12},0]
[null,null,16,{"$nulls":12},0]
[null,null,17,{"$nulls":12},0]
[null,null,25,{"$nulls":12},0]
[null,null,26,{"$nulls":12},0]
[null,null,27,{"$nulls":12},0]
[722,"Acciones y participaciones de capital en entidades paraestatales empresariales y no financieras con fines de política económica",{"$nulls":13},0]
[723,"Acciones  y participaciones de capital en instituciones paraestatales públicas financieras con fines de política económica",{"$nulls":13},0]
[724,"Acciones y participaciones  de capital en el sector privado con fines de política económica",11,{"$nulls":12},0]
[null,null,12,{"$nulls":12},0]
[null,null,13,{"$nulls":12},0]
[null,null,14,{"$nulls":12},0]
[null,null,15,{"$nulls":12},0]
[null,null,16,{"$nulls":12},0]
[null,null,17,{"$nulls":12},0]
[null,null,25,{"$nulls":12},0]
[null,null,26,{"$nulls":12},0]
[null,null,27,{"$nulls":12},0]
[725,"Acciones y participaciones de capital en organismos internacionales con fines de política económica",11,{"$nulls":12},0]
[null,null,12,{"$nulls":12},0]
[null,null,13,{"$nulls":12},0]
[null,null,14,{"$nulls":12},0]
[null,null,15,{"$nulls":12},0]
[null,null,16,{"$nulls":12},0]
[null,null,17,{"$nulls":12},0]
[null,null,25,{"$nulls":12},0]
[null,null,26,{"$nulls":12},0]
[null,null,27,{"$nulls":12},0]
[726,"Acciones y participaciones de capital en el sector externo con fines de política económica",11,{"$nulls":12},0]
[null,null,12,{"$nulls":12},0]
[null,null,13,{"$nulls":12},0]
[null,null,14,{"$nulls":12},0]
[null,null,15,{"$nulls":12},0]
[null,null,16,{"$nulls":12},0]
[null,null,17,{"$nulls":12},0]
[null,null,25,{"$nulls":12},0]
[null,null,26,{"$nulls":12},0]
[null,null,27,{"$nulls":12},0]
[727,"Acciones y participaciones de capital en el sector público con fines de gestión de la liquidez",11,{"$nulls":12},0]
[null,null,12,{"$nulls":12},0]
[null,null,13,{"$nulls":12},0]
[null,null,14,{"$nulls":12},0]
[null,null,15,{"$nulls":12},0]
[null,null,16,{"$nulls":12},0]
[null,null,17,{"$nulls":12},0]
[null,null,25,{"$nulls":12},0]
[null,null,26,{"$nulls":12},0]
[null,null,27,{"$nulls":12},0]
[728,"Acciones y participaciones de capital  en el sector privado con fines de gestión de liquidez",11,{"$nulls":12},0]
[null,null,12,{"$nulls":12},0]
[null,null,13,{"$nulls":12},0]
[null,null,14,{"$nulls":12},0]
[null,null,15,{"$nulls":12},0]
[null,null,16,{"$nulls":12},0]
[null,null,17,{"$nulls":12},0]
[null,null,25,{"$nulls":12},0]
[null,null,26,{"$nulls":12},0]
[null,null,27,{"$nulls":12},0]
[729,"Acciones y participaciones de capital en el sector externo con fines de gestión  de liquidez",11,{"$nulls":12},0]
[null,null,12,{"$nulls":12},0]
[null,null,13,{"$nulls":12},0]
[null,null,14,{"$nulls":12},0]
[null,null,15,{"$nulls":12},0]
[null,null,16,{"$nulls":12},0]
[null,null,17,{"$nulls":12},0]
[null,null,25,{"$nulls":12},0]
[null,null,26,{"$nulls":12},0]
[null,null,27,{"$nulls":12},0]
[7300,"COMPRA DE TÍTULOS Y VALORES",null,{"$f":"SUM(D2631:D2690)","v":0},0,0,0,0,0,0,0,0,0,0,0,0]
[731,"Bonos",11,{"$nulls":12},{"$f":"SUM(D2631:O2631)","v":0}]
[null,null,12,{"$nulls":12},0]
[null,null,13,{"$nulls":12},0]
[null,null,14,{"$nulls":12},0]
[null,null,15,{"$nulls":12},0]
[null,null,16,{"$nulls":12},0]
[null,null,17,{"$nulls":12},0]
[null,null,25,{"$nulls":12},0]
[null,null,26,{"$nulls":12},0]
[null,null,27,{"$nulls":12},0]
[732,"Valores representativos de deuda adquiridos con fines de política económica",11,{"$nulls":12},0]
[null,null,12,{"$nulls":12},0]
[null,null,13,{"$nulls":12},0]
[null,null,14,{"$nulls":12},0]
[null,null,15,{"$nulls":12},0]
[null,null,16,{"$nulls":12},0]
[null,null,17,{"$nulls":12},0]
[null,null,25,{"$nulls":12},0]
[null,null,26,{"$nulls":12},0]
[null,null,27,{"$nulls":12},0]
[733,"Valores representativos de deuda  adquiridos con fines de gestión de liquidez",11,{"$nulls":12},0]
[null,null,12,{"$nulls":12},0]
[null,null,13,{"$nulls":12},0]
[null,null,14,{"$nulls":12},0]
[null,null,15,{"$nulls":12},0]
[null,null,16,{"$nulls":12},0]
[null,null,17,{"$nulls":12},0]
[null,null,25,{"$nulls":12},0]
[null,null,26,{"$nulls":12},0]
[null,null,27,{"$nulls":12},0]
[734,"Obligaciones negociables adquiridas con fines de política económica",11,{"$nulls":12},0]
[null,null,12,{"$nulls":12},0]
[null,null,13,{"$nulls":12},0]
[null,null,14,{"$nulls":12},0]
[null,null,15,{"$nulls":12},0]
[null,null,16,{"$nulls":12},0]
[null,null,17,{"$nulls":12},0]
[null,null,25,{"$nulls":12},0]
[null,null,26,{"$nulls":12},0]
[null,null,27,{"$nulls":12},0]
[735,"Obligaciones negociables adquiridas con fines de gestión de liquidez",11,{"$nulls":12},0]
[null,null,12,{"$nulls":12},0]
[null,null,13,{"$nulls":12},0]
[null,null,14,{"$nulls":12},0]
[null,null,15,{"$nulls":12},0]
[null,null,16,{"$nulls":12},0]
[null,null,17,{"$nulls":12},0]
[null,null,25,{"$nulls":12},0]
[null,null,26,{"$nulls":12},0]
[null,null,27,{"$nulls":12},0]
[739,"Otros valores",11,{"$nulls":12},0]
[null,null,12,{"$nulls":12},0]
[null,null,13,{"$nulls":12},0]
[null,null,14,{"$nulls":12},0]
[null,null,15,{"$nulls":12},0]
[null,null,16,{"$nulls":12},0]
[null,null,17,{"$nulls":12},0]
[null,null,25,{"$nulls":12},0]
[null,null,26,{"$nulls":12},0]
[null,null,27,{"$nulls":12},0]
[7400,"CONCESIÓN DE PRÉSTAMOS",null,{"$f":"SUM(D2692:D2754)","v":0},{"$f":"SUM(E2692:E2754)","v":0},0,0,0,0,0,0,0,0,0,0,0]
[741,"Concesión de préstamos a entidades paraestatales no empresariales y no financieras con fines de política económica",11,{"$nulls":12},{"$f":"SUM(D2692:O2692)","v":0}]
[null,null,12,{"$nulls":12},0]
[null,null,13,{"$nulls":12},0]
[null,null,14,{"$nulls":12},0]
[null,null,15,{"$nulls":12},0]
[null,null,16,{"$nulls":12},0]
[null,null,17,{"$nulls":12},0]
[null,null,25,{"$nulls":12},0]
[null,null,26,{"$nulls":12},0]
[null,null,27,{"$nulls":12},0]
[742,"Concesión de préstamos a entidades paraestatales empresariales y no financieras con fines de política económica",{"$nulls":13},0]
[743,"Concesión de préstamos a instituciones paraestatales públicas financieras con fines de política económica",{"$nulls":13},0]
[744,"Concesión de préstamos a entidades federativas  y municipios con fines de política económica",{"$nulls":13},0]
[745,"Concesión de préstamos al sector privado con fines de política económica",11,{"$nulls":12},0]
[null,null,12,{"$nulls":12},0]
[null,null,13,{"$nulls":12},0]
[null,null,14,{"$nulls":12},0]
[null,null,15,{"$nulls":12},0]
[null,null,16,{"$nulls":12},0]
[null,null,17,{"$nulls":12},0]
[null,null,25,{"$nulls":12},0]
[null,null,26,{"$nulls":12},0]
[null,null,27,{"$nulls":12},0]
[746,"Concesión de préstamos al sector externo con fines de política económica",11,{"$nulls":12},0]
[null,null,12,{"$nulls":12},0]
[null,null,13,{"$nulls":12},0]
[null,null,14,{"$nulls":12},0]
[null,null,15,{"$nulls":12},0]
[null,null,16,{"$nulls":12},0]
[null,null,17,{"$nulls":12},0]
[null,null,25,{"$nulls":12},0]
[null,null,26,{"$nulls":12},0]
[null,null,27,{"$nulls":12},0]
[747,"Concesión de préstamos al sector público con fines de gestión de liquidez",11,{"$nulls":12},0]
[null,null,12,{"$nulls":12},0]
[null,null,13,{"$nulls":12},0]
[null,null,14,{"$nulls":12},0]
[null,null,15,{"$nulls":12},0]
[null,null,16,{"$nulls":12},0]
[null,null,17,{"$nulls":12},0]
[null,null,25,{"$nulls":12},0]
[null,null,26,{"$nulls":12},0]
[null,null,27,{"$nulls":12},0]
[748,"Concesión de préstamos al sector privado con fines de gestión de liquidez",11,{"$nulls":12},0]
[null,null,12,{"$nulls":12},0]
[null,null,13,{"$nulls":12},0]
[null,null,14,{"$nulls":12},0]
[null,null,15,{"$nulls":12},0]
[null,null,16,{"$nulls":12},0]
[null,null,17,{"$nulls":12},0]
[null,null,25,{"$nulls":12},0]
[null,null,26,{"$nulls":12},0]
[null,null,27,{"$nulls":12},0]
[749,"Concesión de  préstamos al sector externo con fines de gestión de liquidez",11,{"$nulls":12},0]
[null,null,12,{"$nulls":12},0]
[null,null,13,{"$nulls":12},0]
[null,null,14,{"$nulls":12},0]
[null,null,15,{"$nulls":12},0]
[null,null,16,{"$nulls":12},0]
[null,null,17,{"$nulls":12},0]
[null,null,25,{"$nulls":12},0]
[null,null,26,{"$nulls":12},0]
[null,null,27,{"$nulls":12},0]
[7500,"INVERSIONES EN FIDEICOMISOS, MANDATOS Y OTROS  ANÁLOGOS",null,{"$f":"SUM(D2756:D2800)","v":0},{"$f":"SUM(E2756:E2800)","v":0},0,0,0,0,0,0,0,0,0,0,0]
[751,"Inversiones en fideicomisos del Poder Ejecutivo",11,{"$nulls":12},{"$f":"SUM(D2756:O2756)","v":0}]
[null,null,12,{"$nulls":12},0]
[null,null,13,{"$nulls":12},0]
[null,null,14,{"$nulls":12},0]
[null,null,15,{"$nulls":12},0]
[null,null,16,{"$nulls":12},0]
[null,null,17,{"$nulls":12},0]
[null,null,25,{"$nulls":12},0]
[null,null,26,{"$nulls":12},0]
[null,null,27,{"$nulls":12},0]
[752,"Inversiones en fideicomisos del Poder Legislativo",{"$nulls":13},0]
[753,"Inversiones en fideicomisos del Poder Judicial",{"$nulls":13},0]
[754,"Inversiones en fideicomisos públicos no empresariales y no financieros",11,{"$nulls":12},0]
[null,null,12,{"$nulls":12},0]
[null,null,13,{"$nulls":12},0]
[null,null,14,{"$nulls":12},0]
[null,null,15,{"$nulls":12},0]
[null,null,16,{"$nulls":12},0]
[null,null,17,{"$nulls":12},0]
[null,null,25,{"$nulls":12},0]
[null,null,26,{"$nulls":12},0]
[null,null,27,{"$nulls":12},0]
[755,"Inversiones en fideicomisos públicos empresariales y no financieros",{"$nulls":13},0]
[756,"Inversiones en fideicomisos públicos financieros ",{"$nulls":13},0]
[757,"Inversiones en fideicomisos de entidades federativas",11,{"$nulls":12},0]
[null,null,12,{"$nulls":12},0]
[null,null,13,{"$nulls":12},0]
[null,null,14,{"$nulls":12},0]
[null,null,15,{"$nulls":12},0]
[null,null,16,{"$nulls":12},0]
[null,null,17,{"$nulls":12},0]
[null,null,25,{"$nulls":12},0]
[null,null,26,{"$nulls":12},0]
[null,null,27,{"$nulls":12},0]
[758,"Inversiones en fideicomisos de municipios",{"$nulls":13},{"$f":"SUM(D2790:O2790)","v":0}]
[759,"Otras inversiones en fideicomisos",11,{"$nulls":12},0]
[null,null,12,{"$nulls":12},0]
[null,null,13,{"$nulls":12},0]
[null,null,14,{"$nulls":12},0]
[null,null,15,{"$nulls":12},0]
[null,null,16,{"$nulls":12},0]
[null,null,17,{"$nulls":12},0]
[null,null,25,{"$nulls":12},0]
[null,null,26,{"$nulls":12},0]
[null,null,27,{"$nulls":12},0]
[7600,"OTRAS INVERSIONES FINANCIERAS",null,{"$f":"SUM(D2802:D2821)","v":0},{"$f":"SUM(E2802:E2821)","v":0},0,0,0,0,0,0,0,0,0,0,0]
[761,"Depósitos a largo plazo en moneda nacional",11,{"$nulls":12},{"$f":"SUM(D2802:O2802)","v":0}]
[null,null,12,{"$nulls":12},{"$f":"SUM(D2803:O2803)","v":0}]
[null,null,13,{"$nulls":12},0]
[null,null,14,{"$nulls":12},{"$f":"SUM(D2805:O2805)","v":0}]
[null,null,15,{"$nulls":12},0]
[null,null,16,{"$nulls":12},0]
[null,null,17,{"$nulls":12},0]
[null,null,25,{"$nulls":12},0]
[null,null,26,{"$nulls":12},0]
[null,null,27,{"$nulls":12},0]
[762,"Depósitos a largo plazo en moneda extranjera",11,{"$nulls":12},0]
[null,null,12,{"$nulls":12},0]
[null,null,13,{"$nulls":12},0]
[null,null,14,{"$nulls":12},0]
[null,null,15,{"$nulls":12},0]
[null,null,16,{"$nulls":12},0]
[null,null,17,{"$nulls":12},0]
[null,null,25,{"$nulls":12},0]
[null,null,26,{"$nulls":12},0]
[null,null,27,{"$nulls":12},0]
[7900,"PROVISIONES PARA CONTINGENCIAS Y OTRAS EROGACIONES ESPECIALES",null,{"$f":"SUM(D2823:D2852)","v":0},{"$f":"SUM(E2823:E2852)","v":0},0,0,0,0,0,0,0,0,0,0,0]
[791,"Contingencias por fenómenos naturales",11,{"$nulls":12},{"$f":"SUM(D2823:O2823)","v":0}]
[null,null,12,{"$nulls":12},{"$f":"SUM(D2824:O2824)","v":0}]
[null,null,13,{"$nulls":12},0]
[null,null,14,{"$nulls":12},{"$f":"SUM(D2826:O2826)","v":0}]
[null,null,15,{"$nulls":12},0]
[null,null,16,{"$nulls":12},0]
[null,null,17,{"$nulls":12},0]
[null,null,25,{"$nulls":12},0]
[null,null,26,{"$nulls":12},0]
[null,null,27,{"$nulls":12},0]
[792,"Contingencias socioeconómicas",11,{"$nulls":12},0]
[null,null,12,{"$nulls":12},0]
[null,null,13,{"$nulls":12},0]
[null,null,14,{"$nulls":12},0]
[null,null,15,{"$nulls":12},0]
[null,null,16,{"$nulls":12},0]
[null,null,17,{"$nulls":12},0]
[null,null,25,{"$nulls":12},0]
[null,null,26,{"$nulls":12},0]
[null,null,27,{"$nulls":12},0]
[799,"Otras erogaciones especiales",11,{"$nulls":12},0]
[null,null,12,{"$nulls":12},0]
[null,null,13,{"$nulls":12},0]
[null,null,14,{"$nulls":12},0]
[null,null,15,{"$nulls":12},0]
[null,null,16,{"$nulls":12},0]
[null,null,17,{"$nulls":12},0]
[null,null,25,{"$nulls":12},0]
[null,null,26,{"$nulls":12},0]
[null,null,27,{"$nulls":12},0]
[8000,"PARTICIPACIONES Y APORTACIONES",null,{"$f":"D2854+D2870+D2876","v":0},{"$f":"E2854+E2870+E2876","v":0},0,0,0,0,0,0,0,0,0,0,0]
[8100,"PARTICIPACIONES",null,{"$f":"SUM(D2855:D2869)","v":0},{"$f":"SUM(E2855:E2869)","v":0},0,0,0,0,0,0,0,0,0,0,0]
[811,"Fondo general de participaciones",{"$nulls":13},{"$f":"SUM(D2855:O2855)","v":0}]
[812,"Fondo de fomento municipal",{"$nulls":13},0]
[813,"Participaciones de las entidades federativas a los municipios",{"$nulls":13},0]
[814,"Otros conceptos participables de la Federación a entidades federativas",{"$nulls":13},0]
[815,"Otros conceptos participables de la Federación a municipios",{"$nulls":13},0]
[816,"Convenios de colaboración administrativa",11,{"$nulls":12},0]
[null,null,12,{"$nulls":12},0]
[null,null,13,{"$nulls":12},0]
[null,null,14,{"$nulls":12},0]
[null,null,15,{"$nulls":12},0]
[null,null,16,{"$nulls":12},0]
[null,null,17,{"$nulls":12},0]
[null,null,25,{"$nulls":12},0]
[null,null,26,{"$nulls":12},0]
[null,null,27,{"$nulls":12},0]
[8300,"APORTACIONES",null,{"$f":"SUM(D2871:D2875)","v":0},{"$f":"SUM(E2871:E2875)","v":0},0,0,0,0,0,0,0,0,0,0,0]
[831,"Aportaciones de la Federación a las entidades federativas",{"$nulls":13},{"$f":"SUM(D2871:O2871)","v":0}]
[832,"Aportaciones de la Federación a municipios",{"$nulls":13},0]
[833,"Aportaciones de las entidades federativas a los municipios",{"$nulls":13},0]
[834,"Aportaciones  previstas en leyes y decretos al sistema de protección social",{"$nulls":13},0]
[835,"Aportaciones previstas en leyes y decretos compensatorias a entidades federativas y municipios",{"$nulls":13},0]
[8500,"CONVENIOS",null,{"$f":"SUM(D2877:D2906)","v":0},{"$f":"SUM(E2877:E2906)","v":0},0,0,0,0,0,0,0,0,0,0,0]
[851,"Convenios de reasignación",11,{"$nulls":12},{"$f":"SUM(D2877:O2877)","v":0}]
[null,null,12,{"$nulls":12},{"$f":"SUM(D2878:O2878)","v":0}]
[null,null,13,{"$nulls":12},0]
[null,null,14,{"$nulls":12},0]
[null,null,15,{"$nulls":12},0]
[null,null,16,{"$nulls":12},0]
[null,null,17,{"$nulls":12},0]
[null,null,25,{"$nulls":12},0]
[null,null,26,{"$nulls":12},0]
[null,null,27,{"$nulls":12},0]
[852,"Convenios de descentralización",11,{"$nulls":12},0]
[null,null,12,{"$nulls":12},0]
[null,null,13,{"$nulls":12},0]
[null,null,14,{"$nulls":12},0]
[null,null,15,{"$nulls":12},0]
[null,null,16,{"$nulls":12},0]
[null,null,17,{"$nulls":12},0]
[null,null,25,{"$nulls":12},0]
[null,null,26,{"$nulls":12},0]
[null,null,27,{"$nulls":12},0]
[853,"Otros convenios",11,{"$nulls":12},0]
[null,null,12,{"$nulls":12},0]
[null,null,13,{"$nulls":12},0]
[null,null,14,{"$nulls":12},0]
[null,null,15,{"$nulls":12},0]
[null,null,16,{"$nulls":12},0]
[null,null,17,{"$nulls":12},0]
[null,null,25,{"$nulls":12},0]
[null,null,26,{"$nulls":12},0]
[null,null,27,{"$nulls":12},0]
[9000,"DEUDA  PÚBLICA",null,{"$f":"D2908+D2944+D2980+D2992+D3004+D3015+D3018","v":0},0,0,0,0,0,0,0,0,0,0,0,0]
[9100,"AMORTIZACIÓN DE LA DEUDA PÚBLICA ",null,{"$f":"SUM(D2909:D2943)","v":0},0,0,0,0,0,0,0,0,0,0,0,0]
[911,"Amortización de la deuda interna con instituciones de crédito",11,{"$nulls":12},{"$f":"SUM(D2909:O2909)","v":0}]
[null,null,12,{"$nulls":12},0]
[null,null,13,{"$nulls":12},0]
[null,null,14,{"$nulls":12},0]
[null,null,15,{"$nulls":12},0]
[null,null,16,{"$nulls":12},0]
[null,null,17,{"$nulls":12},0]
[null,null,25,{"$nulls":12},0]
[null,null,26,{"$nulls":12},0]
[null,null,27,{"$nulls":12},0]
[912,"Amortización  de la deuda interna por emisión de títulos y valores",11,{"$nulls":12},0]
[null,null,12,{"$nulls":12},0]
[null,null,13,{"$nulls":12},0]
[null,null,14,{"$nulls":12},0]
[null,null,15,{"$nulls":12},0]
[null,null,16,{"$nulls":12},0]
[null,null,17,{"$nulls":12},0]
[null,null,25,{"$nulls":12},0]
[null,null,26,{"$nulls":12},0]
[null,null,27,{"$nulls":12},0]
[913,"Amortización de arrendamientos financieros nacionales",11,{"$nulls":12},0]
[null,null,12,{"$nulls":12},0]
[null,null,13,{"$nulls":12},0]
[null,null,14,{"$nulls":12},0]
[null,null,15,{"$nulls":12},0]
[null,null,16,{"$nulls":12},0]
[null,null,17,{"$nulls":12},0]
[null,null,25,{"$nulls":12},0]
[null,null,26,{"$nulls":12},0]
[null,null,27,{"$nulls":12},0]
[914,"Amortización de la deuda externa con instituciones de crédito ",{"$nulls":13},0]
[915,"Amortización de deuda externa con organismos financieros internacionales",{"$nulls":13},0]
[916,"Amortización de la deuda bilateral",{"$nulls":13},0]
[917,"Amortización de la deuda externa por emisión de títulos y valores",{"$nulls":13},0]
[918,"Amortización de arrendamientos financieros internacionales",{"$nulls":13},0]
[9200,"INTERESES DE LA DEUDA PÚBLICA",null,{"$f":"SUM(D2945:D2979)","v":0},0,0,0,0,0,0,0,0,0,0,0,0]
[921,"Intereses de la deuda interna con instituciones de crédito",11,{"$nulls":12},{"$f":"SUM(D2945:O2945)","v":0}]
[null,null,12,{"$nulls":12},0]
[null,null,13,{"$nulls":12},0]
[null,null,14,{"$nulls":12},0]
[null,null,15,{"$nulls":12},0]
[null,null,16,{"$nulls":12},0]
[null,null,17,{"$nulls":12},0]
[null,null,25,{"$nulls":12},0]
[null,null,26,{"$nulls":12},0]
[null,null,27,{"$nulls":12},0]
[922,"Intereses derivados de la colocación de títulos y valores",11,{"$nulls":12},0]
[null,null,12,{"$nulls":12},0]
[null,null,13,{"$nulls":12},0]
[null,null,14,{"$nulls":12},0]
[null,null,15,{"$nulls":12},0]
[null,null,16,{"$nulls":12},0]
[null,null,17,{"$nulls":12},0]
[null,null,25,{"$nulls":12},0]
[null,null,26,{"$nulls":12},0]
[null,null,27,{"$nulls":12},0]
[923,"Intereses por arrendamientos  financieros nacionales",11,{"$nulls":12},0]
[null,null,12,{"$nulls":12},0]
[null,null,13,{"$nulls":12},0]
[null,null,14,{"$nulls":12},0]
[null,null,15,{"$nulls":12},0]
[null,null,16,{"$nulls":12},0]
[null,null,17,{"$nulls":12},0]
[null,null,25,{"$nulls":12},0]
[null,null,26,{"$nulls":12},0]
[null,null,27,{"$nulls":12},0]
[924,"Intereses de la deuda externa con instituciones de crédito ",{"$nulls":13},0]
[925,"Intereses de la deuda con organismos financieros internacionales",{"$nulls":13},0]
[926,"Intereses de la deuda bilateral  ",{"$nulls":13},0]
[927,"Intereses derivados de la colocación de títulos y valores en el exterior",{"$nulls":13},0]
[928,"Intereses por arrendamientos financieros internacionales",{"$nulls":13},0]
[9300,"COMISIONES DE LA DEUDA PÚBLICA",null,{"$f":"SUM(D2981:D2991)","v":0},0,0,0,0,0,0,0,0,0,0,0,0]
[931,"Comisiones de la deuda pública interna",11,{"$nulls":12},{"$f":"SUM(D2981:O2981)","v":0}]
[null,null,12,{"$nulls":12},{"$f":"SUM(D2982:O2982)","v":0}]
[null,null,13,{"$nulls":12},0]
[null,null,14,{"$nulls":12},{"$f":"SUM(D2984:O2984)","v":0}]
[null,null,15,{"$nulls":12},0]
[null,null,16,{"$nulls":12},0]
[null,null,17,{"$nulls":12},0]
[null,null,25,{"$nulls":12},0]
[null,null,26,{"$nulls":12},0]
[null,null,27,{"$nulls":12},0]
[932,"Comisiones de la deuda pública externa",{"$nulls":13},{"$f":"SUM(D2991:O2991)","v":0}]
[9400,"GASTOS DE LA DEUDA PÚBLICA",null,{"$f":"SUM(D2993:D3003)","v":0},0,0,0,0,0,0,0,0,0,0,0,0]
[941,"Gastos de la deuda pública interna",11,{"$nulls":12},{"$f":"SUM(D2993:O2993)","v":0}]
[null,null,12,{"$nulls":12},{"$f":"SUM(D2994:O2994)","v":0}]
[null,null,13,{"$nulls":12},0]
[null,null,14,{"$nulls":12},{"$f":"SUM(D2996:O2996)","v":0}]
[null,null,15,{"$nulls":12},0]
[null,null,16,{"$nulls":12},0]
[null,null,17,{"$nulls":12},0]
[null,null,25,{"$nulls":12},0]
[null,null,26,{"$nulls":12},0]
[null,null,27,{"$nulls":12},0]
[942,"Gastos de la deuda  pública externa",{"$nulls":13},{"$f":"SUM(D3003:O3003)","v":0}]
[9500,"COSTO POR COBERTURAS",null,{"$f":"SUM(D3005:D3012)","v":0},0,0,0,0,0,0,0,0,0,0,0,0]
[951,"Costos por coberturas",11,{"$nulls":12},{"$f":"SUM(D3005:O3005)","v":0}]
[null,null,12,{"$nulls":12},{"$f":"SUM(D3006:O3006)","v":0}]
[null,null,13,{"$nulls":12},0]
[null,null,14,{"$nulls":12},{"$f":"SUM(D3008:O3008)","v":0}]
[null,null,15,{"$nulls":12},0]
[null,null,16,{"$nulls":12},0]
[null,null,17,{"$nulls":12},0]
[null,null,25,{"$nulls":12},0]
[null,null,26,{"$nulls":12},0]
[null,null,27,{"$nulls":12},0]
[9600,"APOYOS FINANCIEROS",null,{"$f":"SUM(D3016:D3017)","v":0},{"$f":"SUM(E3016:E3017)","v":0},0,0,0,0,0,0,0,0,0,0,0]
[961,"Apoyos a intermediarios financieros",{"$nulls":13},{"$f":"SUM(D3016:O3016)","v":0}]
[962,"Apoyos a ahorradores y deudores del Sistema Financiero Nacional",{"$nulls":13},0]
[9900,"ADEUDOS DE EJERCICIOS FISCALES ANTERIORES (ADEFAS)",null,{"$f":"SUM(D3019:D3026)","v":0},0,0,0,0,0,0,0,0,0,0,0,0]
[991,"ADEFAS",11,{"$nulls":12},{"$f":"SUM(D3019:O3019)","v":0}]
[null,null,12,{"$nulls":12},{"$f":"SUM(D3020:O3020)","v":0}]
[null,null,13,{"$nulls":12},0]
[null,null,14,{"$nulls":12},{"$f":"SUM(D3022:O3022)","v":0}]
[null,null,15,{"$nulls":12},0]
[null,null,16,{"$nulls":12},0]
[null,null,17,{"$nulls":12},0]
[null,null,25,{"$nulls":12},0]
[null,null,26,{"$nulls":12},0]
[null,null,27,{"$nulls":12},0]
[null,"TOTAL DE EGRESOS",null,{"$f":"D2+D264+D743+D1494+D1860+D2360+D2544+D2853+D2907","v":{"v":8919041.3003808,"d":"8,919,041"}},{"v":8919041.3003808,"d":"8,919,041"},{"v":8919041.3003808,"d":"8,919,041"},{"v":8919041.3003808,"d":"8,919,041"},{"v":8919041.3003808,"d":"8,919,041"},{"v":8919041.3003808,"d":"8,919,041"},{"v":8919041.3003808,"d":"8,919,041"},{"v":8919041.3003808,"d":"8,919,041"},{"v":8919041.3003808,"d":"8,919,041"},{"v":8919041.3003808,"d":"8,919,041"},{"v":8919041.3003808,"d":"8,919,041"},{"v":8919041.3003808,"d":"8,919,041"},{"v":107028495.6045696,"d":"107,028,496"}]

{"sheet":"CRI-RYP","index":5,"n_rows":35,"n_cols":8,"rows_kept":35}
[null,"Resultado\n2018","Resultado\n2019","Resultado\n2020","Estimación\n2021","Proyección\n2022","Proyección\n2023","Proyección\n2024"]
["INGRESOS DE LIBRE DISPOSCIÓN"]
["Impuestos",{"v":1549609,"d":"1,549,609"},{"v":1288786,"d":"1,288,786"},{"v":2371430,"d":"2,371,430"},{"$f":"'CRI-DE'!F2","v":{"v":2164488,"d":"2,164,488"}},{"v":2693184,"d":"2,693,184"},{"v":2800911,"d":"2,800,911"},{"v":2940956,"d":"2,940,956"}]
["Cuotas y aportaciones de seguridad social",{"$nulls":3},{"$f":"'CRI-DE'!F21","v":0}]
["Contribuciones de mejoras",{"$nulls":3},{"$f":"'CRI-DE'!F27","v":0}]
["Derechos",{"v":1257680,"d":"1,257,680"},{"v":1036405,"d":"1,036,405"},{"v":1965329,"d":"1,965,329"},{"$f":"'CRI-DE'!F30","v":{"v":2166732,"d":"2,166,732"}},{"v":2231968,"d":"2,231,968"},{"v":2321247,"d":"2,321,247"},{"v":2437309,"d":"2,437,309"}]
["Productos",{"$nulls":3},{"$f":"'CRI-DE'!F60","v":{"v":631956,"d":"631,956"}}]
["Aprovechamientos",{"v":15693,"d":"15,693"},{"v":9499,"d":"9,499"},{"v":78400,"d":"78,400"},{"$f":"'CRI-DE'!F65","v":{"v":86436,"d":"86,436"}},{"v":89042,"d":"89,042"},{"v":92603,"d":"92,603"},{"v":97233,"d":"97,233"}]
["Ingresos por venta de bienes y prestación de servicios",{"$nulls":3},{"$f":"'CRI-DE'!F79","v":{"v":2496,"d":"2,496"}},{"v":2544,"d":"2,544"},{"v":2646,"d":"2,646"},{"v":2778,"d":"2,778"}]
["Participaciones",{"v":75912765,"d":"75,912,765"},{"v":156182780,"d":"156,182,780"},{"v":79313101,"d":"79,313,101"},{"$f":"'CRI-DE'!F94","v":{"v":87692704,"d":"87,692,704"}},{"v":90074311,"d":"90,074,311"},{"v":93677284,"d":"93,677,284"},{"v":98361148,"d":"98,361,148"}]
["Incentivos derivados de la colaboración fiscal",null,{"v":77419,"d":"77,419"},null,{"$f":"'CRI-DE'!F115","v":0}]
["Transferencias y asignaciones",null,{"v":300000,"d":"300,000"},null,{"$f":"'CRI-DE'!D124","v":0}]
["Convenios",{"$nulls":3},{"$f":"'CRI-DE'!D110","v":0}]
["Otros ingresos de libre disposición",{"$nulls":3},0]
["Total de ingresos de libre disposición",{"$f":"SUM(B3:B14)","v":{"v":78735747,"d":"78,735,747"}},{"$f":"SUM(C3:C14)","v":{"v":158894889,"d":"158,894,889"}},{"v":83728260,"d":"83,728,260"},{"v":92744812,"d":"92,744,812"},{"v":95091049,"d":"95,091,049"},{"v":98894691,"d":"98,894,691"},{"v":103839424,"d":"103,839,424"}]
["TRANSFERENCIAS FEDERALES ETIQUETADAS"]
["Aportaciones",{"v":11525466,"d":"11,525,466"},{"v":4263079,"d":"4,263,079"},{"v":12955714,"d":"12,955,714"},{"$f":"'CRI-DE'!E107","v":{"v":14283684,"d":"14,283,684"}},{"v":14713546,"d":"14,713,546"},{"v":15302087,"d":"15,302,087"},{"v":16067191,"d":"16,067,191"}]
["Convenios",{"$nulls":3},{"$f":"'CRI-DE'!E110","v":0}]
["Fondos distintos de aportaciones",{"$nulls":3},{"$f":"'CRI-DE'!E121","v":0}]
["Transferencias, asignaciones, subsidios y subvenciones y pensiones y jubilaciones",{"$nulls":3},{"$f":"'CRI-DE'!E124","v":0}]
["Otras transferencias federales etiquetadas",{"v":319300,"d":"319,300"},null,null,0]
["Total de ingresos etiquetados",{"$f":"SUM(B17:B21)","v":{"v":11844766,"d":"11,844,766"}},{"v":4263079,"d":"4,263,079"},{"v":12955714,"d":"12,955,714"},{"v":14283684,"d":"14,283,684"},{"v":14713546,"d":"14,713,546"},{"v":15302087,"d":"15,302,087"},{"v":16067191,"d":"16,067,191"}]
["Ingresos derivados de financiamientos",{"$f":"B29","v":0},{"$f":"C29","v":{"v":2236,"d":"2,236"}},{"$f":"D29","v":0},{"$f":"E29","v":0}]
["TOTAL DE INGRESOS",{"$f":"B15+B22+B23","v":{"v":90580513,"d":"90,580,513"}},{"$f":"C15+C22+C23","v":{"v":163160204,"d":"163,160,204"}},{"v":96683974,"d":"96,683,974"},{"v":107028496,"d":"107,028,496"},{"v":109804595,"d":"109,804,595"},{"v":114196778,"d":"114,196,778"},{"v":119906615,"d":"119,906,615"}]
[]
["DATOS INFORMATIVOS"]
["Ingresos derivados de financiamientos con fuente de pago de recursos de libre disposición",null,{"v":2236,"d":"2,236"},null,{"$f":"'CRI-DE'!D136","v":0}]
["Ingresos derivados de financiamientos con fuente de pago de transferencias federales etiquetadas",{"$nulls":3},{"$f":"'CRI-DE'!E136","v":0}]
["Ingresos derivados de financiamiento",{"$f":"SUM(B27:B28)","v":0},{"v":2236,"d":"2,236"},0,0,0,0,0]
[]
[]
[]
[]
[]
[{"$f":"SUM(B24:H24)","v":{"v":801361175,"d":"801,361,175"}}]

{"sheet":"COG-RYP","index":6,"n_rows":160,"n_cols":8,"rows_kept":160}
[null,"Resultado\n2018","Resultado\n2019","Resultado\n2020","Presupuesto\n2021","Proyección\n2022","Proyección\n2023","Proyección\n2024"]
["GASTOS NO ETIQUETADO"]
["Servicios personales",{"v":28527510,"d":"28,527,510"},{"v":24493132,"d":"24,493,132"},{"v":24069196.636185005,"d":"24,069,197"},{"$f":"SUM('COG-FF'!C3:I3)","v":{"v":24871539.6045696,"d":"24,871,540"}}]
["Materiales y suministros",{"v":19947703,"d":"19,947,703"},{"v":19079170,"d":"19,079,170"},{"v":21953346,"d":"21,953,346"},{"$f":"SUM('COG-FF'!C40:I40)","v":{"v":21524220,"d":"21,524,220"}}]
["Servicios generales",{"v":29258711,"d":"29,258,711"},{"v":25073030,"d":"25,073,030"},{"v":24914472,"d":"24,914,472"},{"$f":"SUM('COG-FF'!C105:I105)","v":{"v":28688652,"d":"28,688,652"}}]
["Transferencias, asignaciones, subsidios y otras ayudas",{"v":12838475,"d":"12,838,475"},{"v":9944864,"d":"9,944,864"},{"v":8373533,"d":"8,373,533"},{"$f":"SUM('COG-FF'!C190:I190)","v":{"v":8791056,"d":"8,791,056"}}]
["Bienes muebles, inmuebles e intangibles",{"v":463767,"d":"463,767"},{"v":345609,"d":"345,609"},{"v":354660,"d":"354,660"},{"$f":"SUM('COG-FF'!C250:I250)","v":{"v":2052348,"d":"2,052,348"}}]
["Inversion pública",{"v":147715484,"d":"147,715,484"},{"v":40144513,"d":"40,144,513"},{"v":8251812,"d":"8,251,812"},{"$f":"SUM('COG-FF'!C309:I309)","v":{"v":17815452,"d":"17,815,452"}}]
["Inversiones financieras y otras provisiones",{"$nulls":3},{"$f":"SUM('COG-FF'!C331:I331)","v":0}]
["Participaciones y aportaciones",{"$nulls":3},{"$f":"SUM('COG-FF'!C379:I379)","v":0}]
["Deuda pública",{"v":32000,"d":"32,000"},null,null,{"$f":"SUM('COG-FF'!C397:I397)","v":0}]
["Total de gasto no etiquetado",{"$f":"SUM(B3:B11)","v":{"v":238783650,"d":"238,783,650"}},{"v":119080318,"d":"119,080,318"},{"v":87917019.636185,"d":"87,917,020"},{"v":103743267.6045696,"d":"103,743,268"},0,0,0]
["GASTO ETIQUETADO"]
["Servicios personales",{"v":2567317,"d":"2,567,317"},null,null,{"$f":"SUM('COG-FF'!J3:L3)","v":0}]
["Materiales y suministros",{"v":160656,"d":"160,656"},null,null,{"$f":"SUM('COG-FF'!J40:L40)","v":0}]
["Servicios generales",{"v":4534237,"d":"4,534,237"},null,null,{"$f":"SUM('COG-FF'!J105:L105)","v":0}]
["Transferencias, asignaciones, subsidios y otras ayudas",{"v":568813,"d":"568,813"},null,null,{"$f":"SUM('COG-FF'!J190:L190)","v":0}]
["Bienes muebles, inmuebles e intangibles",{"$nulls":3},{"$f":"SUM('COG-FF'!J250:L250)","v":0}]
["Inversion pública",{"v":14024744,"d":"14,024,744"},null,{"v":13603500,"d":"13,603,500"},{"$f":"SUM('COG-FF'!J309:L309)","v":{"v":3285228,"d":"3,285,228"}},{"v":14713546,"d":"14,713,546"},{"v":15302087,"d":"15,302,087"},{"v":16067191,"d":"16,067,191"}]
["Inversiones financieras y otras provisiones",{"$nulls":3},{"$f":"SUM('COG-FF'!J331:L331)","v":0}]
["Participaciones y aportaciones",{"$nulls":3},{"$f":"SUM('COG-FF'!J379:L379)","v":0}]
["Deuda pública",{"$nulls":3},{"$f":"SUM('COG-FF'!J397:L397)","v":0}]
["Total de gasto etiquetado",{"$f":"SUM(B14:B22)","v":{"v":21855767,"d":"21,855,767"}},0,{"v":13603500,"d":"13,603,500"},{"v":3285228,"d":"3,285,228"},{"v":14713546,"d":"14,713,546"},{"v":15302087,"d":"15,302,087"},{"v":16067191,"d":"16,067,191"}]
["TOTAL DE EGRESOS",{"$f":"B12+B23","v":{"v":260639417,"d":"260,639,417"}},{"$f":"C12+C23","v":{"v":119080318,"d":"119,080,318"}},{"v":101520519.636185,"d":"101,520,520"},{"v":107028495.6045696,"d":"107,028,496"},{"v":14713546,"d":"14,713,546"},{"v":15302087,"d":"15,302,087"},{"v":16067191,"d":"16,067,191"}]
{"$rows_empty":135}
[null,{"$f":"SUM(B24:H24)","v":{"v":634351574.2407546,"d":"634,351,574"}}]

{"sheet":"CF","index":7,"n_rows":146,"n_cols":3,"rows_kept":146,"merged":[[0,0,1,0],[0,1,1,1],[0,2,1,2]]}
["CF","DESCRIPCIÓN","TOTAL ANUAL"]
[]
[1,"GOBIERNO",{"$f":"C4+C7+C12+C22+C24+C27+C31+C36","v":{"v":107028496,"d":"107,028,496"}}]
[11,"LEGISLACIÓN",{"$f":"SUM(C5:C6)","v":0}]
[111,"Legislación"]
[112,"Fiscalización"]
[12,"JUSTICIA",{"$f":"SUM(C8:C11)","v":0}]
[121,"Impartición de justicia"]
[122,"Procuración de justicia"]
[123,"Reclusión y readaptación social"]
[124,"Derechos humanos"]
[13,"COORDINACIÓN DE LA POLÍTICA DE GOBIERNO",{"$f":"SUM(C13:C21)","v":0}]
[131,"Presidencia/Gubernatura"]
[132,"Política interior"]
[133,"Preservación y cuidado del patrimonio público"]
[134,"Función pública"]
[135,"Asuntos jurídicos"]
[136,"Organización de procesos electorales"]
[137,"Población"]
[138,"Territorio"]
[139,"Otros"]
[14,"RELACIONES EXTERIORES",{"$f":"SUM(C23:C23)","v":0}]
[141,"Relaciones exteriores"]
[15,"ASUNTOS FINANCIEROS Y HACENDARIOS",{"$f":"SUM(C25:C26)","v":{"v":107028496,"d":"107,028,496"}}]
[151,"Asuntos financieros  "]
[152,"Asuntos hacendarios",{"v":107028496,"d":"107,028,496"}]
[16,"SEGURIDAD NACIONAL",{"$f":"SUM(C28:C30)","v":0}]
[161,"Defensa"]
[162,"Marina"]
[163,"Inteligencia para la preservación de la seguridad nacional"]
[17,"ASUNTOS DE ORDEN PÚBLICO Y DE SEGURIDAD INTERIOR",{"$f":"SUM(C32:C35)","v":0}]
[171,"Policía"]
[172,"Protección civil"]
[173,"Otros asuntos de orden público y seguridad"]
[174,"Sistema nacional de seguridad pública"]
[18,"OTROS SERVICIOS GENERALES",{"$f":"SUM(C37:C41)","v":0}]
[181,"Servicios registrales, administrativos y patrimoniales"]
[182,"Servicios estadísticos"]
[183,"Servicios de comunicación y medios"]
[184,"Acceso a la información pública gubernamental"]
[185,"Otros"]
[2,"DESARROLLO SOCIAL",{"$f":"C43+C50+C58+C64+C69+C76+C86","v":0}]
[21,"PROTECCIÓN AMBIENTAL",{"$f":"SUM(C44:C49)","v":0}]
[211,"Ordenación de desechos"]
[212,"Administración del agua"]
[213,"Ordenación de aguas residuales, drenaje y alcantarillado"]
[214,"Reducción de la contaminación"]
[215,"Protección de la diversidad biológica y del paisaje"]
[216,"Otros de protección ambiental"]
[22,"VIVIENDA Y SERVICIOS A LA COMUNIDAD",{"$f":"SUM(C51:C57)","v":0}]
[221,"Urbanización"]
[222,"Desarrollo comunitario"]
[223,"Abastecimiento de agua"]
[224,"Alumbrado público"]
[225,"Vivienda"]
[226,"Servicios comunales"]
[227,"Desarrollo regional"]
[23,"SALUD",{"$f":"SUM(C59:C63)","v":0}]
[231,"Prestación de servicios de salud a la comunidad"]
[232,"Prestación de servicios de salud a la persona"]
[233,"Generación de recursos para la salud"]
[234,"Rectoría del sistema de salud"]
[235,"Protección social en salud"]
[24,"RECREACIÓN, CULTURA Y OTRAS MANIFESTACIONES SOCIALES",{"$f":"SUM(C65:C68)","v":0}]
[241,"Deporte y recreación"]
[242,"Cultura"]
[243,"Radio, televisión y editoriales"]
[244,"Asuntos religiosos y otras manifestaciones sociales"]
[25,"EDUCACIÓN",{"$f":"SUM(C70:C75)","v":0}]
[251,"Educación básica"]
[252,"Educación media superior"]
[253,"Educación superior"]
[254,"Posgrado"]
[255,"Educación para adultos"]
[256,"Otros servicios educativos y actividades inherentes"]
[26,"PROTECCIÓN SOCIAL  ",{"$f":"SUM(C77:C85)","v":0}]
[261,"Enfermedades e incapacidad"]
[262,"Edad avanzada"]
[263,"Familia e hijos"]
[264,"Desempleo"]
[265,"Alimentación y nutrición"]
[266,"Apoyo social para la vivienda"]
[267,"Indígenas"]
[268,"Otros grupos vulnerables"]
[269,"Otros de seguridad social y asistencia social"]
[27,"OTROS ASUNTOS SOCIALES",{"$f":"SUM(C87:C87)","v":0}]
[271,"Otros asuntos sociales"]
[3,"DESARROLLO ECONÓMICO",{"$f":"C89+C92+C99+C106+C110+C117+C119+C122+C127","v":0}]
[31,"ASUNTOS ECONÓMICOS, COMERCIALES Y LABORALES EN GENERAL",{"$f":"SUM(C90:C91)","v":0}]
[311,"Asuntos económicos y comerciales en general"]
[312,"Asuntos laborales generales"]
[32,"AGROPECUARÍA, SILVICULTURA, PESCA Y CAZA",{"$f":"SUM(C93:C98)","v":0}]
[321,"Agropecuaria"]
[322,"Silvicultura"]
[323,"Acuacultura, pesca y caza"]
[324,"Agroindustrial"]
[325,"Hidroagrícola"]
[326,"Apoyo financiero a la banca y seguro agropecuario"]
[33,"COMBUSTIBLE Y ENERGÍA",{"$f":"SUM(C100:C105)","v":0}]
[331,"Carbón y otros combustibles minerales sólidos"]
[332,"Petróleo y gas natural (hidrocarburos)"]
[333,"Combustibles Nucleares"]
[334,"Otros combustibles"]
[335,"Electricidad"]
[336,"Energía no Eléctrica"]
[34,"MINERÍA, MANUFACTURAS Y CONSTRUCCIÓN",{"$f":"SUM(C107:C109)","v":0}]
[341,"Extracción de recursos minerales excepto los combustibles minerales"]
[342,"Manufacturas"]
[343,"Construcción"]
[35,"TRANSPORTE",{"$f":"SUM(C111:C116)","v":0}]
[351,"Transporte por carretera"]
[352,"Transporte por agua y puertos"]
[353,"Transporte por ferrocarril"]
[354,"Transporte aéreo"]
[355,"Transporte por oleoductos y gasoductos y otros sistemas de transporte"]
[356,"Otros relacionados con transporte"]
[36,"COMUNICACIONES",{"$f":"SUM(C118:C118)","v":0}]
[361,"Comunicaciones"]
[37,"TURISMO",{"$f":"SUM(C120:C121)","v":0}]
[371,"Turismo"]
[372,"Hoteles y restaurantes"]
[38,"CIENCIA, TECNOLOGÍA E INNOVACIÓN",{"$f":"SUM(C123:C126)","v":0}]
[381,"Investigación científica"]
[382,"Desarrollo tecnológico"]
[383,"Servicios científicos y tecnológicos"]
[384,"Innovación"]
[39,"OTRAS INDUSTRIAS Y OTROS ASUNTOS ECONÓMICOS",{"$f":"SUM(C128:C130)","v":0}]
[391,"Comercio, distribución, almacenamiento y depósito"]
[392,"Otras industrias  "]
[393,"Otros asuntos económicos"]
[4,"OTRAS NO CLASIFICADAS EN FUNCIONES ANTERIORES",{"$f":"C132+C135+C139+C144","v":0}]
[41,"TRANSACCIONES DE LA DEUDA PÚBLICA/COSTO FINANCIERO DE LA DEUDA",{"$f":"SUM(C133:C134)","v":0}]
[411,"Deuda pública interna"]
[412,"Deuda pública externa"]
[42,"TRANSFERENCIAS, PARTICIPACIONES Y APORTACIONES ENTRE DIFERENTES NIVELES Y ORDENES DE GOBIERNO",{"$f":"SUM(C136:C138)","v":0}]
[421,"Transferencia entre diferentes niveles y ordenes de gobierno"]
[422,"Participaciones entre diferentes niveles y ordenes de gobierno"]
[423,"Aportaciones entre diferentes niveles y ordenes de gobierno"]
[43,"SANEAMIENTO DEL SISTEMA FINANCIERO",{"$f":"SUM(C140:C143)","v":0}]
[431,"Saneamiento del sistema financiero"]
[432,"Apoyos IPAB"]
[433,"Banca de desarrollo"]
[434,"Apoyo a los programas de reestructura en unidades de inversión (UDIS)"]
[44,"ADEUDOS DE EJERCICIOS FISCALES ANTERIORES  ",{"$f":"SUM(C145:C145)","v":0}]
[441,"adeudos de ejercicios fiscales anteriores"]
[null,"TOTAL DE EGRESOS",{"$f":"C3+C42+C88+C131","v":{"v":107028496,"d":"107,028,496"}}]

{"sheet":"CA","index":8,"n_rows":76,"n_cols":4,"rows_kept":76,"merged":[[0,0,1,0],[0,1,1,1],[0,2,1,2],[0,3,1,3]]}
["CA","UA","NOMBRE DE LA UNIDAD RESPONSABLE","TOTAL ANUAL"]
[]
["3.0.0.0.0.",null,"SECTOR PÚBLICO MUNICIPAL"]
["3.1.1.0.0.",null,"GOBIERNO GENERAL MUNICIPAL"]
["3.1.1.1.0.",null,"Gobierno Municipal"]
["3.1.1.1.0.",1,"Presidencia",{"v":69237144,"d":"69,237,144.00"}]
["3.1.1.1.0.",2,"Obras Públicas",{"v":37399182,"d":"37,399,182.00"}]
["3.1.1.1.0.",{"v":3,"d":"0003"},"Planeación y Participación Ciudadana",{"v":392170,"d":"392,170.00"}]
{"$rows_empty":67}
[null,null,"SUMA",{"$f":"SUM(D6:D75)","v":{"v":107028496,"d":"107,028,496.00"}}]

{"sheet":"EA","index":9,"n_rows":53,"n_cols":6,"rows_kept":53}
[null,"Pensiones y jubilaciones","Salud","Riesgos de trabajo","Invalidez y vida","Obras prestaciones sociales"]
["Tipo de sistema"]
["Prestación laboral o fondo general para trabajadores del  municipio","N/A","N/A","N/A","N/A","N/A"]
["Beneficio definido, contribución definida o mixto","N/A","N/A","N/A","N/A","N/A"]
["Población afiliada"]
["Activos ","N/A","N/A","N/A","N/A","N/A"]
["Edad máxima","N/A","N/A","N/A","N/A","N/A"]
["Edad mínima","N/A","N/A","N/A","N/A","N/A"]
["Edad promedio","N/A","N/A","N/A","N/A","N/A"]
["Pensionados y jubilados","N/A","N/A","N/A","N/A","N/A"]
["Edad máxima","N/A","N/A","N/A","N/A","N/A"]
["Edad mínima","N/A","N/A","N/A","N/A","N/A"]
["Edad promedio","N/A","N/A","N/A","N/A","N/A"]
["Beneficiarios","N/A","N/A","N/A","N/A","N/A"]
["Promedio de años de servicio (trabajadores activos)","N/A","N/A","N/A","N/A","N/A"]
["Aportación individual al plan de pensión como % del salario","N/A","N/A","N/A","N/A","N/A"]
["Aportación del ente público al plan de pensión como % del salario","N/A","N/A","N/A","N/A","N/A"]
["Crecimiento esperado de los pensionados y jubilados (como %)","N/A","N/A","N/A","N/A","N/A"]
["Crecimiento esperado de los activos (como %)","N/A","N/A","N/A","N/A","N/A"]
["Edad de jubilación o pensión","N/A","N/A","N/A","N/A","N/A"]
["Esperanza de vida","N/A","N/A","N/A","N/A","N/A"]
["Ingresos del fondo"]
["Ingresos anuales al fondo de pensiones","N/A","N/A","N/A","N/A","N/A"]
["Nómina anual"]
["Activos","N/A","N/A","N/A","N/A","N/A"]
["Pensiones y jubilados","N/A","N/A","N/A","N/A","N/A"]
["Beneficiarios de pensionados y jubilados","N/A","N/A","N/A","N/A","N/A"]
["Monto mensual por pensión "]
["Máximo","N/A","N/A","N/A","N/A","N/A"]
["Mínimo","N/A","N/A","N/A","N/A","N/A"]
["Promedio","N/A","N/A","N/A","N/A","N/A"]
["Monto de la reserva","N/A","N/A","N/A","N/A","N/A"]
["Valor presente de las obligaciones"]
["Pensiones y jubilaciones en curso de pago","N/A","N/A","N/A","N/A","N/A"]
["Generación actual","N/A","N/A","N/A","N/A","N/A"]
["Generaciones futuras","N/A","N/A","N/A","N/A","N/A"]
["Valor presente de las contribuciones asociadas a los sueldos futuros de cotización X%"]
["Generación actual","N/A","N/A","N/A","N/A","N/A"]
["Generaciones futuras","N/A","N/A","N/A","N/A","N/A"]
["Otros ingresos","N/A","N/A","N/A","N/A","N/A"]
["Déficit/superávit actuarial"]
["Generación actual","N/A","N/A","N/A","N/A","N/A"]
["Generaciones futuras","N/A","N/A","N/A","N/A","N/A"]
["Periodo de suficiencia"]
["Año de descapitalización","N/A","N/A","N/A","N/A","N/A"]
["Tasa de rendimiento","N/A","N/A","N/A","N/A","N/A"]
["Estudio actuarial"]
["Año de elaboración del estudio actuarial","N/A","N/A","N/A","N/A","N/A"]
["Empresa que elaboró el estudio actuarial","N/A","N/A","N/A","N/A","N/A"]
[]
[]
[]
[null,{"$f":"COUNTA(B6:F21,B3:F4,B23:F23,B25:F27,B29:F32,B34:F36,B38:F40,B42:F43,B45:F46,B48:F49)","v":190}]

{"sheet":"Plantilla","index":10,"n_rows":429,"n_cols":15,"rows_kept":429,"merged":[[0,0,1,1],[0,2,1,2],[0,3,1,3],[0,4,1,4],[0,5,1,5],[0,6,0,7],[0,14,1,14],[2,0,2,1],[3,0,3,1],[4,0,4,1],[5,0,5,1],[208,0,208,1],[209,0,209,1],[210,0,210,1],[211,0,211,1],[212,0,212,1],[213,0,213,1],[214,0,214,1],[215,0,215,1],[216,0,216,1],[217,0,217,1],[218,0,218,1],[219,0,219,1],[220,0,220,1],[221,0,221,1],[222,0,222,1],[223,0,223,1],[224,0,224,1],[225,0,225,1],[226,0,226,1],[227,0,227,1],[228,0,228,1],[229,0,229,1],[230,0,230,1],[231,0,231,1],[232,0,232,1],[233,0,233,1],[234,0,234,1],[235,0,235,1],[236,0,236,1],[237,0,237,1],[238,0,238,1],[239,0,239,1],[240,0,240,1],[241,0,241,1],[242,0,242,1],[243,0,243,1],[244,0,244,1],[245,0,245,1],[246,0,246,1],[247,0,247,1],[248,0,248,1],[249,0,249,1],[250,0,250,1],[251,0,251,1],[252,0,252,1],[253,0,253,1],[254,0,254,1],[255,0,255,1],[256,0,256,1],[257,0,257,1],[258,0,258,1],[259,0,259,1],[260,0,260,1],[261,0,261,1],[262,0,262,1],[263,0,263,1],[264,0,264,1],[265,0,265,1],[266,0,266,1],[267,0,267,1],[268,0,268,1],[269,0,269,1],[270,0,270,1],[271,0,271,1],[272,0,272,1],[273,0,273,1],[274,0,274,1],[275,0,275,1],[276,0,276,1],[277,0,277,1],[278,0,278,1],[279,0,279,1],[280,0,280,1],[281,0,281,1],[282,0,282,1],[283,0,283,1],[284,0,284,1],[285,0,285,1],[286,0,286,1],[287,0,287,1],[288,0,288,1],[289,0,289,1],[290,0,290,1],[291,0,291,1],[292,0,292,1],[293,0,293,1],[294,0,294,1],[295,0,295,1],[296,0,296,1],[297,0,297,1],[298,0,298,1],[299,0,299,1],[300,0,300,1],[301,0,301,1],[302,0,302,1],[303,0,303,1],[304,0,304,1],[305,0,305,1],[306,0,306,1],[307,0,307,1],[308,0,308,1],[309,0,309,1],[310,0,310,1],[311,0,311,1],[312,0,312,1],[313,0,313,1],[314,0,314,1],[315,0,315,1],[316,0,316,1],[317,0,317,1],[318,0,318,1],[319,0,319,1],[320,0,320,1],[321,0,321,1],[322,0,322,1],[323,0,323,1],[324,0,324,1],[325,0,325,1],[326,0,326,1],[327,0,327,1],[328,0,328,1],[329,0,329,1],[330,0,330,1],[331,0,331,1],[332,0,332,1],[333,0,333,1],[334,0,334,1],[335,0,335,1],[336,0,336,1],[337,0,337,1],[338,0,338,1],[339,0,339,1],[340,0,340,1],[341,0,341,1],[342,0,342,1],[343,0,343,1],[344,0,344,1],[345,0,345,1],[346,0,346,1],[347,0,347,1],[348,0,348,1],[349,0,349,1],[350,0,350,1],[351,0,351,1],[352,0,352,1],[353,0,353,1],[354,0,354,1],[355,0,355,1],[356,0,356,1],[357,0,357,1],[358,0,358,1],[359,0,359,1],[360,0,360,1],[361,0,361,1],[362,0,362,1],[363,0,363,1],[364,0,364,1],[365,0,365,1],[366,0,366,1],[367,0,367,1],[368,0,368,1],[369,0,369,1],[370,0,370,1],[371,0,371,1],[372,0,372,1],[373,0,373,1],[374,0,374,1],[375,0,375,1],[376,0,376,1],[377,0,377,1],[378,0,378,1],[379,0,379,1],[380,0,380,1],[381,0,381,1],[382,0,382,1],[383,0,383,1],[384,0,384,1],[385,0,385,1],[386,0,386,1],[387,0,387,1],[388,0,388,1],[389,0,389,1],[390,0,390,1],[391,0,391,1],[392,0,392,1],[393,0,393,1],[394,0,394,1],[395,0,395,1],[396,0,396,1],[397,0,397,1],[398,0,398,1],[399,0,399,1],[400,0,400,1],[401,0,401,1],[402,0,402,1],[403,0,403,1],[404,0,404,1],[405,0,405,1],[406,0,406,1],[407,0,407,1],[408,0,408,1],[409,0,409,1],[410,0,410,1],[411,0,411,1],[412,0,412,1],[413,0,413,1],[414,0,414,1],[415,0,415,1],[416,0,416,1],[417,0,417,1],[418,0,418,1],[419,0,419,1],[420,0,420,1],[421,0,421,1],[422,0,422,1],[423,0,423,1],[424,0,424,1],[425,0,425,1],[426,0,426,1],[427,0,427,1],[428,1,428,4]]}
["NOMBRE DE LA PLAZA",null,"ADSCRIPCIÓN DE LA PLAZA","PARTIDA GENERICA","FF ","No. PLAZAS","111-113\nDIETAS Y SUELDO BASE",null,131,132,132,133,134,1500,"SUMA TOTAL DE REMUNERACIONES"]
[{"$nulls":6},"MENSUAL","ANUAL","PRIMAS POR AÑOS DE SERVICIOS EFECTIVOS PRESTADOS","PRIMA VACACIONAL Y DOMINICAL","GRATIFICACIÓN DE FIN DE AÑO (AGUINALDO)","HORAS EXTRAORDINARIAS","COMPENSACIONES","OTRAS PRESTACIONES"]
["Regidores",null,"Sala de regidores",111,11,9,{"v":16000,"d":"16,000"},{"$f":"IF(E3=\"\",\"SE REQUIERE ASIGNAR LA FUENTE DE FINANCIAMIENTO\",IF(F3=\"\",\"ES NECESARIO ESTABLECER EL NÚMERO DE PLAZAS\",IF(G3=\"\",\"SE NECESITA ESTABLECER UN MONTO MENSUAL\",F3*G3*12)))","v":{"v":1728000,"d":"1,728,000"}},null,{"v":23999,"d":"23,999"},{"v":239000,"d":"239,000"},{"$nulls":3},{"$f":"SUM(H3:N3)","v":{"v":1990999,"d":"1,990,999"}}]
["Sindíco",null,"Sindicatura",111,11,1,{"v":12600,"d":"12,600"},{"$f":"IF(E4=\"\",\"SE REQUIERE ASIGNAR LA FUENTE DE FINANCIAMIENTO\",IF(F4=\"\",\"ES NECESARIO ESTABLECER EL NÚMERO DE PLAZAS\",IF(G4=\"\",\"SE NECESITA ESTABLECER UN MONTO MENSUAL\",F4*G4*12)))","v":{"v":151200,"d":"151,200"}},null,{"v":2100,"d":"2,100"},{"v":21000,"d":"21,000"},{"$nulls":3},{"$f":"SUM(H4:N4)","v":{"v":174300,"d":"174,300"}}]
["Secretario general",null,"Secretaría general",113,11,1,{"v":11550,"d":"11,550"},{"v":138600,"d":"138,600"},null,{"v":1925,"d":"1,925"},{"v":19250,"d":"19,250"},{"$nulls":3},{"v":159775,"d":"159,775"}]
["Presidente",null,"Presidencia",113,11,1,{"v":30000,"d":"30,000"},{"v":360000,"d":"360,000"},null,{"v":5000,"d":"5,000"},{"v":50000,"d":"50,000"},{"$nulls":3},{"v":415000,"d":"415,000"}]
["ASISTENTE DE SINDICATURA",null,null,113,11,1,{"v":8400,"d":"8,400"},{"v":100800,"d":"100,800"},null,{"v":1400,"d":"1,400"},{"v":14000,"d":"14,000"},{"$nulls":3},{"v":116200,"d":"116,200"}]
["DIR. DE DESARROLLO SOCIAL",null,null,113,11,1,{"v":10500,"d":"10,500"},{"v":126000,"d":"126,000"},null,{"v":1750,"d":"1,750"},{"v":17500,"d":"17,500"},{"$nulls":3},{"v":145250,"d":"145,250"}]
["DELEGADO DE LAS LOMAS",null,null,113,11,1,{"v":10500,"d":"10,500"},{"v":126000,"d":"126,000"},null,{"v":1750,"d":"1,750"},{"v":17500,"d":"17,500"},{"$nulls":3},{"v":145250,"d":"145,250"}]
["ASEO PARQUES Y JARDINES",null,null,113,11,1,{"v":2415,"d":"2,415"},{"v":28980,"d":"28,980"},null,{"v":402.5,"d":"403"},{"v":4025,"d":"4,025"},{"$nulls":3},{"v":33407.5,"d":"33,408"}]
["RECOLECTOR DE BASURA",null,null,113,11,1,{"v":3465,"d":"3,465"},{"v":41580,"d":"41,580"},null,{"v":577.5,"d":"578"},{"v":5775,"d":"5,775"},{"$nulls":3},{"v":47932.5,"d":"47,933"}]
["CHOFER DE LA AMBULANCIA",null,null,113,11,1,{"v":4830,"d":"4,830"},{"v":57960,"d":"57,960"},null,805,{"v":8050,"d":"8,050"},{"$nulls":3},{"v":66815,"d":"66,815"}]
["RECOLECTOR DE BASURA",null,null,113,11,1,{"v":4063.5,"d":"4,064"},{"v":48762,"d":"48,762"},null,{"v":677.25,"d":"677"},{"v":6772.499999999999,"d":"6,773"},{"$nulls":3},{"v":56211.75,"d":"56,212"}]
["FONTANERO",null,null,113,11,1,{"v":5250,"d":"5,250"},{"v":63000,"d":"63,000"},null,875,{"v":8750,"d":"8,750"},{"$nulls":3},{"v":72625,"d":"72,625"}]
["OFICIAL DEL REGISTRO CIVIL ",null,null,113,11,1,{"v":6300,"d":"6,300"},{"v":75600,"d":"75,600"},null,{"v":1050,"d":"1,050"},{"v":10500,"d":"10,500"},{"$nulls":3},{"v":87150,"d":"87,150"}]
["ASEO PARQUES Y JARDINES",null,null,113,11,1,{"v":2415,"d":"2,415"},{"v":28980,"d":"28,980"},null,{"v":402.5,"d":"403"},{"v":4025,"d":"4,025"},{"$nulls":3},{"v":33407.5,"d":"33,408"}]
["ASEO BAÑOS JUNTO AL CAMPO DE FUTBOL",null,null,113,11,1,{"v":1575,"d":"1,575"},{"v":18900,"d":"18,900"},null,{"v":262.5,"d":"263"},{"v":2625,"d":"2,625"},{"$nulls":3},{"v":21787.5,"d":"21,788"}]
["ENC. DE ASEO CANCHA DE USOS MÚLTIPES Y ÁREA VERDE CENTRO DE SALUD",null,null,113,11,1,{"v":2100,"d":"2,100"},{"v":25200,"d":"25,200"},null,350,{"v":3500,"d":"3,500"},{"$nulls":3},{"v":29050,"d":"29,050"}]
["DELEGADO DE TAZUMBOS",null,null,113,11,1,{"v":10500,"d":"10,500"},{"v":126000,"d":"126,000"},null,{"v":1750,"d":"1,750"},{"v":17500,"d":"17,500"},{"$nulls":3},{"v":145250,"d":"145,250"}]
["ASEO PUBLICO DEL JARDÍN PRICIPAL TAZUMBOS",null,null,113,11,1,{"v":4725,"d":"4,725"},{"v":56700,"d":"56,700"},null,{"v":787.5,"d":"788"},{"v":7875,"d":"7,875"},{"$nulls":3},{"v":65362.5,"d":"65,363"}]
["FONTANERO",null,null,113,11,1,{"v":6300,"d":"6,300"},{"v":75600,"d":"75,600"},null,{"v":1050,"d":"1,050"},{"v":10500,"d":"10,500"},{"$nulls":3},{"v":87150,"d":"87,150"}]
["OFICIAL DE REGISTRO CIVIL TAZUMBOS",null,null,113,11,1,{"v":6300,"d":"6,300"},{"v":75600,"d":"75,600"},null,{"v":1050,"d":"1,050"},{"v":10500,"d":"10,500"},{"$nulls":3},{"v":87150,"d":"87,150"}]
["SECRETARIA DE LA DELEGACIÓN",null,null,113,11,1,{"v":5250,"d":"5,250"},{"v":63000,"d":"63,000"},null,875,{"v":8750,"d":"8,750"},{"$nulls":3},{"v":72625,"d":"72,625"}]
["ASEO DE AVENIDA PRINCIPAL ",null,null,113,11,1,{"v":2211.3,"d":"2,211"},{"v":26535.600000000002,"d":"26,536"},null,{"v":368.55000000000007,"d":"369"},{"v":3685.5000000000005,"d":"3,686"},{"$nulls":3},{"v":30589.65,"d":"30,590"}]
["ASEO PANTEÓN",null,null,113,11,1,{"v":2008.65,"d":"2,009"},{"v":24103.800000000003,"d":"24,104"},null,{"v":334.77500000000003,"d":"335"},{"v":3347.75,"d":"3,348"},{"$nulls":3},{"v":27786.325000000004,"d":"27,786"}]
["ENCARGADO  DE BASURERO",null,null,113,11,1,{"v":2008.65,"d":"2,009"},{"v":24103.800000000003,"d":"24,104"},null,{"v":334.77500000000003,"d":"335"},{"v":3347.75,"d":"3,348"},{"$nulls":3},{"v":27786.325000000004,"d":"27,786"}]
["ENCARGADO DE REV. DE CLORADO DE AGUA",null,null,113,11,1,{"v":4200,"d":"4,200"},{"v":50400,"d":"50,400"},null,700,{"v":7000,"d":"7,000"},{"$nulls":3},{"v":58100,"d":"58,100"}]
["CHOFER CAMIÓN BASURA",null,null,113,11,1,{"v":5250,"d":"5,250"},{"v":63000,"d":"63,000"},null,875,{"v":8750,"d":"8,750"},{"$nulls":3},{"v":72625,"d":"72,625"}]
["ASEO PÚBLICO DE LA CANCHA MUNICIPAL",null,null,113,11,1,{"v":2375.1,"d":"2,375"},{"v":28501.199999999997,"d":"28,501"},null,{"v":395.85,"d":"396"},{"v":3958.5,"d":"3,959"},{"$nulls":3},{"v":32855.549999999996,"d":"32,856"}]
["RECOLECTOR DE BASURA",null,null,113,11,1,{"v":7140,"d":"7,140"},{"v":85680,"d":"85,680"},null,{"v":1190,"d":"1,190"},{"v":11900,"d":"11,900"},{"$nulls":3},{"v":98770,"d":"98,770"}]
["MENSAJERO DE DELEGACIÓN TAZUMBOS",null,null,113,11,1,{"v":2211.3,"d":"2,211"},{"v":26535.600000000002,"d":"26,536"},null,{"v":368.55000000000007,"d":"369"},{"v":3685.5000000000005,"d":"3,686"},{"$nulls":3},{"v":30589.65,"d":"30,590"}]
["INTENDENTE DE LA CLÍNICA TAZUMBOS",null,null,113,11,1,{"v":2211.3,"d":"2,211"},{"v":26535.600000000002,"d":"26,536"},null,{"v":368.55000000000007,"d":"369"},{"v":3685.5000000000005,"d":"3,686"},{"$nulls":3},{"v":30589.65,"d":"30,590"}]
["BARRENDERA PLAZA DEL JARDÍN PRINCIPAL",null,null,113,11,1,{"v":2835,"d":"2,835"},{"v":34020,"d":"34,020"},null,{"v":472.5,"d":"473"},{"v":4725,"d":"4,725"},{"$nulls":3},{"v":39217.5,"d":"39,218"}]
["FONTANERO DE LA PAROTA LIMÓN Y ANEXOS",null,null,113,11,1,{"v":1575,"d":"1,575"},{"v":18900,"d":"18,900"},null,{"v":262.5,"d":"263"},{"v":2625,"d":"2,625"},{"$nulls":3},{"v":21787.5,"d":"21,788"}]
["ENC. HACIENDA MUNICIPAL",null,null,113,11,1,{"v":17325,"d":"17,325"},{"v":207900,"d":"207,900"},null,{"v":2887.5,"d":"2,888"},{"v":28875,"d":"28,875"},{"$nulls":3},{"v":239662.5,"d":"239,663"}]
["ENCARGADA DE EGRESOS",null,null,113,11,1,{"v":10500,"d":"10,500"},{"v":126000,"d":"126,000"},null,{"v":1750,"d":"1,750"},{"v":17500,"d":"17,500"},{"$nulls":3},{"v":145250,"d":"145,250"}]
["ENCARGADA DE INGRESOS",null,null,113,11,1,{"v":8400,"d":"8,400"},{"v":100800,"d":"100,800"},null,{"v":1400,"d":"1,400"},{"v":14000,"d":"14,000"},{"$nulls":3},{"v":116200,"d":"116,200"}]
["AUXILIAR TÉCNICO",null,null,113,11,1,{"v":10080,"d":"10,080"},{"v":120960,"d":"120,960"},null,{"v":1680,"d":"1,680"},{"v":16800,"d":"16,800"},{"$nulls":3},{"v":139440,"d":"139,440"}]
["ASESOR CONTABLE",null,null,113,11,1,{"v":15750,"d":"15,750"},{"v":189000,"d":"189,000"},null,{"v":2625,"d":"2,625"},{"v":26250,"d":"26,250"},{"$nulls":3},{"v":217875,"d":"217,875"}]
["AUXILIAR TÉCNICO",null,null,113,11,1,{"v":10080,"d":"10,080"},{"v":120960,"d":"120,960"},null,{"v":1680,"d":"1,680"},{"v":16800,"d":"16,800"},{"$nulls":3},{"v":139440,"d":"139,440"}]
["SECRETARIA  DE HACIENDA ",null,null,113,11,1,{"v":8400,"d":"8,400"},{"v":100800,"d":"100,800"},null,{"v":1400,"d":"1,400"},{"v":14000,"d":"14,000"},{"$nulls":3},{"v":116200,"d":"116,200"}]
["AUXILIAR DE INGRESOS Y EGRESOS",null,null,113,11,1,{"v":6825,"d":"6,825"},{"v":81900,"d":"81,900"},null,{"v":1137.5,"d":"1,138"},{"v":11375,"d":"11,375"},{"$nulls":3},{"v":94412.5,"d":"94,413"}]
["SECRETARIA DEL INSTITUTO DE LA JUENTUD",null,null,113,11,1,{"v":5250,"d":"5,250"},{"v":63000,"d":"63,000"},null,875,{"v":8750,"d":"8,750"},{"$nulls":3},{"v":72625,"d":"72,625"}]
["DIRECTOR DE OBRAS PUBLICAS",null,null,113,11,1,{"v":13650,"d":"13,650"},{"v":163800,"d":"163,800"},null,{"v":2275,"d":"2,275"},{"v":22750,"d":"22,750"},{"$nulls":3},{"v":188825,"d":"188,825"}]
["SECRETARIA DE OBRAS PÚBLICAS",null,null,113,11,1,{"v":8400,"d":"8,400"},{"v":100800,"d":"100,800"},null,{"v":1400,"d":"1,400"},{"v":14000,"d":"14,000"},{"$nulls":3},{"v":116200,"d":"116,200"}]
["AUXILIAR DE DIRECTOR DE OBRAS PÚBLICAS",null,null,113,11,1,{"v":7350,"d":"7,350"},{"v":88200,"d":"88,200"},null,{"v":1225,"d":"1,225"},{"v":12250,"d":"12,250"},{"$nulls":3},{"v":101675,"d":"101,675"}]
["ALBAÑIL DEL AYUNTAMIENTO",null,null,113,11,1,{"v":6300,"d":"6,300"},{"v":75600,"d":"75,600"},null,{"v":1050,"d":"1,050"},{"v":10500,"d":"10,500"},{"$nulls":3},{"v":87150,"d":"87,150"}]
["DIRECTORA DE CATASTRO MUNICIPAL",null,null,113,11,1,{"v":12600,"d":"12,600"},{"v":151200,"d":"151,200"},null,{"v":2100,"d":"2,100"},{"v":21000,"d":"21,000"},{"$nulls":3},{"v":174300,"d":"174,300"}]
["AUXILIAR  DE CATASTRO MUNICIPAL",null,null,113,11,1,{"v":11550,"d":"11,550"},{"v":138600,"d":"138,600"},null,{"v":1925,"d":"1,925"},{"v":19250,"d":"19,250"},{"$nulls":3},{"v":159775,"d":"159,775"}]
["SEGUNDO COMANDANTE",null,null,113,11,1,{"v":12600,"d":"12,600"},{"v":151200,"d":"151,200"},null,{"v":2100,"d":"2,100"},{"v":21000,"d":"21,000"},{"$nulls":3},{"v":174300,"d":"174,300"}]
["POLICIA",null,null,113,11,1,{"v":10500,"d":"10,500"},{"v":126000,"d":"126,000"},null,{"v":1750,"d":"1,750"},{"v":17500,"d":"17,500"},{"$nulls":3},{"v":145250,"d":"145,250"}]
["POLICIA",null,null,113,11,1,{"v":10500,"d":"10,500"},{"v":126000,"d":"126,000"},null,{"v":1750,"d":"1,750"},{"v":17500,"d":"17,500"},{"$nulls":3},{"v":145250,"d":"145,250"}]
["POLICIA",null,null,113,11,1,{"v":10500,"d":"10,500"},{"v":126000,"d":"126,000"},null,{"v":1750,"d":"1,750"},{"v":17500,"d":"17,500"},{"$nulls":3},{"v":145250,"d":"145,250"}]
["POLICIA",null,null,113,11,1,{"v":10500,"d":"10,500"},{"v":126000,"d":"126,000"},null,{"v":1750,"d":"1,750"},{"v":17500,"d":"17,500"},{"$nulls":3},{"v":145250,"d":"145,250"}]
["PRIMER COMANDANTE",null,null,113,11,1,{"v":12600,"d":"12,600"},{"v":151200,"d":"151,200"},null,{"v":2100,"d":"2,100"},{"v":21000,"d":"21,000"},{"$nulls":3},{"v":174300,"d":"174,300"}]
["POLICIA",null,null,113,11,1,{"v":10500,"d":"10,500"},{"v":126000,"d":"126,000"},null,{"v":1750,"d":"1,750"},{"v":17500,"d":"17,500"},{"$nulls":3},{"v":145250,"d":"145,250"}]
["POLICIA",null,null,113,11,1,{"v":10500,"d":"10,500"},{"v":126000,"d":"126,000"},null,{"v":1750,"d":"1,750"},{"v":17500,"d":"17,500"},{"$nulls":3},{"v":145250,"d":"145,250"}]
["POLICIA",null,null,113,11,1,{"v":10500,"d":"10,500"},{"v":126000,"d":"126,000"},null,{"v":1750,"d":"1,750"},{"v":17500,"d":"17,500"},{"$nulls":3},{"v":145250,"d":"145,250"}]
["POLICIA",null,null,113,11,1,{"v":10500,"d":"10,500"},{"v":126000,"d":"126,000"},null,{"v":1750,"d":"1,750"},{"v":17500,"d":"17,500"},{"$nulls":3},{"v":145250,"d":"145,250"}]
["POLICIA",null,null,113,11,1,{"v":10500,"d":"10,500"},{"v":126000,"d":"126,000"},null,{"v":1750,"d":"1,750"},{"v":17500,"d":"17,500"},{"$nulls":3},{"v":145250,"d":"145,250"}]
["POLICIA",null,null,113,11,1,{"v":10500,"d":"10,500"},{"v":126000,"d":"126,000"},null,{"v":1750,"d":"1,750"},{"v":17500,"d":"17,500"},{"$nulls":3},{"v":145250,"d":"145,250"}]
["POLICIA",null,null,113,11,1,{"v":10500,"d":"10,500"},{"v":126000,"d":"126,000"},null,{"v":1750,"d":"1,750"},{"v":17500,"d":"17,500"},{"$nulls":3},{"v":145250,"d":"145,250"}]
["SECRETARIA DE POLICIA DE S.P.",null,null,113,11,1,{"v":5250,"d":"5,250"},{"v":63000,"d":"63,000"},null,875,{"v":8750,"d":"8,750"},{"$nulls":3},{"v":72625,"d":"72,625"}]
["OFICIAL  DEL REGISTRO CIVIL",null,null,113,11,1,{"v":8400,"d":"8,400"},{"v":100800,"d":"100,800"},null,{"v":1400,"d":"1,400"},{"v":14000,"d":"14,000"},{"$nulls":3},{"v":116200,"d":"116,200"}]
["SECRETARIA DE REGISTRO CIVIL",null,null,113,11,1,{"v":6300,"d":"6,300"},{"v":75600,"d":"75,600"},null,{"v":1050,"d":"1,050"},{"v":10500,"d":"10,500"},{"$nulls":3},{"v":87150,"d":"87,150"}]
[" ENCARGADA DE PRIMEROS AUXILIOS",null,null,113,11,1,{"v":3150,"d":"3,150"},{"v":37800,"d":"37,800"},null,525,{"v":5250,"d":"5,250"},{"$nulls":3},{"v":43575,"d":"43,575"}]
["OFICIAL DE SERVICIOS PÚBLICOS",null,null,113,11,1,{"v":7350,"d":"7,350"},{"v":88200,"d":"88,200"},null,{"v":1225,"d":"1,225"},{"v":12250,"d":"12,250"},{"$nulls":3},{"v":101675,"d":"101,675"}]
["AUX. DEL ENC. AGUA POTABLE Y ALCANTARILLADO",null,null,113,11,1,{"v":8400,"d":"8,400"},{"$f":"IF(E68=\"\",\"SE REQUIERE ASIGNAR LA FUENTE DE FINANCIAMIENTO\",IF(F68=\"\",\"ES NECESARIO ESTABLECER EL NÚMERO DE PLAZAS\",IF(G68=\"\",\"SE NECESITA ESTABLECER UN MONTO MENSUAL\",F68*G68*12)))","v":{"v":100800,"d":"100,800"}},null,{"v":1400,"d":"1,400"},{"v":14000,"d":"14,000"},{"$nulls":3},{"$f":"SUM(H68:N68)","v":{"v":116200,"d":"116,200"}}]
["ENCARGADO DE VALVULAS",null,null,113,11,1,{"v":7350.000380800001,"d":"7,350"},{"v":88200.00456960002,"d":"88,200"},null,{"v":1225.000063466667,"d":"1,225"},{"v":12250.000634666669,"d":"12,250"},{"$nulls":3},{"v":101675.00526773334,"d":"101,675"}]
["ENC. DE AGUA POTABLE DEL RINCÓN",null,null,113,11,1,{"v":3150,"d":"3,150"},{"v":37800,"d":"37,800"},null,525,{"v":5250,"d":"5,250"},{"$nulls":3},{"v":43575,"d":"43,575"}]
["ENC. AGUA POTABLE SAN FRANCISCO",null,null,113,11,1,{"v":4200,"d":"4,200"},{"v":50400,"d":"50,400"},null,700,{"v":7000,"d":"7,000"},{"$nulls":3},{"v":58100,"d":"58,100"}]
["ASEO DE UNIDAD DEP. SAN FCO",null,null,113,11,1,{"v":3150,"d":"3,150"},{"v":37800,"d":"37,800"},null,525,{"v":5250,"d":"5,250"},{"$nulls":3},{"v":43575,"d":"43,575"}]
["ENCARGADO DE PARQUES Y JARDINES",null,null,113,11,1,{"v":4200,"d":"4,200"},{"v":50400,"d":"50,400"},null,700,{"v":7000,"d":"7,000"},{"$nulls":3},{"v":58100,"d":"58,100"}]
["ENC. AGUA POTABLE RANCHO VIEJO",null,null,113,11,1,{"v":3675,"d":"3,675"},{"v":44100,"d":"44,100"},null,{"v":612.5,"d":"613"},{"v":6125,"d":"6,125"},{"$nulls":3},{"v":50837.5,"d":"50,838"}]
["ENC. AGUA POTABLE LA PRESA",null,null,113,11,1,{"v":3150,"d":"3,150"},{"v":37800,"d":"37,800"},null,525,{"v":5250,"d":"5,250"},{"$nulls":3},{"v":43575,"d":"43,575"}]
["ENC. AGUA POTABLE HUICHITILA",null,null,113,11,1,{"v":3150,"d":"3,150"},{"v":37800,"d":"37,800"},null,525,{"v":5250,"d":"5,250"},{"$nulls":3},{"v":43575,"d":"43,575"}]
["AGENTE MUNICIPAL DE RANCHO NUEVO",null,null,113,11,1,{"v":5775,"d":"5,775"},{"v":69300,"d":"69,300"},null,{"v":962.5,"d":"963"},{"v":9625,"d":"9,625"},{"$nulls":3},{"v":79887.5,"d":"79,888"}]
["ENCARGADO DE ÁREAS VERDES",null,null,113,11,1,{"v":4200,"d":"4,200"},{"v":50400,"d":"50,400"},null,700,{"v":7000,"d":"7,000"},{"$nulls":3},{"v":58100,"d":"58,100"}]
["FONTANERO",null,null,113,11,1,{"v":4200,"d":"4,200"},{"v":50400,"d":"50,400"},null,700,{"v":7000,"d":"7,000"},{"$nulls":3},{"v":58100,"d":"58,100"}]
["ASEO PÚBLICO",null,null,113,11,1,{"v":5250,"d":"5,250"},{"v":63000,"d":"63,000"},null,875,{"v":8750,"d":"8,750"},{"$nulls":3},{"v":72625,"d":"72,625"}]
["SECRETARIA DE LA AGENCIA DE RANCHO NUEVO",null,null,113,11,1,{"v":6300,"d":"6,300"},{"v":75600,"d":"75,600"},null,{"v":1050,"d":"1,050"},{"v":10500,"d":"10,500"},{"$nulls":3},{"v":87150,"d":"87,150"}]
["INTENDENTE JARDÍN RANCHO NUEVO",null,null,113,11,1,{"v":2310,"d":"2,310"},{"v":27720,"d":"27,720"},null,385,{"v":3850,"d":"3,850"},{"$nulls":3},{"v":31955,"d":"31,955"}]
["ENCARGADO DE UNIDAD DEPORTIVA EN RANCHO NUEVO",null,null,113,11,1,{"v":2100,"d":"2,100"},{"v":25200,"d":"25,200"},null,350,{"v":3500,"d":"3,500"},{"$nulls":3},{"v":29050,"d":"29,050"}]
["REPRESENTANTE DEL SOYATAL",null,null,113,11,1,{"v":2100,"d":"2,100"},{"v":25200,"d":"25,200"},null,350,{"v":3500,"d":"3,500"},{"$nulls":3},{"v":29050,"d":"29,050"}]
["REPRESENTANTE DE LA MORA",null,null,113,11,1,{"v":2100,"d":"2,100"},{"v":25200,"d":"25,200"},null,350,{"v":3500,"d":"3,500"},{"$nulls":3},{"v":29050,"d":"29,050"}]
["REPRESENTANTE DE LA GUINARERA",null,null,113,11,1,{"v":2100,"d":"2,100"},{"v":25200,"d":"25,200"},null,350,{"v":3500,"d":"3,500"},{"$nulls":3},{"v":29050,"d":"29,050"}]
["REPRESENTANTE DE GALLARDO",null,null,113,11,1,{"v":2100,"d":"2,100"},{"v":25200,"d":"25,200"},null,350,{"v":3500,"d":"3,500"},{"$nulls":3},{"v":29050,"d":"29,050"}]
["ENCARGADO DE AREAS VERDES",null,null,113,11,1,{"v":8400,"d":"8,400"},{"v":100800,"d":"100,800"},null,{"v":1400,"d":"1,400"},{"v":14000,"d":"14,000"},{"$nulls":3},{"v":116200,"d":"116,200"}]
["ENCARGADO DE LA BODEGA",null,null,113,11,1,{"v":7350,"d":"7,350"},{"v":88200,"d":"88,200"},null,{"v":1225,"d":"1,225"},{"v":12250,"d":"12,250"},{"$nulls":3},{"v":101675,"d":"101,675"}]
["ENCARGADO CANCHA EMPASTADA",null,null,113,11,1,{"v":4200,"d":"4,200"},{"v":50400,"d":"50,400"},null,700,{"v":7000,"d":"7,000"},{"$nulls":3},{"v":58100,"d":"58,100"}]
["JEFE ADMINISTRADOR CEMENTERIO",null,null,113,11,1,{"v":5250,"d":"5,250"},{"v":63000,"d":"63,000"},null,875,{"v":8750,"d":"8,750"},{"$nulls":3},{"v":72625,"d":"72,625"}]
["DIRECTOR DE RASTRO MUNICIPAL ",null,null,113,11,1,{"v":10500,"d":"10,500"},{"v":126000,"d":"126,000"},null,{"v":1750,"d":"1,750"},{"v":17500,"d":"17,500"},{"$nulls":3},{"v":145250,"d":"145,250"}]
["ADMINISTRADOR DEL RASTRO MUNICIPAL",null,null,113,11,1,{"v":8400,"d":"8,400"},{"v":100800,"d":"100,800"},null,{"v":1400,"d":"1,400"},{"v":14000,"d":"14,000"},{"$nulls":3},{"v":116200,"d":"116,200"}]
["MATADOR DEL RASTRO MUNICIPAL",null,null,113,11,1,{"v":8400,"d":"8,400"},{"v":100800,"d":"100,800"},null,{"v":1400,"d":"1,400"},{"v":14000,"d":"14,000"},{"$nulls":3},{"v":116200,"d":"116,200"}]
["DIRECTOR DE COMUNICACIÓN SOCIAL",null,null,113,11,1,{"v":8400,"d":"8,400"},{"v":100800,"d":"100,800"},null,{"v":1400,"d":"1,400"},{"v":14000,"d":"14,000"},{"$nulls":3},{"v":116200,"d":"116,200"}]
["AUX. CHOFER CENTRO DE SALUD JILOTLAN",null,null,113,11,1,{"v":6300,"d":"6,300"},{"v":75600,"d":"75,600"},null,{"v":1050,"d":"1,050"},{"v":10500,"d":"10,500"},{"$nulls":3},{"v":87150,"d":"87,150"}]
["CHOFER CENTRO DE SALUD JILOTLAN",null,null,113,11,1,{"v":6300,"d":"6,300"},{"v":75600,"d":"75,600"},null,{"v":1050,"d":"1,050"},{"v":10500,"d":"10,500"},{"$nulls":3},{"v":87150,"d":"87,150"}]
["AUX.DE CHOFER DE AMBULANCIA",null,null,113,11,1,{"v":8925,"d":"8,925"},{"v":107100,"d":"107,100"},null,{"v":1487.5,"d":"1,488"},{"v":14875,"d":"14,875"},{"$nulls":3},{"v":123462.5,"d":"123,463"}]
["CHOFER AMBULANCIA",null,null,113,11,1,{"v":6825,"d":"6,825"},{"v":81900,"d":"81,900"},null,{"v":1137.5,"d":"1,138"},{"v":11375,"d":"11,375"},{"$nulls":3},{"v":94412.5,"d":"94,413"}]
["ENCARGADO DE PROTECCIÓN DE DATOS PERSONALES Y ARCHIVO GENERAL",null,null,113,11,1,{"v":6300,"d":"6,300"},{"v":75600,"d":"75,600"},null,{"v":1050,"d":"1,050"},{"v":10500,"d":"10,500"},{"$nulls":3},{"v":87150,"d":"87,150"}]
["DIRECTOR DE PLANEACIÓN Y PARTICIPACIÓN CIUDADANA",null,null,113,11,1,{"v":8400,"d":"8,400"},{"v":100800,"d":"100,800"},null,{"v":1400,"d":"1,400"},{"v":14000,"d":"14,000"},{"$nulls":3},{"v":116200,"d":"116,200"}]
["CHOFER DE PIPA ",null,null,113,11,1,{"v":6300,"d":"6,300"},{"v":75600,"d":"75,600"},null,{"v":1050,"d":"1,050"},{"v":10500,"d":"10,500"},{"$nulls":3},{"v":87150,"d":"87,150"}]
["RECOLECTOR",null,null,113,11,1,{"v":7350,"d":"7,350"},{"v":88200,"d":"88,200"},null,{"v":1225,"d":"1,225"},{"v":12250,"d":"12,250"},{"$nulls":3},{"v":101675,"d":"101,675"}]
["RECOLECTOR",null,null,113,11,1,{"v":7350,"d":"7,350"},{"v":88200,"d":"88,200"},null,{"v":1225,"d":"1,225"},{"v":12250,"d":"12,250"},{"$nulls":3},{"v":101675,"d":"101,675"}]
["RECOLECTOR",null,null,113,11,1,{"v":7350,"d":"7,350"},{"v":88200,"d":"88,200"},null,{"v":1225,"d":"1,225"},{"v":12250,"d":"12,250"},{"$nulls":3},{"v":101675,"d":"101,675"}]
["RECOLECTOR DE SAN FCO.",null,null,113,11,1,{"v":2211.3,"d":"2,211"},{"v":26535.600000000002,"d":"26,536"},null,{"v":368.55000000000007,"d":"369"},{"v":3685.5000000000005,"d":"3,686"},{"$nulls":3},{"v":30589.65,"d":"30,590"}]
["ASEO UNIDAD DEPORTIVA FUT-RAP",null,null,113,11,1,{"v":2625,"d":"2,625"},{"v":31500,"d":"31,500"},null,{"v":437.5,"d":"438"},{"v":4375,"d":"4,375"},{"$nulls":3},{"v":36312.5,"d":"36,313"}]
["ASEO UNIDAD DEPORTIVA ",null,null,113,11,1,{"v":2625,"d":"2,625"},{"v":31500,"d":"31,500"},null,{"v":437.5,"d":"438"},{"v":4375,"d":"4,375"},{"$nulls":3},{"v":36312.5,"d":"36,313"}]
["ASEO PARQUECITO",null,null,113,11,1,{"v":2625,"d":"2,625"},{"v":31500,"d":"31,500"},null,{"v":437.5,"d":"438"},{"v":4375,"d":"4,375"},{"$nulls":3},{"v":36312.5,"d":"36,313"}]
["ASEO CANCHA LAS LOMAS ALTAS",null,null,113,11,1,{"v":1575,"d":"1,575"},{"v":18900,"d":"18,900"},null,{"v":262.5,"d":"263"},{"v":2625,"d":"2,625"},{"$nulls":3},{"v":21787.5,"d":"21,788"}]
["ASEO DE CALLE SALIDA TEPALCATEPEC",null,null,113,11,1,{"v":2100,"d":"2,100"},{"v":25200,"d":"25,200"},null,350,{"v":3500,"d":"3,500"},{"$nulls":3},{"v":29050,"d":"29,050"}]
["ASEO CANCHA ORILLA",null,null,113,11,1,{"v":1575,"d":"1,575"},{"v":18900,"d":"18,900"},null,{"v":262.5,"d":"263"},{"v":2625,"d":"2,625"},{"$nulls":3},{"v":21787.5,"d":"21,788"}]
["BARRENDERA ASEO PÚBLICO",null,null,113,11,1,{"v":2314.2000000000003,"d":"2,314"},{"v":27770.4,"d":"27,770"},null,{"v":385.7000000000001,"d":"386"},{"v":3857.000000000001,"d":"3,857"},{"$nulls":3},{"v":32013.100000000002,"d":"32,013"}]
["ASEO JARDÍN",null,null,113,11,1,{"v":1575,"d":"1,575"},{"v":18900,"d":"18,900"},null,{"v":262.5,"d":"263"},{"v":2625,"d":"2,625"},{"$nulls":3},{"v":21787.5,"d":"21,788"}]
["ASEO JARDÍN",null,null,113,11,1,{"v":1890,"d":"1,890"},{"v":22680,"d":"22,680"},null,315,{"v":3150,"d":"3,150"},{"$nulls":3},{"v":26145,"d":"26,145"}]
["BARRENDERA ASEO PÚBLICO",null,null,113,11,1,{"v":2100,"d":"2,100"},{"v":25200,"d":"25,200"},null,350,{"v":3500,"d":"3,500"},{"$nulls":3},{"v":29050,"d":"29,050"}]
["ASEO PÚBLICO",null,null,113,11,1,{"v":1890,"d":"1,890"},{"v":22680,"d":"22,680"},null,315,{"v":3150,"d":"3,150"},{"$nulls":3},{"v":26145,"d":"26,145"}]
["DIRECTORA DE TURISMO",null,null,113,11,1,{"v":5250,"d":"5,250"},{"v":63000,"d":"63,000"},null,875,{"v":8750,"d":"8,750"},{"$nulls":3},{"v":72625,"d":"72,625"}]
["ASEO PÚBLICO",null,null,113,11,1,{"v":1575,"d":"1,575"},{"v":18900,"d":"18,900"},null,{"v":262.5,"d":"263"},{"v":2625,"d":"2,625"},{"$nulls":3},{"v":21787.5,"d":"21,788"}]
["DIRECTOR DE DEPTO. AGROPECUARIO Y ECOLOGÍA",null,null,113,11,1,{"v":11550,"d":"11,550"},{"v":138600,"d":"138,600"},null,{"v":1925,"d":"1,925"},{"v":19250,"d":"19,250"},{"$nulls":3},{"v":159775,"d":"159,775"}]
["SECRETARIA DE AGROPECUARIO",null,null,113,11,1,{"v":5250,"d":"5,250"},{"v":63000,"d":"63,000"},null,875,{"v":8750,"d":"8,750"},{"$nulls":3},{"v":72625,"d":"72,625"}]
["AUXILIAR DE DEPTO. AGROPECUARIO",null,null,113,11,1,{"v":5250,"d":"5,250"},{"v":63000,"d":"63,000"},null,875,{"v":8750,"d":"8,750"},{"$nulls":3},{"v":72625,"d":"72,625"}]
["AUXILIAR DE DIR. DE DEPORTES",null,null,113,11,1,{"v":8400,"d":"8,400"},{"v":100800,"d":"100,800"},null,{"v":1400,"d":"1,400"},{"v":14000,"d":"14,000"},{"$nulls":3},{"v":116200,"d":"116,200"}]
["JEFE DE RECLUTAMIENTO",null,null,113,11,1,{"v":10500,"d":"10,500"},{"v":126000,"d":"126,000"},null,{"v":1750,"d":"1,750"},{"v":17500,"d":"17,500"},{"$nulls":3},{"v":145250,"d":"145,250"}]
["OFICIAL MAYOR",null,null,113,11,1,{"v":13650,"d":"13,650"},{"v":163800,"d":"163,800"},null,{"v":2275,"d":"2,275"},{"v":22750,"d":"22,750"},{"$nulls":3},{"v":188825,"d":"188,825"}]
["ENC. DE MAQUINARIA PESADA",null,null,113,11,1,{"v":11550,"d":"11,550"},{"v":138600,"d":"138,600"},null,{"v":1925,"d":"1,925"},{"v":19250,"d":"19,250"},{"$nulls":3},{"v":159775,"d":"159,775"}]
[" DIRECTOR DE SERVICIOS PUBLICOS MUNICIPALES",null,null,113,11,1,{"v":11550,"d":"11,550"},{"v":138600,"d":"138,600"},null,{"v":1925,"d":"1,925"},{"v":19250,"d":"19,250"},{"$nulls":3},{"v":159775,"d":"159,775"}]
["OFICIAL DE SERVICIOS PÚBLICOS MUNICIPALES",null,null,113,11,1,{"v":5250,"d":"5,250"},{"v":63000,"d":"63,000"},null,875,{"v":8750,"d":"8,750"},{"$nulls":3},{"v":72625,"d":"72,625"}]
["OFICIAL DE SERVICIOS PÚBLICOS MUNICIPALES",null,null,113,11,1,{"v":5250,"d":"5,250"},{"v":63000,"d":"63,000"},null,875,{"v":8750,"d":"8,750"},{"$nulls":3},{"v":72625,"d":"72,625"}]
["ASEO EN LA CANCHA DE HUICHITILA",null,null,113,11,1,{"v":2100.0000000000005,"d":"2,100"},{"v":25200.000000000007,"d":"25,200"},null,{"v":350.0000000000001,"d":"350"},{"v":3500.000000000001,"d":"3,500"},{"$nulls":3},{"v":29050.000000000007,"d":"29,050"}]
["ENC. BAÑOS PÚBLICOS CABECERA",null,null,113,11,1,{"v":1575.0000000000002,"d":"1,575"},{"v":18900.000000000004,"d":"18,900"},null,{"v":262.50000000000006,"d":"263"},{"v":2625.0000000000005,"d":"2,625"},{"$nulls":3},{"v":21787.500000000004,"d":"21,788"}]
["ASEO EN CALLE PASANDO PUENTE HIDALGO",null,null,113,11,1,{"v":1575.0000000000002,"d":"1,575"},{"$f":"IF(E132=\"\",\"SE REQUIERE ASIGNAR LA FUENTE DE FINANCIAMIENTO\",IF(F132=\"\",\"ES NECESARIO ESTABLECER EL NÚMERO DE PLAZAS\",IF(G132=\"\",\"SE NECESITA ESTABLECER UN MONTO MENSUAL\",F132*G132*12)))","v":{"v":18900.000000000004,"d":"18,900"}},null,{"v":262.50000000000006,"d":"263"},{"v":2625.0000000000005,"d":"2,625"},{"$nulls":3},{"$f":"SUM(H132:N132)","v":{"v":21787.500000000004,"d":"21,788"}}]
["CONTRALORA MUNICIPAL",null,null,113,11,1,{"v":12600,"d":"12,600"},{"v":151200,"d":"151,200"},null,{"v":2100,"d":"2,100"},{"v":21000,"d":"21,000"},{"$nulls":3},{"v":174300,"d":"174,300"}]
["SECRETARIA DE CONTRALORÍA MUNICIPAL",null,null,113,11,1,{"v":6300,"d":"6,300"},{"v":75600,"d":"75,600"},null,{"v":1050,"d":"1,050"},{"v":10500,"d":"10,500"},{"$nulls":3},{"v":87150,"d":"87,150"}]
["ENCARGADO DEL PARQUE VEHICULAR",null,null,113,11,1,{"v":11550,"d":"11,550"},{"v":138600,"d":"138,600"},null,{"v":1925,"d":"1,925"},{"v":19250,"d":"19,250"},{"$nulls":3},{"v":159775,"d":"159,775"}]
["AUXILIAR DE PROTECCIÓN CIVIL",null,null,113,11,1,{"v":5250,"d":"5,250"},{"v":63000,"d":"63,000"},null,875,{"v":8750,"d":"8,750"},{"$nulls":3},{"v":72625,"d":"72,625"}]
["AUXILIAR DEL PARQUE VEHICULAR",null,null,113,11,1,{"v":5250,"d":"5,250"},{"v":63000,"d":"63,000"},null,875,{"v":8750,"d":"8,750"},{"$nulls":3},{"v":72625,"d":"72,625"}]
["CHOFER 1  DEL AYUNTAMIENTO",null,null,113,11,1,{"v":11550,"d":"11,550"},{"v":138600,"d":"138,600"},null,{"v":1925,"d":"1,925"},{"v":19250,"d":"19,250"},{"$nulls":3},{"v":159775,"d":"159,775"}]
["CHOFER 2 DEL AYUNTAMIENTO",null,null,113,11,1,{"v":10500,"d":"10,500"},{"v":126000,"d":"126,000"},null,{"v":1750,"d":"1,750"},{"v":17500,"d":"17,500"},{"$nulls":3},{"v":145250,"d":"145,250"}]
["CHOFER 3 DEL AYUNTAMIENTO",null,null,113,11,1,{"v":8400,"d":"8,400"},{"v":100800,"d":"100,800"},null,{"v":1400,"d":"1,400"},{"v":14000,"d":"14,000"},{"$nulls":3},{"v":116200,"d":"116,200"}]
["INTENDENTE MUNICIPAL CALLES",null,null,113,11,1,{"v":3150,"d":"3,150"},{"v":37800,"d":"37,800"},null,525,{"v":5250,"d":"5,250"},{"$nulls":3},{"v":43575,"d":"43,575"}]
["SECRETARIA DE TRANSPARENCIA",null,null,113,11,1,{"v":5250,"d":"5,250"},{"v":63000,"d":"63,000"},null,875,{"v":8750,"d":"8,750"},{"$nulls":3},{"v":72625,"d":"72,625"}]
["ENC. DE AGENDA DESDE LO LOCAL",null,null,113,11,1,{"v":5250,"d":"5,250"},{"v":63000,"d":"63,000"},null,875,{"v":8750,"d":"8,750"},{"$nulls":3},{"v":72625,"d":"72,625"}]
["SECRETARIA DE SECRETARIO GENERAL",null,null,113,11,1,{"v":5250,"d":"5,250"},{"v":63000,"d":"63,000"},null,875,{"v":8750,"d":"8,750"},{"$nulls":3},{"v":72625,"d":"72,625"}]
["OFICIAL DE SERVICIOS PÚBLICOS",null,null,113,11,1,{"v":6300,"d":"6,300"},{"v":75600,"d":"75,600"},null,{"v":1050,"d":"1,050"},{"v":10500,"d":"10,500"},{"$nulls":3},{"v":87150,"d":"87,150"}]
["OFICIAL DE SERVICIOS PÚBLICOS",null,null,113,11,1,{"v":5250,"d":"5,250"},{"v":63000,"d":"63,000"},null,875,{"v":8750,"d":"8,750"},{"$nulls":3},{"v":72625,"d":"72,625"}]
["CHOFER DE ESTUDIANTES",null,null,113,11,1,{"v":7350,"d":"7,350"},{"v":88200,"d":"88,200"},null,{"v":1225,"d":"1,225"},{"v":12250,"d":"12,250"},{"$nulls":3},{"v":101675,"d":"101,675"}]
["ASEO DE LA OFICINA DEL DEPTO DE EDUCACIÓN",null,null,113,11,1,{"v":1365,"d":"1,365"},{"v":16380,"d":"16,380"},null,{"v":227.5,"d":"228"},{"v":2275,"d":"2,275"},{"$nulls":3},{"v":18882.5,"d":"18,883"}]
["ASEO SALÓN DE USOS MÚLTIPLES CABECERA",null,null,113,11,1,{"v":3150,"d":"3,150"},{"v":37800,"d":"37,800"},null,525,{"v":5250,"d":"5,250"},{"$nulls":3},{"v":43575,"d":"43,575"}]
["AUXILIAR DE SERVICIOS PÚBLICOS",null,null,113,11,1,{"v":5250,"d":"5,250"},{"v":63000,"d":"63,000"},null,875,{"v":8750,"d":"8,750"},{"$nulls":3},{"v":72625,"d":"72,625"}]
["ENCARGADA DE ASEO PÚBLICO",null,null,113,11,1,{"v":1365,"d":"1,365"},{"v":16380,"d":"16,380"},null,{"v":227.5,"d":"228"},{"v":2275,"d":"2,275"},{"$nulls":3},{"v":18882.5,"d":"18,883"}]
["ASEO DE BAÑOS EN SALÓN USOS MÚLTIPLES",null,null,113,11,1,{"v":1365,"d":"1,365"},{"v":16380,"d":"16,380"},null,{"v":227.5,"d":"228"},{"v":2275,"d":"2,275"},{"$nulls":3},{"v":18882.5,"d":"18,883"}]
["SECRETARIA DE EDUCACIÓN",null,null,113,11,1,{"v":6300,"d":"6,300"},{"v":75600,"d":"75,600"},null,{"v":1050,"d":"1,050"},{"v":10500,"d":"10,500"},{"$nulls":3},{"v":87150,"d":"87,150"}]
["DIRECTOR DE CULTURA",null,null,113,11,1,{"v":10500,"d":"10,500"},{"v":126000,"d":"126,000"},null,{"v":1750,"d":"1,750"},{"v":17500,"d":"17,500"},{"$nulls":3},{"v":145250,"d":"145,250"}]
["TRABAJADOR SOCIAL",null,null,113,11,1,{"v":10500,"d":"10,500"},{"v":126000,"d":"126,000"},null,{"v":1750,"d":"1,750"},{"v":17500,"d":"17,500"},{"$nulls":3},{"v":145250,"d":"145,250"}]
["DIRECTOR DE ALUMBRADO PUBLICO ",null,null,113,11,1,{"v":11550,"d":"11,550"},{"v":138600,"d":"138,600"},null,{"v":1925,"d":"1,925"},{"v":19250,"d":"19,250"},{"$nulls":3},{"v":159775,"d":"159,775"}]
["SECRETARIA PARTICULAR DE PRESIDENTE",null,null,113,11,1,{"v":7350,"d":"7,350"},{"v":88200,"d":"88,200"},null,{"v":1225,"d":"1,225"},{"v":12250,"d":"12,250"},{"$nulls":3},{"v":101675,"d":"101,675"}]
["AUXILIAR DE PROTECIÓN CIVIL",null,null,113,11,1,{"v":7350,"d":"7,350"},{"v":88200,"d":"88,200"},null,{"v":1225,"d":"1,225"},{"v":12250,"d":"12,250"},{"$nulls":3},{"v":101675,"d":"101,675"}]
["ASESOR MUNICIPAL",null,null,113,11,1,{"v":15750,"d":"15,750"},{"v":189000,"d":"189,000"},null,{"v":2625,"d":"2,625"},{"v":26250,"d":"26,250"},{"$nulls":3},{"v":217875,"d":"217,875"}]
["ASESOR JURÍDICO",null,null,113,11,1,{"v":15750,"d":"15,750"},{"v":189000,"d":"189,000"},null,{"v":2625,"d":"2,625"},{"v":26250,"d":"26,250"},{"$nulls":3},{"v":217875,"d":"217,875"}]
["DIRECTOR DE ECOLOGIA",null,null,113,11,1,{"v":15750,"d":"15,750"},{"v":189000,"d":"189,000"},null,{"v":2625,"d":"2,625"},{"v":25250,"d":"25,250"},{"$nulls":3},{"v":216875,"d":"216,875"}]
[{"$nulls":3},113,{"$nulls":3},"SE REQUIERE ASIGNAR LA FUENTE DE FINANCIAMIENTO",{"$nulls":6},0]
[{"$nulls":3},113,{"$nulls":3},"SE REQUIERE ASIGNAR LA FUENTE DE FINANCIAMIENTO",{"$nulls":6},0]
[{"$nulls":3},113,{"$nulls":3},"SE REQUIERE ASIGNAR LA FUENTE DE FINANCIAMIENTO",{"$nulls":6},0]
[{"$nulls":3},113,{"$nulls":3},"SE REQUIERE ASIGNAR LA FUENTE DE FINANCIAMIENTO",{"$nulls":6},0]
[{"$nulls":3},113,{"$nulls":3},"SE REQUIERE ASIGNAR LA FUENTE DE FINANCIAMIENTO",{"$nulls":6},0]
[{"$nulls":3},113,{"$nulls":3},"SE REQUIERE ASIGNAR LA FUENTE DE FINANCIAMIENTO",{"$nulls":6},0]
[{"$nulls":3},113,{"$nulls":3},"SE REQUIERE ASIGNAR LA FUENTE DE FINANCIAMIENTO",{"$nulls":6},0]
[{"$nulls":3},113,{"$nulls":3},"SE REQUIERE ASIGNAR LA FUENTE DE FINANCIAMIENTO",{"$nulls":6},0]
[{"$nulls":3},113,{"$nulls":3},"SE REQUIERE ASIGNAR LA FUENTE DE FINANCIAMIENTO",{"$nulls":6},0]
[{"$nulls":3},113,{"$nulls":3},"SE REQUIERE ASIGNAR LA FUENTE DE FINANCIAMIENTO",{"$nulls":6},0]
[{"$nulls":3},113,{"$nulls":3},"SE REQUIERE ASIGNAR LA FUENTE DE FINANCIAMIENTO",{"$nulls":6},0]
[{"$nulls":3},113,{"$nulls":3},"SE REQUIERE ASIGNAR LA FUENTE DE FINANCIAMIENTO",{"$nulls":6},0]
[{"$nulls":3},113,{"$nulls":3},"SE REQUIERE ASIGNAR LA FUENTE DE FINANCIAMIENTO",{"$nulls":6},0]
[{"$nulls":3},113,{"$nulls":3},"SE REQUIERE ASIGNAR LA FUENTE DE FINANCIAMIENTO",{"$nulls":6},0]
[{"$nulls":3},113,{"$nulls":3},"SE REQUIERE ASIGNAR LA FUENTE DE FINANCIAMIENTO",{"$nulls":6},0]
[{"$nulls":3},113,{"$nulls":3},"SE REQUIERE ASIGNAR LA FUENTE DE FINANCIAMIENTO",{"$nulls":6},0]
[{"$nulls":3},113,{"$nulls":3},"SE REQUIERE ASIGNAR LA FUENTE DE FINANCIAMIENTO",{"$nulls":6},0]
[{"$nulls":3},113,{"$nulls":3},"SE REQUIERE ASIGNAR LA FUENTE DE FINANCIAMIENTO",{"$nulls":6},0]
[{"$nulls":3},113,{"$nulls":3},"SE REQUIERE ASIGNAR LA FUENTE DE FINANCIAMIENTO",{"$nulls":6},0]
[{"$nulls":3},113,{"$nulls":3},"SE REQUIERE ASIGNAR LA FUENTE DE FINANCIAMIENTO",{"$nulls":6},0]
[{"$nulls":3},113,{"$nulls":3},"SE REQUIERE ASIGNAR LA FUENTE DE FINANCIAMIENTO",{"$nulls":6},0]
[{"$nulls":3},113,{"$nulls":3},"SE REQUIERE ASIGNAR LA FUENTE DE FINANCIAMIENTO",{"$nulls":6},0]
[{"$nulls":3},113,{"$nulls":3},"SE REQUIERE ASIGNAR LA FUENTE DE FINANCIAMIENTO",{"$nulls":6},0]
[{"$nulls":3},113,{"$nulls":3},"SE REQUIERE ASIGNAR LA FUENTE DE FINANCIAMIENTO",{"$nulls":6},0]
[{"$nulls":3},113,{"$nulls":3},"SE REQUIERE ASIGNAR LA FUENTE DE FINANCIAMIENTO",{"$nulls":6},0]
[{"$nulls":3},113,{"$nulls":3},"SE REQUIERE ASIGNAR LA FUENTE DE FINANCIAMIENTO",{"$nulls":6},0]
[{"$nulls":3},113,{"$nulls":3},"SE REQUIERE ASIGNAR LA FUENTE DE FINANCIAMIENTO",{"$nulls":6},0]
[{"$nulls":3},113,{"$nulls":3},"SE REQUIERE ASIGNAR LA FUENTE DE FINANCIAMIENTO",{"$nulls":6},0]
[{"$nulls":3},113,{"$nulls":3},"SE REQUIERE ASIGNAR LA FUENTE DE FINANCIAMIENTO",{"$nulls":6},0]
[{"$nulls":3},113,{"$nulls":3},"SE REQUIERE ASIGNAR LA FUENTE DE FINANCIAMIENTO",{"$nulls":6},0]
[{"$nulls":3},113,{"$nulls":3},"SE REQUIERE ASIGNAR LA FUENTE DE FINANCIAMIENTO",{"$nulls":6},0]
[{"$nulls":3},113,{"$nulls":3},"SE REQUIERE ASIGNAR LA FUENTE DE FINANCIAMIENTO",{"$nulls":6},0]
[{"$nulls":3},113,{"$nulls":3},"SE REQUIERE ASIGNAR LA FUENTE DE FINANCIAMIENTO",{"$nulls":6},0]
[{"$nulls":3},113,{"$nulls":3},"SE REQUIERE ASIGNAR LA FUENTE DE FINANCIAMIENTO",{"$nulls":6},0]
[{"$nulls":3},113,{"$nulls":3},{"$f":"IF(E196=\"\",\"SE REQUIERE ASIGNAR LA FUENTE DE FINANCIAMIENTO\",IF(F196=\"\",\"ES NECESARIO ESTABLECER EL NÚMERO DE PLAZAS\",IF(G196=\"\",\"SE NECESITA ESTABLECER UN MONTO MENSUAL\",F196*G196*12)))","v":"SE REQUIERE ASIGNAR LA FUENTE DE FINANCIAMIENTO"},{"$nulls":6},{"$f":"SUM(H196:N196)","v":0}]
[{"$nulls":3},113,{"$nulls":3},"SE REQUIERE ASIGNAR LA FUENTE DE FINANCIAMIENTO",{"$nulls":6},0]
[{"$nulls":3},113,{"$nulls":3},"SE REQUIERE ASIGNAR LA FUENTE DE FINANCIAMIENTO",{"$nulls":6},0]
[{"$nulls":3},113,{"$nulls":3},"SE REQUIERE ASIGNAR LA FUENTE DE FINANCIAMIENTO",{"$nulls":6},0]
[{"$nulls":3},113,{"$nulls":3},"SE REQUIERE ASIGNAR LA FUENTE DE FINANCIAMIENTO",{"$nulls":6},0]
[{"$nulls":3},113,{"$nulls":3},"SE REQUIERE ASIGNAR LA FUENTE DE FINANCIAMIENTO",{"$nulls":6},0]
[{"$nulls":3},113,{"$nulls":3},"SE REQUIERE ASIGNAR LA FUENTE DE FINANCIAMIENTO",{"$nulls":6},0]
[{"$nulls":3},113,{"$nulls":3},"SE REQUIERE ASIGNAR LA FUENTE DE FINANCIAMIENTO",{"$nulls":6},0]
[{"$nulls":3},113,{"$nulls":3},"SE REQUIERE ASIGNAR LA FUENTE DE FINANCIAMIENTO",{"$nulls":6},0]
[{"$nulls":3},113,{"$nulls":3},"SE REQUIERE ASIGNAR LA FUENTE DE FINANCIAMIENTO",{"$nulls":6},0]
[{"$nulls":3},113,{"$nulls":3},"SE REQUIERE ASIGNAR LA FUENTE DE FINANCIAMIENTO",{"$nulls":6},0]
[{"$nulls":3},113,{"$nulls":3},"SE REQUIERE ASIGNAR LA FUENTE DE FINANCIAMIENTO",{"$nulls":6},0]
[{"$nulls":3},113,{"$nulls":3},"SE REQUIERE ASIGNAR LA FUENTE DE FINANCIAMIENTO",{"$nulls":6},0]
[{"$nulls":3},113,{"$nulls":3},"SE REQUIERE ASIGNAR LA FUENTE DE FINANCIAMIENTO",{"$nulls":6},0]
[{"$nulls":3},113,{"$nulls":3},"SE REQUIERE ASIGNAR LA FUENTE DE FINANCIAMIENTO",{"$nulls":6},0]
[{"$nulls":3},113,{"$nulls":3},"SE REQUIERE ASIGNAR LA FUENTE DE FINANCIAMIENTO",{"$nulls":6},0]
[{"$nulls":3},113,{"$nulls":3},"SE REQUIERE ASIGNAR LA FUENTE DE FINANCIAMIENTO",{"$nulls":6},0]
[{"$nulls":3},113,{"$nulls":3},"SE REQUIERE ASIGNAR LA FUENTE DE FINANCIAMIENTO",{"$nulls":6},0]
[{"$nulls":3},113,{"$nulls":3},"SE REQUIERE ASIGNAR LA FUENTE DE FINANCIAMIENTO",{"$nulls":6},0]
[{"$nulls":3},113,{"$nulls":3},"SE REQUIERE ASIGNAR LA FUENTE DE FINANCIAMIENTO",{"$nulls":6},0]
[{"$nulls":3},113,{"$nulls":3},"SE REQUIERE ASIGNAR LA FUENTE DE FINANCIAMIENTO",{"$nulls":6},0]
[{"$nulls":3},113,{"$nulls":3},"SE REQUIERE ASIGNAR LA FUENTE DE FINANCIAMIENTO",{"$nulls":6},0]
[{"$nulls":3},113,{"$nulls":3},"SE REQUIERE ASIGNAR LA FUENTE DE FINANCIAMIENTO",{"$nulls":6},0]
[{"$nulls":3},113,{"$nulls":3},"SE REQUIERE ASIGNAR LA FUENTE DE FINANCIAMIENTO",{"$nulls":6},0]
[{"$nulls":3},113,{"$nulls":3},"SE REQUIERE ASIGNAR LA FUENTE DE FINANCIAMIENTO",{"$nulls":6},0]
[{"$nulls":3},113,{"$nulls":3},"SE REQUIERE ASIGNAR LA FUENTE DE FINANCIAMIENTO",{"$nulls":6},0]
[{"$nulls":3},113,{"$nulls":3},"SE REQUIERE ASIGNAR LA FUENTE DE FINANCIAMIENTO",{"$nulls":6},0]
[{"$nulls":3},113,{"$nulls":3},"SE REQUIERE ASIGNAR LA FUENTE DE FINANCIAMIENTO",{"$nulls":6},0]
[{"$nulls":3},113,{"$nulls":3},"SE REQUIERE ASIGNAR LA FUENTE DE FINANCIAMIENTO",{"$nulls":6},0]
[{"$nulls":3},113,{"$nulls":3},"SE REQUIERE ASIGNAR LA FUENTE DE FINANCIAMIENTO",{"$nulls":6},0]
[{"$nulls":3},113,{"$nulls":3},"SE REQUIERE ASIGNAR LA FUENTE DE FINANCIAMIENTO",{"$nulls":6},0]
[{"$nulls":3},113,{"$nulls":3},"SE REQUIERE ASIGNAR LA FUENTE DE FINANCIAMIENTO",{"$nulls":6},0]
[{"$nulls":3},113,{"$nulls":3},"SE REQUIERE ASIGNAR LA FUENTE DE FINANCIAMIENTO",{"$nulls":6},0]
[{"$nulls":3},113,{"$nulls":3},"SE REQUIERE ASIGNAR LA FUENTE DE FINANCIAMIENTO",{"$nulls":6},0]
[{"$nulls":3},113,{"$nulls":3},"SE REQUIERE ASIGNAR LA FUENTE DE FINANCIAMIENTO",{"$nulls":6},0]
[{"$nulls":3},113,{"$nulls":3},"SE REQUIERE ASIGNAR LA FUENTE DE FINANCIAMIENTO",{"$nulls":6},0]
[{"$nulls":3},113,{"$nulls":3},"SE REQUIERE ASIGNAR LA FUENTE DE FINANCIAMIENTO",{"$nulls":6},0]
[{"$nulls":3},113,{"$nulls":3},"SE REQUIERE ASIGNAR LA FUENTE DE FINANCIAMIENTO",{"$nulls":6},0]
[{"$nulls":3},113,{"$nulls":3},"SE REQUIERE ASIGNAR LA FUENTE DE FINANCIAMIENTO",{"$nulls":6},0]
[{"$nulls":3},113,{"$nulls":3},"SE REQUIERE ASIGNAR LA FUENTE DE FINANCIAMIENTO",{"$nulls":6},0]
[{"$nulls":3},113,{"$nulls":3},"SE REQUIERE ASIGNAR LA FUENTE DE FINANCIAMIENTO",{"$nulls":6},0]
[{"$nulls":3},113,{"$nulls":3},"SE REQUIERE ASIGNAR LA FUENTE DE FINANCIAMIENTO",{"$nulls":6},0]
[{"$nulls":3},113,{"$nulls":3},"SE REQUIERE ASIGNAR LA FUENTE DE FINANCIAMIENTO",{"$nulls":6},0]
[{"$nulls":3},113,{"$nulls":3},"SE REQUIERE ASIGNAR LA FUENTE DE FINANCIAMIENTO",{"$nulls":6},0]
[{"$nulls":3},113,{"$nulls":3},"SE REQUIERE ASIGNAR LA FUENTE DE FINANCIAMIENTO",{"$nulls":6},0]
[{"$nulls":3},113,{"$nulls":3},"SE REQUIERE ASIGNAR LA FUENTE DE FINANCIAMIENTO",{"$nulls":6},0]
[{"$nulls":3},113,{"$nulls":3},"SE REQUIERE ASIGNAR LA FUENTE DE FINANCIAMIENTO",{"$nulls":6},0]
[{"$nulls":3},113,{"$nulls":3},"SE REQUIERE ASIGNAR LA FUENTE DE FINANCIAMIENTO",{"$nulls":6},0]
[{"$nulls":3},113,{"$nulls":3},"SE REQUIERE ASIGNAR LA FUENTE DE FINANCIAMIENTO",{"$nulls":6},0]
[{"$nulls":3},113,{"$nulls":3},"SE REQUIERE ASIGNAR LA FUENTE DE FINANCIAMIENTO",{"$nulls":6},0]
[{"$nulls":3},113,{"$nulls":3},"SE REQUIERE ASIGNAR LA FUENTE DE FINANCIAMIENTO",{"$nulls":6},0]
[{"$nulls":3},113,{"$nulls":3},"SE REQUIERE ASIGNAR LA FUENTE DE FINANCIAMIENTO",{"$nulls":6},0]
[{"$nulls":3},113,{"$nulls":3},"SE REQUIERE ASIGNAR LA FUENTE DE FINANCIAMIENTO",{"$nulls":6},0]
[{"$nulls":3},113,{"$nulls":3},"SE REQUIERE ASIGNAR LA FUENTE DE FINANCIAMIENTO",{"$nulls":6},0]
[{"$nulls":3},113,{"$nulls":3},"SE REQUIERE ASIGNAR LA FUENTE DE FINANCIAMIENTO",{"$nulls":6},0]
[{"$nulls":3},113,{"$nulls":3},"SE REQUIERE ASIGNAR LA FUENTE DE FINANCIAMIENTO",{"$nulls":6},0]
[{"$nulls":3},113,{"$nulls":3},"SE REQUIERE ASIGNAR LA FUENTE DE FINANCIAMIENTO",{"$nulls":6},0]
[{"$nulls":3},113,{"$nulls":3},"SE REQUIERE ASIGNAR LA FUENTE DE FINANCIAMIENTO",{"$nulls":6},0]
[{"$nulls":3},113,{"$nulls":3},"SE REQUIERE ASIGNAR LA FUENTE DE FINANCIAMIENTO",{"$nulls":6},0]
[{"$nulls":3},113,{"$nulls":3},"SE REQUIERE ASIGNAR LA FUENTE DE FINANCIAMIENTO",{"$nulls":6},0]
[{"$nulls":3},113,{"$nulls":3},"SE REQUIERE ASIGNAR LA FUENTE DE FINANCIAMIENTO",{"$nulls":6},0]
[{"$nulls":3},113,{"$nulls":3},"SE REQUIERE ASIGNAR LA FUENTE DE FINANCIAMIENTO",{"$nulls":6},0]
[{"$nulls":3},113,{"$nulls":3},"SE REQUIERE ASIGNAR LA FUENTE DE FINANCIAMIENTO",{"$nulls":6},0]
[{"$nulls":3},113,{"$nulls":3},"SE REQUIERE ASIGNAR LA FUENTE DE FINANCIAMIENTO",{"$nulls":6},0]
[{"$nulls":3},113,{"$nulls":3},{"$f":"IF(E260=\"\",\"SE REQUIERE ASIGNAR LA FUENTE DE FINANCIAMIENTO\",IF(F260=\"\",\"ES NECESARIO ESTABLECER EL NÚMERO DE PLAZAS\",IF(G260=\"\",\"SE NECESITA ESTABLECER UN MONTO MENSUAL\",F260*G260*12)))","v":"SE REQUIERE ASIGNAR LA FUENTE DE FINANCIAMIENTO"},{"$nulls":6},{"$f":"SUM(H260:N260)","v":0}]
[{"$nulls":3},113,{"$nulls":3},"SE REQUIERE ASIGNAR LA FUENTE DE FINANCIAMIENTO",{"$nulls":6},0]
[{"$nulls":3},113,{"$nulls":3},"SE REQUIERE ASIGNAR LA FUENTE DE FINANCIAMIENTO",{"$nulls":6},0]
[{"$nulls":3},113,{"$nulls":3},"SE REQUIERE ASIGNAR LA FUENTE DE FINANCIAMIENTO",{"$nulls":6},0]
[{"$nulls":3},113,{"$nulls":3},"SE REQUIERE ASIGNAR LA FUENTE DE FINANCIAMIENTO",{"$nulls":6},0]
[{"$nulls":3},113,{"$nulls":3},"SE REQUIERE ASIGNAR LA FUENTE DE FINANCIAMIENTO",{"$nulls":6},0]
[{"$nulls":3},113,{"$nulls":3},"SE REQUIERE ASIGNAR LA FUENTE DE FINANCIAMIENTO",{"$nulls":6},0]
[{"$nulls":3},113,{"$nulls":3},"SE REQUIERE ASIGNAR LA FUENTE DE FINANCIAMIENTO",{"$nulls":6},0]
[{"$nulls":3},113,{"$nulls":3},"SE REQUIERE ASIGNAR LA FUENTE DE FINANCIAMIENTO",{"$nulls":6},0]
[{"$nulls":3},113,{"$nulls":3},"SE REQUIERE ASIGNAR LA FUENTE DE FINANCIAMIENTO",{"$nulls":6},0]
[{"$nulls":3},113,{"$nulls":3},"SE REQUIERE ASIGNAR LA FUENTE DE FINANCIAMIENTO",{"$nulls":6},0]
[{"$nulls":3},113,{"$nulls":3},"SE REQUIERE ASIGNAR LA FUENTE DE FINANCIAMIENTO",{"$nulls":6},0]
[{"$nulls":3},113,{"$nulls":3},"SE REQUIERE ASIGNAR LA FUENTE DE FINANCIAMIENTO",{"$nulls":6},0]
[{"$nulls":3},113,{"$nulls":3},"SE REQUIERE ASIGNAR LA FUENTE DE FINANCIAMIENTO",{"$nulls":6},0]
[{"$nulls":3},113,{"$nulls":3},"SE REQUIERE ASIGNAR LA FUENTE DE FINANCIAMIENTO",{"$nulls":6},0]
[{"$nulls":3},113,{"$nulls":3},"SE REQUIERE ASIGNAR LA FUENTE DE FINANCIAMIENTO",{"$nulls":6},0]
[{"$nulls":3},113,{"$nulls":3},"SE REQUIERE ASIGNAR LA FUENTE DE FINANCIAMIENTO",{"$nulls":6},0]
[{"$nulls":3},113,{"$nulls":3},"SE REQUIERE ASIGNAR LA FUENTE DE FINANCIAMIENTO",{"$nulls":6},0]
[{"$nulls":3},113,{"$nulls":3},"SE REQUIERE ASIGNAR LA FUENTE DE FINANCIAMIENTO",{"$nulls":6},0]
[{"$nulls":3},113,{"$nulls":3},"SE REQUIERE ASIGNAR LA FUENTE DE FINANCIAMIENTO",{"$nulls":6},0]
[{"$nulls":3},113,{"$nulls":3},"SE REQUIERE ASIGNAR LA FUENTE DE FINANCIAMIENTO",{"$nulls":6},0]
[{"$nulls":3},113,{"$nulls":3},"SE REQUIERE ASIGNAR LA FUENTE DE FINANCIAMIENTO",{"$nulls":6},0]
[{"$nulls":3},113,{"$nulls":3},"SE REQUIERE ASIGNAR LA FUENTE DE FINANCIAMIENTO",{"$nulls":6},0]
[{"$nulls":3},113,{"$nulls":3},"SE REQUIERE ASIGNAR LA FUENTE DE FINANCIAMIENTO",{"$nulls":6},0]
[{"$nulls":3},113,{"$nulls":3},"SE REQUIERE ASIGNAR LA FUENTE DE FINANCIAMIENTO",{"$nulls":6},0]
[{"$nulls":3},113,{"$nulls":3},"SE REQUIERE ASIGNAR LA FUENTE DE FINANCIAMIENTO",{"$nulls":6},0]
[{"$nulls":3},113,{"$nulls":3},"SE REQUIERE ASIGNAR LA FUENTE DE FINANCIAMIENTO",{"$nulls":6},0]
[{"$nulls":3},113,{"$nulls":3},"SE REQUIERE ASIGNAR LA FUENTE DE FINANCIAMIENTO",{"$nulls":6},0]
[{"$nulls":3},113,{"$nulls":3},"SE REQUIERE ASIGNAR LA FUENTE DE FINANCIAMIENTO",{"$nulls":6},0]
[{"$nulls":3},113,{"$nulls":3},"SE REQUIERE ASIGNAR LA FUENTE DE FINANCIAMIENTO",{"$nulls":6},0]
[{"$nulls":3},113,{"$nulls":3},"SE REQUIERE ASIGNAR LA FUENTE DE FINANCIAMIENTO",{"$nulls":6},0]
[{"$nulls":3},113,{"$nulls":3},"SE REQUIERE ASIGNAR LA FUENTE DE FINANCIAMIENTO",{"$nulls":6},0]
[{"$nulls":3},113,{"$nulls":3},"SE REQUIERE ASIGNAR LA FUENTE DE FINANCIAMIENTO",{"$nulls":6},0]
[{"$nulls":3},113,{"$nulls":3},"SE REQUIERE ASIGNAR LA FUENTE DE FINANCIAMIENTO",{"$nulls":6},0]
[{"$nulls":3},113,{"$nulls":3},"SE REQUIERE ASIGNAR LA FUENTE DE FINANCIAMIENTO",{"$nulls":6},0]
[{"$nulls":3},113,{"$nulls":3},"SE REQUIERE ASIGNAR LA FUENTE DE FINANCIAMIENTO",{"$nulls":6},0]
[{"$nulls":3},113,{"$nulls":3},"SE REQUIERE ASIGNAR LA FUENTE DE FINANCIAMIENTO",{"$nulls":6},0]
[{"$nulls":3},113,{"$nulls":3},"SE REQUIERE ASIGNAR LA FUENTE DE FINANCIAMIENTO",{"$nulls":6},0]
[{"$nulls":3},113,{"$nulls":3},"SE REQUIERE ASIGNAR LA FUENTE DE FINANCIAMIENTO",{"$nulls":6},0]
[{"$nulls":3},113,{"$nulls":3},"SE REQUIERE ASIGNAR LA FUENTE DE FINANCIAMIENTO",{"$nulls":6},0]
[{"$nulls":3},113,{"$nulls":3},"SE REQUIERE ASIGNAR LA FUENTE DE FINANCIAMIENTO",{"$nulls":6},0]
[{"$nulls":3},113,{"$nulls":3},"SE REQUIERE ASIGNAR LA FUENTE DE FINANCIAMIENTO",{"$nulls":6},0]
[{"$nulls":3},113,{"$nulls":3},"SE REQUIERE ASIGNAR LA FUENTE DE FINANCIAMIENTO",{"$nulls":6},0]
[{"$nulls":3},113,{"$nulls":3},"SE REQUIERE ASIGNAR LA FUENTE DE FINANCIAMIENTO",{"$nulls":6},0]
[{"$nulls":3},113,{"$nulls":3},"SE REQUIERE ASIGNAR LA FUENTE DE FINANCIAMIENTO",{"$nulls":6},0]
[{"$nulls":3},113,{"$nulls":3},"SE REQUIERE ASIGNAR LA FUENTE DE FINANCIAMIENTO",{"$nulls":6},0]
[{"$nulls":3},113,{"$nulls":3},"SE REQUIERE ASIGNAR LA FUENTE DE FINANCIAMIENTO",{"$nulls":6},0]
[{"$nulls":3},113,{"$nulls":3},"SE REQUIERE ASIGNAR LA FUENTE DE FINANCIAMIENTO",{"$nulls":6},0]
[{"$nulls":3},113,{"$nulls":3},"SE REQUIERE ASIGNAR LA FUENTE DE FINANCIAMIENTO",{"$nulls":6},0]
[{"$nulls":3},113,{"$nulls":3},"SE REQUIERE ASIGNAR LA FUENTE DE FINANCIAMIENTO",{"$nulls":6},0]
[{"$nulls":3},113,{"$nulls":3},"SE REQUIERE ASIGNAR LA FUENTE DE FINANCIAMIENTO",{"$nulls":6},0]
[{"$nulls":3},113,{"$nulls":3},"SE REQUIERE ASIGNAR LA FUENTE DE FINANCIAMIENTO",{"$nulls":6},0]
[{"$nulls":3},113,{"$nulls":3},"SE REQUIERE ASIGNAR LA FUENTE DE FINANCIAMIENTO",{"$nulls":6},0]
[{"$nulls":3},113,{"$nulls":3},"SE REQUIERE ASIGNAR LA FUENTE DE FINANCIAMIENTO",{"$nulls":6},0]
[{"$nulls":3},113,{"$nulls":3},"SE REQUIERE ASIGNAR LA FUENTE DE FINANCIAMIENTO",{"$nulls":6},0]
[{"$nulls":3},113,{"$nulls":3},"SE REQUIERE ASIGNAR LA FUENTE DE FINANCIAMIENTO",{"$nulls":6},0]
[{"$nulls":3},113,{"$nulls":3},"SE REQUIERE ASIGNAR LA FUENTE DE FINANCIAMIENTO",{"$nulls":6},0]
[{"$nulls":3},113,{"$nulls":3},"SE REQUIERE ASIGNAR LA FUENTE DE FINANCIAMIENTO",{"$nulls":6},0]
[{"$nulls":3},113,{"$nulls":3},"SE REQUIERE ASIGNAR LA FUENTE DE FINANCIAMIENTO",{"$nulls":6},0]
[{"$nulls":3},113,{"$nulls":3},"SE REQUIERE ASIGNAR LA FUENTE DE FINANCIAMIENTO",{"$nulls":6},0]
[{"$nulls":3},113,{"$nulls":3},"SE REQUIERE ASIGNAR LA FUENTE DE FINANCIAMIENTO",{"$nulls":6},0]
[{"$nulls":3},113,{"$nulls":3},"SE REQUIERE ASIGNAR LA FUENTE DE FINANCIAMIENTO",{"$nulls":6},0]
[{"$nulls":3},113,{"$nulls":3},"SE REQUIERE ASIGNAR LA FUENTE DE FINANCIAMIENTO",{"$nulls":6},0]
[{"$nulls":3},113,{"$nulls":3},"SE REQUIERE ASIGNAR LA FUENTE DE FINANCIAMIENTO",{"$nulls":6},0]
[{"$nulls":3},113,{"$nulls":3},{"$f":"IF(E324=\"\",\"SE REQUIERE ASIGNAR LA FUENTE DE FINANCIAMIENTO\",IF(F324=\"\",\"ES NECESARIO ESTABLECER EL NÚMERO DE PLAZAS\",IF(G324=\"\",\"SE NECESITA ESTABLECER UN MONTO MENSUAL\",F324*G324*12)))","v":"SE REQUIERE ASIGNAR LA FUENTE DE FINANCIAMIENTO"},{"$nulls":6},{"$f":"SUM(H324:N324)","v":0}]
[{"$nulls":3},113,{"$nulls":3},"SE REQUIERE ASIGNAR LA FUENTE DE FINANCIAMIENTO",{"$nulls":6},0]
[{"$nulls":3},113,{"$nulls":3},"SE REQUIERE ASIGNAR LA FUENTE DE FINANCIAMIENTO",{"$nulls":6},0]
[{"$nulls":3},113,{"$nulls":3},"SE REQUIERE ASIGNAR LA FUENTE DE FINANCIAMIENTO",{"$nulls":6},0]
[{"$nulls":3},113,{"$nulls":3},"SE REQUIERE ASIGNAR LA FUENTE DE FINANCIAMIENTO",{"$nulls":6},0]
[{"$nulls":3},113,{"$nulls":3},"SE REQUIERE ASIGNAR LA FUENTE DE FINANCIAMIENTO",{"$nulls":6},0]
[{"$nulls":3},113,{"$nulls":3},"SE REQUIERE ASIGNAR LA FUENTE DE FINANCIAMIENTO",{"$nulls":6},0]
[{"$nulls":3},113,{"$nulls":3},"SE REQUIERE ASIGNAR LA FUENTE DE FINANCIAMIENTO",{"$nulls":6},0]
[{"$nulls":3},113,{"$nulls":3},"SE REQUIERE ASIGNAR LA FUENTE DE FINANCIAMIENTO",{"$nulls":6},0]
[{"$nulls":3},113,{"$nulls":3},"SE REQUIERE ASIGNAR LA FUENTE DE FINANCIAMIENTO",{"$nulls":6},0]
[{"$nulls":3},113,{"$nulls":3},"SE REQUIERE ASIGNAR LA FUENTE DE FINANCIAMIENTO",{"$nulls":6},0]
[{"$nulls":3},113,{"$nulls":3},"SE REQUIERE ASIGNAR LA FUENTE DE FINANCIAMIENTO",{"$nulls":6},0]
[{"$nulls":3},113,{"$nulls":3},"SE REQUIERE ASIGNAR LA FUENTE DE FINANCIAMIENTO",{"$nulls":6},0]
[{"$nulls":3},113,{"$nulls":3},"SE REQUIERE ASIGNAR LA FUENTE DE FINANCIAMIENTO",{"$nulls":6},0]
[{"$nulls":3},113,{"$nulls":3},"SE REQUIERE ASIGNAR LA FUENTE DE FINANCIAMIENTO",{"$nulls":6},0]
[{"$nulls":3},113,{"$nulls":3},"SE REQUIERE ASIGNAR LA FUENTE DE FINANCIAMIENTO",{"$nulls":6},0]
[{"$nulls":3},113,{"$nulls":3},"SE REQUIERE ASIGNAR LA FUENTE DE FINANCIAMIENTO",{"$nulls":6},0]
[{"$nulls":3},113,{"$nulls":3},"SE REQUIERE ASIGNAR LA FUENTE DE FINANCIAMIENTO",{"$nulls":6},0]
[{"$nulls":3},113,{"$nulls":3},"SE REQUIERE ASIGNAR LA FUENTE DE FINANCIAMIENTO",{"$nulls":6},0]
[{"$nulls":3},113,{"$nulls":3},"SE REQUIERE ASIGNAR LA FUENTE DE FINANCIAMIENTO",{"$nulls":6},0]
[{"$nulls":3},113,{"$nulls":3},"SE REQUIERE ASIGNAR LA FUENTE DE FINANCIAMIENTO",{"$nulls":6},0]
[{"$nulls":3},113,{"$nulls":3},"SE REQUIERE ASIGNAR LA FUENTE DE FINANCIAMIENTO",{"$nulls":6},0]
[{"$nulls":3},113,{"$nulls":3},"SE REQUIERE ASIGNAR LA FUENTE DE FINANCIAMIENTO",{"$nulls":6},0]
[{"$nulls":3},113,{"$nulls":3},"SE REQUIERE ASIGNAR LA FUENTE DE FINANCIAMIENTO",{"$nulls":6},0]
[{"$nulls":3},113,{"$nulls":3},"SE REQUIERE ASIGNAR LA FUENTE DE FINANCIAMIENTO",{"$nulls":6},0]
[{"$nulls":3},113,{"$nulls":3},"SE REQUIERE ASIGNAR LA FUENTE DE FINANCIAMIENTO",{"$nulls":6},0]
[{"$nulls":3},113,{"$nulls":3},"SE REQUIERE ASIGNAR LA FUENTE DE FINANCIAMIENTO",{"$nulls":6},0]
[{"$nulls":3},113,{"$nulls":3},"SE REQUIERE ASIGNAR LA FUENTE DE FINANCIAMIENTO",{"$nulls":6},0]
[{"$nulls":3},113,{"$nulls":3},"SE REQUIERE ASIGNAR LA FUENTE DE FINANCIAMIENTO",{"$nulls":6},0]
[{"$nulls":3},113,{"$nulls":3},"SE REQUIERE ASIGNAR LA FUENTE DE FINANCIAMIENTO",{"$nulls":6},0]
[{"$nulls":3},113,{"$nulls":3},"SE REQUIERE ASIGNAR LA FUENTE DE FINANCIAMIENTO",{"$nulls":6},0]
[{"$nulls":3},113,{"$nulls":3},"SE REQUIERE ASIGNAR LA FUENTE DE FINANCIAMIENTO",{"$nulls":6},0]
[{"$nulls":3},113,{"$nulls":3},"SE REQUIERE ASIGNAR LA FUENTE DE FINANCIAMIENTO",{"$nulls":6},0]
[{"$nulls":3},113,{"$nulls":3},"SE REQUIERE ASIGNAR LA FUENTE DE FINANCIAMIENTO",{"$nulls":6},0]
[{"$nulls":3},113,{"$nulls":3},"SE REQUIERE ASIGNAR LA FUENTE DE FINANCIAMIENTO",{"$nulls":6},0]
[{"$nulls":3},113,{"$nulls":3},"SE REQUIERE ASIGNAR LA FUENTE DE FINANCIAMIENTO",{"$nulls":6},0]
[{"$nulls":3},113,{"$nulls":3},"SE REQUIERE ASIGNAR LA FUENTE DE FINANCIAMIENTO",{"$nulls":6},0]
[{"$nulls":3},113,{"$nulls":3},"SE REQUIERE ASIGNAR LA FUENTE DE FINANCIAMIENTO",{"$nulls":6},0]
[{"$nulls":3},113,{"$nulls":3},"SE REQUIERE ASIGNAR LA FUENTE DE FINANCIAMIENTO",{"$nulls":6},0]
[{"$nulls":3},113,{"$nulls":3},"SE REQUIERE ASIGNAR LA FUENTE DE FINANCIAMIENTO",{"$nulls":6},0]
[{"$nulls":3},113,{"$nulls":3},"SE REQUIERE ASIGNAR LA FUENTE DE FINANCIAMIENTO",{"$nulls":6},0]
[{"$nulls":3},113,{"$nulls":3},"SE REQUIERE ASIGNAR LA FUENTE DE FINANCIAMIENTO",{"$nulls":6},0]
[{"$nulls":3},113,{"$nulls":3},"SE REQUIERE ASIGNAR LA FUENTE DE FINANCIAMIENTO",{"$nulls":6},0]
[{"$nulls":3},113,{"$nulls":3},"SE REQUIERE ASIGNAR LA FUENTE DE FINANCIAMIENTO",{"$nulls":6},0]
[{"$nulls":3},113,{"$nulls":3},"SE REQUIERE ASIGNAR LA FUENTE DE FINANCIAMIENTO",{"$nulls":6},0]
[{"$nulls":3},113,{"$nulls":3},"SE REQUIERE ASIGNAR LA FUENTE DE FINANCIAMIENTO",{"$nulls":6},0]
[{"$nulls":3},113,{"$nulls":3},"SE REQUIERE ASIGNAR LA FUENTE DE FINANCIAMIENTO",{"$nulls":6},0]
[{"$nulls":3},113,{"$nulls":3},"SE REQUIERE ASIGNAR LA FUENTE DE FINANCIAMIENTO",{"$nulls":6},0]
[{"$nulls":3},113,{"$nulls":3},"SE REQUIERE ASIGNAR LA FUENTE DE FINANCIAMIENTO",{"$nulls":6},0]
[{"$nulls":3},113,{"$nulls":3},"SE REQUIERE ASIGNAR LA FUENTE DE FINANCIAMIENTO",{"$nulls":6},0]
[{"$nulls":3},113,{"$nulls":3},"SE REQUIERE ASIGNAR LA FUENTE DE FINANCIAMIENTO",{"$nulls":6},0]
[{"$nulls":3},113,{"$nulls":3},"SE REQUIERE ASIGNAR LA FUENTE DE FINANCIAMIENTO",{"$nulls":6},0]
[{"$nulls":3},113,{"$nulls":3},"SE REQUIERE ASIGNAR LA FUENTE DE FINANCIAMIENTO",{"$nulls":6},0]
[{"$nulls":3},113,{"$nulls":3},"SE REQUIERE ASIGNAR LA FUENTE DE FINANCIAMIENTO",{"$nulls":6},0]
[{"$nulls":3},113,{"$nulls":3},"SE REQUIERE ASIGNAR LA FUENTE DE FINANCIAMIENTO",{"$nulls":6},0]
[{"$nulls":3},113,{"$nulls":3},"SE REQUIERE ASIGNAR LA FUENTE DE FINANCIAMIENTO",{"$nulls":6},0]
[{"$nulls":3},113,{"$nulls":3},"SE REQUIERE ASIGNAR LA FUENTE DE FINANCIAMIENTO",{"$nulls":6},0]
[{"$nulls":3},113,{"$nulls":3},"SE REQUIERE ASIGNAR LA FUENTE DE FINANCIAMIENTO",{"$nulls":6},0]
[{"$nulls":3},113,{"$nulls":3},"SE REQUIERE ASIGNAR LA FUENTE DE FINANCIAMIENTO",{"$nulls":6},0]
[{"$nulls":3},113,{"$nulls":3},"SE REQUIERE ASIGNAR LA FUENTE DE FINANCIAMIENTO",{"$nulls":6},0]
[{"$nulls":3},113,{"$nulls":3},"SE REQUIERE ASIGNAR LA FUENTE DE FINANCIAMIENTO",{"$nulls":6},0]
[{"$nulls":3},113,{"$nulls":3},"SE REQUIERE ASIGNAR LA FUENTE DE FINANCIAMIENTO",{"$nulls":6},0]
[{"$nulls":3},113,{"$nulls":3},"SE REQUIERE ASIGNAR LA FUENTE DE FINANCIAMIENTO",{"$nulls":6},0]
[{"$nulls":3},113,{"$nulls":3},"SE REQUIERE ASIGNAR LA FUENTE DE FINANCIAMIENTO",{"$nulls":6},0]
[{"$nulls":3},113,{"$nulls":3},{"$f":"IF(E388=\"\",\"SE REQUIERE ASIGNAR LA FUENTE DE FINANCIAMIENTO\",IF(F388=\"\",\"ES NECESARIO ESTABLECER EL NÚMERO DE PLAZAS\",IF(G388=\"\",\"SE NECESITA ESTABLECER UN MONTO MENSUAL\",F388*G388*12)))","v":"SE REQUIERE ASIGNAR LA FUENTE DE FINANCIAMIENTO"},{"$nulls":6},{"$f":"SUM(H388:N388)","v":0}]
[{"$nulls":3},113,{"$nulls":3},"SE REQUIERE ASIGNAR LA FUENTE DE FINANCIAMIENTO",{"$nulls":6},0]
[{"$nulls":3},113,{"$nulls":3},"SE REQUIERE ASIGNAR LA FUENTE DE FINANCIAMIENTO",{"$nulls":6},0]
[{"$nulls":3},113,{"$nulls":3},"SE REQUIERE ASIGNAR LA FUENTE DE FINANCIAMIENTO",{"$nulls":6},0]
[{"$nulls":3},113,{"$nulls":3},"SE REQUIERE ASIGNAR LA FUENTE DE FINANCIAMIENTO",{"$nulls":6},0]
[{"$nulls":3},113,{"$nulls":3},"SE REQUIERE ASIGNAR LA FUENTE DE FINANCIAMIENTO",{"$nulls":6},0]
[{"$nulls":3},113,{"$nulls":3},"SE REQUIERE ASIGNAR LA FUENTE DE FINANCIAMIENTO",{"$nulls":6},0]
[{"$nulls":3},113,{"$nulls":3},"SE REQUIERE ASIGNAR LA FUENTE DE FINANCIAMIENTO",{"$nulls":6},0]
[{"$nulls":3},113,{"$nulls":3},"SE REQUIERE ASIGNAR LA FUENTE DE FINANCIAMIENTO",{"$nulls":6},0]
[{"$nulls":3},113,{"$nulls":3},"SE REQUIERE ASIGNAR LA FUENTE DE FINANCIAMIENTO",{"$nulls":6},0]
[{"$nulls":3},113,{"$nulls":3},"SE REQUIERE ASIGNAR LA FUENTE DE FINANCIAMIENTO",{"$nulls":6},0]
[{"$nulls":3},113,{"$nulls":3},"SE REQUIERE ASIGNAR LA FUENTE DE FINANCIAMIENTO",{"$nulls":6},0]
[{"$nulls":3},113,{"$nulls":3},"SE REQUIERE ASIGNAR LA FUENTE DE FINANCIAMIENTO",{"$nulls":6},0]
[{"$nulls":3},113,{"$nulls":3},"SE REQUIERE ASIGNAR LA FUENTE DE FINANCIAMIENTO",{"$nulls":6},0]
[{"$nulls":3},113,{"$nulls":3},"SE REQUIERE ASIGNAR LA FUENTE DE FINANCIAMIENTO",{"$nulls":6},0]
[{"$nulls":3},113,{"$nulls":3},"SE REQUIERE ASIGNAR LA FUENTE DE FINANCIAMIENTO",{"$nulls":6},0]
[{"$nulls":3},113,{"$nulls":3},"SE REQUIERE ASIGNAR LA FUENTE DE FINANCIAMIENTO",{"$nulls":6},0]
[{"$nulls":3},113,{"$nulls":3},"SE REQUIERE ASIGNAR LA FUENTE DE FINANCIAMIENTO",{"$nulls":6},0]
[{"$nulls":3},113,{"$nulls":3},"SE REQUIERE ASIGNAR LA FUENTE DE FINANCIAMIENTO",{"$nulls":6},0]
[{"$nulls":3},113,{"$nulls":3},"SE REQUIERE ASIGNAR LA FUENTE DE FINANCIAMIENTO",{"$nulls":6},0]
[{"$nulls":3},113,{"$nulls":3},"SE REQUIERE ASIGNAR LA FUENTE DE FINANCIAMIENTO",{"$nulls":6},0]
[{"$nulls":3},113,{"$nulls":3},"SE REQUIERE ASIGNAR LA FUENTE DE FINANCIAMIENTO",{"$nulls":6},0]
[{"$nulls":3},113,{"$nulls":3},"SE REQUIERE ASIGNAR LA FUENTE DE FINANCIAMIENTO",{"$nulls":6},0]
[{"$nulls":3},113,{"$nulls":3},"SE REQUIERE ASIGNAR LA FUENTE DE FINANCIAMIENTO",{"$nulls":6},0]
[{"$nulls":3},113,{"$nulls":3},"SE REQUIERE ASIGNAR LA FUENTE DE FINANCIAMIENTO",{"$nulls":6},0]
[{"$nulls":3},113,{"$nulls":3},"SE REQUIERE ASIGNAR LA FUENTE DE FINANCIAMIENTO",{"$nulls":6},0]
[{"$nulls":3},113,{"$nulls":3},"SE REQUIERE ASIGNAR LA FUENTE DE FINANCIAMIENTO",{"$nulls":6},0]
[{"$nulls":3},113,{"$nulls":3},"SE REQUIERE ASIGNAR LA FUENTE DE FINANCIAMIENTO",{"$nulls":6},0]
[{"$nulls":3},113,{"$nulls":3},"SE REQUIERE ASIGNAR LA FUENTE DE FINANCIAMIENTO",{"$nulls":6},0]
[{"$nulls":3},113,{"$nulls":3},"SE REQUIERE ASIGNAR LA FUENTE DE FINANCIAMIENTO",{"$nulls":6},0]
[{"$nulls":3},113,{"$nulls":3},"SE REQUIERE ASIGNAR LA FUENTE DE FINANCIAMIENTO",{"$nulls":6},0]
[{"$nulls":3},113,{"$nulls":3},"SE REQUIERE ASIGNAR LA FUENTE DE FINANCIAMIENTO",{"$nulls":6},0]
[{"$nulls":3},113,{"$nulls":3},"SE REQUIERE ASIGNAR LA FUENTE DE FINANCIAMIENTO",{"$nulls":6},0]
[{"$nulls":3},113,{"$nulls":3},"SE REQUIERE ASIGNAR LA FUENTE DE FINANCIAMIENTO",{"$nulls":6},0]
[{"$nulls":3},113,{"$nulls":3},"SE REQUIERE ASIGNAR LA FUENTE DE FINANCIAMIENTO",{"$nulls":6},0]
[{"$nulls":3},113,{"$nulls":3},"SE REQUIERE ASIGNAR LA FUENTE DE FINANCIAMIENTO",{"$nulls":6},0]
[{"$nulls":3},113,{"$nulls":3},"SE REQUIERE ASIGNAR LA FUENTE DE FINANCIAMIENTO",{"$nulls":6},0]
[{"$nulls":3},113,{"$nulls":3},"SE REQUIERE ASIGNAR LA FUENTE DE FINANCIAMIENTO",{"$nulls":6},0]
[{"$nulls":3},113,{"$nulls":3},"SE REQUIERE ASIGNAR LA FUENTE DE FINANCIAMIENTO",{"$nulls":6},0]
[{"$nulls":3},113,{"$nulls":3},"SE REQUIERE ASIGNAR LA FUENTE DE FINANCIAMIENTO",{"$nulls":6},0]
[{"$nulls":3},113,{"$nulls":3},"SE REQUIERE ASIGNAR LA FUENTE DE FINANCIAMIENTO",{"$nulls":6},0]
[null,"TOTALES",{"$nulls":3},{"$f":"SUM(F3:F428)","v":167},{"v":1081810.3003808,"d":"1,081,810"},{"v":14517723.604569599,"d":"14,517,724"},{"$f":"SUM(I3:I428)","v":0},{"v":201634.05006346668,"d":"201,634"},{"v":2014350.5006346668,"d":"2,014,351"},0,0,0,{"$f":"SUM(O3:O428)","v":{"v":16733708.155267736,"d":"16,733,708"}}]

{"sheet":"CRI-DE","index":11,"n_rows":141,"n_cols":6,"rows_kept":141,"merged":[[0,1,0,2],[1,1,1,2],[2,1,2,2],[3,0,3,1],[4,1,4,2],[5,0,5,1],[6,0,6,1],[7,0,7,1],[8,1,8,2],[9,1,9,2],[10,1,10,2],[11,1,11,2],[12,1,12,2],[13,0,13,1],[14,0,14,1],[15,0,15,1],[16,0,16,1],[17,0,17,1],[18,1,18,2],[19,0,19,1],[20,1,20,2],[21,1,21,2],[22,1,22,2],[23,1,23,2],[24,1,24,2],[25,1,25,2],[26,1,26,2],[27,1,27,2],[28,0,28,1],[29,1,29,2],[30,1,30,2],[31,0,31,1],[32,0,32,1],[33,0,33,1],[34,0,34,1],[35,1,35,2],[36,1,36,2],[37,0,37,1],[38,0,38,1],[39,0,39,1],[40,0,40,1],[41,0,41,1],[42,0,42,1],[43,0,43,1],[44,0,44,1],[45,0,45,1],[46,0,46,1],[47,0,47,1],[48,0,48,1],[49,0,49,1],[50,0,50,1],[51,1,51,2],[52,0,52,1],[53,1,53,2],[54,0,54,1],[55,0,55,1],[56,0,56,1],[57,0,57,1],[58,0,58,1],[59,1,59,2],[60,1,60,2],[61,0,61,1],[62,0,62,1],[63,1,63,2],[64,1,64,2],[65,1,65,2],[66,0,66,1],[67,0,67,1],[68,0,68,1],[69,1,69,2],[70,0,70,1],[71,0,71,1],[72,1,72,2],[73,0,73,1],[74,0,74,1],[75,0,75,1],[76,0,76,1],[77,0,77,1],[78,1,78,2],[79,1,79,2],[80,0,80,1],[81,1,81,2],[82,1,82,2],[83,0,83,1],[84,1,84,2],[85,1,85,2],[86,1,86,2],[87,1,87,2],[88,0,88,1],[89,1,89,2],[90,1,90,2],[91,0,91,1],[92,1,92,2],[93,1,93,2],[94,0,94,1],[95,0,95,1],[96,0,96,1],[97,0,97,1],[98,0,98,1],[99,0,99,1],[100,0,100,1],[101,0,101,1],[102,0,102,1],[103,0,103,1],[104,0,104,1],[105,0,105,1],[106,1,106,2],[107,0,107,1],[108,0,108,1],[109,1,109,2],[110,0,110,1],[111,0,111,1],[112,0,112,1],[113,0,113,1],[114,1,114,2],[115,0,115,1],[116,0,116,1],[117,0,117,1],[118,0,118,1],[119,0,119,1],[120,1,120,2],[121,0,121,1],[122,0,122,1],[123,1,123,2],[124,1,124,2],[125,0,125,1],[126,1,126,2],[127,1,127,2],[128,0,128,1],[129,1,129,2],[130,1,130,2],[131,0,131,1],[132,1,132,2],[133,1,133,2],[134,0,134,1],[135,1,135,2],[136,1,136,2],[137,1,137,2],[138,1,138,2],[139,0,139,1],[140,0,140,2]]}
["CRI-LI","DESCRIPCIÓN",null,"INGRESOS DE LIBRE DISPOSICIÓN","INGRESOS ETIQUETADOS","TOTAL"]
[{"v":1000,"d":"10-00"},"IMPUESTOS",null,{"$f":"D3+D5+D9+D10+D11+D12+D13+D19","v":{"v":2164488,"d":"2,164,488"}},{"$f":"E3+E5+E9+E10+E11+E12+E13+E19","v":0},{"$f":"D2+E2","v":{"v":2164488,"d":"2,164,488"}}]
[{"v":1100,"d":"11-00"},"Impuestos sobre los ingresos",null,{"$f":"SUM(D4)","v":0},{"$f":"SUM(E4)","v":0},{"$f":"D3+E3","v":0}]
[{"v":1101,"d":"11-01"},null,"Impuestos sobre espectáculos públicos",{"$f":"'CRI-M'!P4","v":0},null,0]
[{"v":1200,"d":"12-00"},"Impuestos sobre el patrimonio",null,{"$f":"SUM(D6:D8)","v":{"v":1914492,"d":"1,914,492"}},{"$f":"SUM(E6:E8)","v":0},{"v":1914492,"d":"1,914,492"}]
[{"v":1201,"d":"12-01"},null,"Impuesto predial",{"$f":"'CRI-M'!P6","v":{"v":1596768,"d":"1,596,768"}},null,{"v":1596768,"d":"1,596,768"}]
[{"v":1202,"d":"12-02"},null,"Impuestos sobre transmisiones patrimoniales",{"$f":"'CRI-M'!P7","v":{"v":317724,"d":"317,724"}},null,{"v":317724,"d":"317,724"}]
[{"v":1203,"d":"12-03"},null,"Impuestos sobre negocios jurídicos",{"$f":"'CRI-M'!P8","v":0},null,0]
[{"v":1300,"d":"13-00"},"Impuestos sobre la producción, el consumo y las transacciones",null,0,0,0]
[{"v":1400,"d":"14-00"},"Impuestos al comercio exterior",null,0,0,0]
[{"v":1500,"d":"15-00"},"Impuestos sobre nóminas y asimilables",null,0,0,0]
[{"v":1600,"d":"16-00"},"Impuestos ecológicos",null,0,0,0]
[{"v":1700,"d":"17-00"},"Accesorios de impuestos",null,{"$f":"SUM(D14:D18)","v":{"v":249996,"d":"249,996"}},{"$f":"SUM(E14:E18)","v":0},{"v":249996,"d":"249,996"}]
[{"v":1701,"d":"17-01"},null,"Recargos",{"$f":"'CRI-M'!P14","v":{"v":249996,"d":"249,996"}},null,{"v":249996,"d":"249,996"}]
[{"v":1702,"d":"17-02"},null,"Actualizaciones",{"$f":"'CRI-M'!P15","v":0},null,0]
[{"v":1703,"d":"17-03"},null,"Multas",{"$f":"'CRI-M'!P16","v":0},null,0]
[{"v":1704,"d":"17-04"},null,"Gastos de ejecución",{"$f":"'CRI-M'!P17","v":0},null,0]
[{"v":1709,"d":"17-09"},null,"Otros no especificados",{"$f":"'CRI-M'!P18","v":0},null,0]
[{"v":1800,"d":"18-00"},"Otros impuestos",null,{"$f":"SUM(D20)","v":0},{"$f":"SUM(E20)","v":0},0]
[{"v":1801,"d":"18-01"},null,"Otros impuestos",{"$f":"'CRI-M'!P20","v":0},null,0]
[{"v":2000,"d":"20-00"},"CUOTAS Y APORTACIONES DE SEGURIDAD SOCIAL",null,{"$f":"SUM(D22:D26)","v":0},{"$f":"SUM(E22:E26)","v":0},0]
[{"v":2100,"d":"21-00"},"Aportaciones para fondos de vivienda",{"$nulls":3},0]
[{"v":2200,"d":"22-00"},"Cuotas para la seguirdad social",{"$nulls":3},0]
[{"v":2300,"d":"23-00"},"Cuotas de ahorro para el retiro",{"$nulls":3},0]
[{"v":2400,"d":"24-00"},"Otras cuotas y aportaciones para la seguirdad social",{"$nulls":3},0]
[{"v":2500,"d":"25-00"},"Accesorios de cuotas y aportaciones de seguirdad social",{"$nulls":3},0]
[{"v":3000,"d":"30-00"},"CONTRIBUCIONES DE MEJORAS",null,{"$f":"SUM(D28)","v":0},{"$f":"SUM(E28)","v":0},0]
[{"v":3100,"d":"31-00"},"Contribuciones de mejoras por obras públicas",null,{"$f":"SUM(D29)","v":0},{"$f":"SUM(E29)","v":0},0]
[{"v":3101,"d":"31-01"},null,"Contribuciones de mejoras por obras públicas",{"$f":"'CRI-M'!P29","v":0},null,0]
[{"v":4000,"d":"40-00"},"DERECHOS",null,{"$f":"D31+D36+D37+D52+D54","v":{"v":2166732,"d":"2,166,732"}},{"$f":"E31+E36+E37+E52+E54","v":0},{"v":2166732,"d":"2,166,732"}]
[{"v":4100,"d":"41-00"},"Derechos por el uso, goce, aprovechamiento o explotación de bienes de dominio público",null,{"$f":"SUM(D32:D35)","v":{"v":16740,"d":"16,740"}},{"$f":"SUM(E32:E35)","v":0},{"v":16740,"d":"16,740"}]
[{"v":4101,"d":"41-01"},null,"Derechos por el uso del piso",{"$f":"'CRI-M'!P32","v":0},null,0]
[{"v":4102,"d":"41-02"},null,"Derechos por el uso de los estacionamientos",{"$f":"'CRI-M'!P33","v":0},null,0]
[{"v":4103,"d":"41-03"},null,"Derechos de uso de cementerios y panteones municipales",{"$f":"'CRI-M'!P34","v":{"v":16740,"d":"16,740"}},null,{"v":16740,"d":"16,740"}]
[{"v":4104,"d":"41-04"},null,"Derechos de concesiones y demas inmuebles de propiedad municipal",{"$f":"'CRI-M'!P35","v":0},null,0]
[{"v":4200,"d":"42-00"},"Derechos a los hidrocarburos (Derogado)",{"$nulls":3},0]
[{"v":4300,"d":"43-00"},"Derechos por prestación de servicios",null,{"$f":"SUM(D38:D51)","v":{"v":2149992,"d":"2,149,992"}},{"$f":"SUM(E38:E51)","v":0},{"v":2149992,"d":"2,149,992"}]
["43-01",null,"Derechos de licencias y permisos de giros",{"$f":"'CRI-M'!P38","v":{"v":143268,"d":"143,268"}},null,{"v":143268,"d":"143,268"}]
["43-02",null,"Derechos de licencias y permisos de anuncios",{"$f":"'CRI-M'!P39","v":{"v":6708,"d":"6,708"}},null,{"v":6708,"d":"6,708"}]
[{"v":4303,"d":"43-03"},null,"Derechos de licencias de construcción, reconstrucción, reparación o demolición de obras",{"$f":"'CRI-M'!P40","v":0},null,0]
[{"v":4304,"d":"43-04"},null,"Derechos de regularizaciones de los registros de obra",{"$f":"'CRI-M'!P41","v":0},null,0]
[{"v":4305,"d":"43-05"},null,"Derechos de alineamiento, designación de número oficial e inspección",{"$f":"'CRI-M'!P42","v":0},null,0]
[{"v":4306,"d":"43-06"},null,"Derechos de licencias de cambio de régimen de propiedad y urbanización",{"$f":"'CRI-M'!P43","v":0},null,0]
[{"v":4307,"d":"43-07"},null,"Derechos de servicios de obra",{"$f":"'CRI-M'!P44","v":0},null,0]
[{"v":4308,"d":"43-08"},null,"Derechos de servicios de sanidad",{"$f":"'CRI-M'!P45","v":0},null,0]
[{"v":4309,"d":"43-09"},null,"Derechos de servicio de limpieza, recolección, traslado, tratamiento y disposición final de residuos",{"$f":"'CRI-M'!P46","v":0},null,0]
[{"v":4310,"d":"43-10"},null,"Derechos de agua potable, drenaje, alcantarillado, tratamiento y disposición final de aguas residuales",{"$f":"'CRI-M'!P47","v":{"v":1532208,"d":"1,532,208"}},null,{"v":1532208,"d":"1,532,208"}]
[{"v":4311,"d":"43-11"},null,"Derechos del rastro",{"$f":"'CRI-M'!P48","v":{"v":102588,"d":"102,588"}},null,{"v":102588,"d":"102,588"}]
[{"v":4312,"d":"43-12"},null,"Derechos del registro civil",{"$f":"'CRI-M'!P49","v":{"v":243468,"d":"243,468"}},null,{"v":243468,"d":"243,468"}]
[{"v":4313,"d":"43-13"},null,"Derechos de las certificaciones",{"$f":"'CRI-M'!P50","v":{"v":105384,"d":"105,384"}},null,{"v":105384,"d":"105,384"}]
[{"v":4314,"d":"43-14"},null,"Derechos de los servicios de catastro",{"$f":"'CRI-M'!P51","v":{"v":16368,"d":"16,368"}},null,{"v":16368,"d":"16,368"}]
[{"v":4400,"d":"44-00"},"Otros derechos",null,{"$f":"SUM(D53)","v":0},{"$f":"SUM(E53)","v":0},0]
[{"v":4401,"d":"44-01"},null,"Otros derechos",{"$f":"'CRI-M'!P53","v":0},null,0]
[{"v":4500,"d":"45-00"},"Accesorios de derechos",null,{"$f":"SUM(D55:D59)","v":0},{"$f":"SUM(E55:E59)","v":0},0]
[{"v":4501,"d":"45-01"},null,"Recargos",{"$f":"'CRI-M'!P55","v":0},null,0]
[{"v":4502,"d":"45-02"},null,"Actualizaciones",{"$f":"'CRI-M'!P56","v":0},null,0]
[{"v":4503,"d":"45-03"},null,"Multas",{"$f":"'CRI-M'!P57","v":0},null,0]
[{"v":4504,"d":"45-04"},null,"Gastos de ejecución",{"$f":"'CRI-M'!P58","v":0},null,0]
[{"v":4509,"d":"45-09"},null,"Otros no especificados",{"$f":"'CRI-M'!P59","v":0},null,0]
[{"v":5000,"d":"50-00"},"PRODUCTOS",null,{"$f":"D61+D64","v":{"v":631956,"d":"631,956"}},{"$f":"E61+E64","v":0},{"v":631956,"d":"631,956"}]
[{"v":5100,"d":"51-00"},"Productos",null,{"$f":"SUM(D62:D63)","v":{"v":631956,"d":"631,956"}},{"$f":"SUM(E62:E63)","v":0},{"v":631956,"d":"631,956"}]
[{"v":5101,"d":"51-01"},null,"Uso, goce, aprovechamiento o explotación de bienes de dominio privado",{"$f":"'CRI-M'!P62","v":0},null,0]
[{"v":5102,"d":"51-02"},null,"Productos diversos",{"$f":"'CRI-M'!P63","v":{"v":631956,"d":"631,956"}},null,{"v":631956,"d":"631,956"}]
[{"v":5200,"d":"52-00"},"Productos de capital (Derogado)",{"$nulls":3},0]
[{"v":6000,"d":"60-00"},"APROVECHAMIENTOS",null,{"$f":"D66+D70+D73","v":{"v":86436,"d":"86,436"}},{"$f":"E66+E70+E73","v":0},{"v":86436,"d":"86,436"}]
[{"v":6100,"d":"61-00"},"Aprovechamientos",null,{"$f":"SUM(D67:D69)","v":0},{"$f":"SUM(E67:E69)","v":0},0]
[{"v":6101,"d":"61-01"},null,"Aprovechamientos de las sanciones, multas, honorarios y donativos",{"$f":"'CRI-M'!P67","v":0},null,{"$f":"D67+E67","v":0}]
[{"v":6102,"d":"61-02"},null,"Aprovechamientos de las indemnizaciones a favor del municipio",{"$f":"'CRI-M'!P68","v":0},null,0]
[{"v":6103,"d":"61-03"},null,"Otros aprovechamientos",{"$f":"'CRI-M'!P69","v":0},null,0]
[{"v":6200,"d":"62-00"},"Aprovechamientos patrimoniales",null,{"$f":"SUM(D71:D72)","v":0},{"$f":"SUM(E71:E72)","v":0},0]
["62-01",null,"Aprovechamientos por el uso o enajenación de bienes",{"$f":"'CRI-M'!P71","v":0},null,0]
[{"v":6202,"d":"62-02"},null,"Aporvechamientos por recuperación de capital o patrimonio invertido",{"$f":"'CRI-M'!P72","v":0},null,0]
[{"v":6300,"d":"63-00"},"Accesorios de aprovechamientos",null,{"$f":"SUM(D74:D78)","v":{"v":86436,"d":"86,436"}},{"$f":"SUM(E74:E78)","v":0},{"v":86436,"d":"86,436"}]
[{"v":6301,"d":"63-01"},null,"Recargos",{"$f":"'CRI-M'!P74","v":0},null,0]
[{"v":6302,"d":"63-02"},null,"Actualizaciones",{"$f":"'CRI-M'!P75","v":0},null,0]
[{"v":6303,"d":"63-03"},null,"Multas",{"$f":"'CRI-M'!P76","v":{"v":27204,"d":"27,204"}},null,{"v":27204,"d":"27,204"}]
[{"v":6304,"d":"63-04"},null,"Gastos de ejecución",{"$f":"'CRI-M'!P77","v":0},null,0]
[{"v":6309,"d":"63-09"},null,"Otros no especificados",{"$f":"'CRI-M'!P78","v":{"v":59232,"d":"59,232"}},null,{"v":59232,"d":"59,232"}]
[{"v":7000,"d":"70-00"},"INGRESOS POR VENTAS DE BIENES, PRESTACIÓN DE SERVICIOS Y OTROS INGRESOS",null,{"$f":"D80+D82+D83+D85+D86+D87+D88+D90+D91","v":{"v":2496,"d":"2,496"}},{"$f":"E80+E82+E83+E85+E86+E87+E88+E90+E91","v":0},{"v":2496,"d":"2,496"}]
[{"v":7100,"d":"71-00"},"Ingresos por venta de bienes y prestación de servicios de instituciones públicas de seguridad social",null,{"$f":"SUM(D81)","v":0},{"$f":"SUM(E81)","v":0},0]
[{"v":7101,"d":"71-01"},null,"Ingresos por venta de bienes y prestación de servicios de instituciones públicas de seguridad social",{"$f":"'CRI-M'!P81","v":0},null,0]
[{"v":7200,"d":"72-00"},"Ingresos por venta de bienes y prestación de servicios de empresas productivas del estado",{"$nulls":3},0]
[{"v":7300,"d":"73-00"},"Ingresos por venta de bienes y prestación de servicios de entidades paraestatales y fideicomisos no empresariales y no financieros",null,{"$f":"SUM(D84)","v":0},{"$f":"SUM(E84)","v":0},0]
[{"v":7301,"d":"73-01"},null,"Ingresos por venta de bienes y prestación de servicios de entidades paraestatales y fideicomisos no empresariales y no financieros",{"$f":"'CRI-M'!P84","v":0},null,0]
[{"v":7400,"d":"74-00"},"Ingresos por venta de bienes y prestación de servicios de entidades paraestatales empresariales no financieras con participación estatal mayoritaria",{"$nulls":3},0]
[{"v":7500,"d":"75-00"},"Ingresos por venta de bienes y prestación de servicios de entidades paraestatales empresariales financieras monetarias con participación estatal mayoritaria",{"$nulls":3},0]
[{"v":7600,"d":"76-00"},"Ingresos por venta de bienes y prestación de servicios de entidades paraestatales empresariales financieras no monetarias con participación estatal mayoritaria",{"$nulls":3},0]
[{"v":7700,"d":"77-00"},"Ingresos por venta de bienes y prestación de servicios de fideicomisos financieros públicos con participación estatal mayoritaria",null,{"$f":"SUM(D89)","v":0},{"$f":"SUM(E89)","v":0},0]
[{"v":7701,"d":"77-01"},null,"Ingresos por venta de bienes y prestación de servicios de fideicomisos financieros públicos con participación estatal mayoritaria",{"$f":"'CRI-M'!P89","v":0},null,0]
[{"v":7800,"d":"78-00"},"Ingresos por venta de bienes y prestación de servicios de los poderes legislativo y judicial, y de los órganos autónomos",{"$nulls":3},0]
[{"v":7900,"d":"79-00"},"Otros ingresos",null,{"$f":"SUM(D92)","v":{"v":2496,"d":"2,496"}},{"$f":"SUM(E92)","v":0},{"v":2496,"d":"2,496"}]
[{"v":7901,"d":"79-01"},null,"Otros ingresos",{"$f":"'CRI-M'!P92","v":{"v":2496,"d":"2,496"}},null,{"v":2496,"d":"2,496"}]
[{"v":8000,"d":"80-00"},"PARTICIPACIONES, APORTACIONES, CONVENIOS, INCENTIVOS DERIVADOS DE LA COLABORACIÓN FISCAL Y FONDOS DISTINTOS DE LAS APORTACIONES",null,{"$f":"D94+D107+D110+D115+D121","v":{"v":87692704,"d":"87,692,704"}},{"$f":"E94+E107+E110+E115+E121","v":{"v":14283684,"d":"14,283,684"}},{"v":101976388,"d":"101,976,388"}]
[{"v":8100,"d":"81-00"},"Participaciones",null,{"$f":"SUM(D95:D106)","v":{"v":87692704,"d":"87,692,704"}},{"$f":"SUM(E95:E106)","v":0},{"v":87692704,"d":"87,692,704"}]
[{"v":8101,"d":"81-01"},null,"Fondo general de participaciones (federal)",{"$f":"'CRI-M'!P95","v":{"v":87621040,"d":"87,621,040"}},null,{"v":87621040,"d":"87,621,040"}]
[{"v":8102,"d":"81-02"},null,"Fondo de fomento municipal (federal)",{"$f":"'CRI-M'!P96","v":0},null,0]
[{"v":8103,"d":"81-03"},null,"Fondo de fiscalización y recaudación (federal)",{"$f":"'CRI-M'!P97","v":0},null,0]
[{"v":8104,"d":"81-04"},null,"Fondo de compensación (federal)",{"$f":"'CRI-M'!P98","v":0},null,0]
[{"v":8105,"d":"81-05"},null,"Fondo de extracción de hidrocarburos (federal)",{"$f":"'CRI-M'!P99","v":0},null,0]
[{"v":8106,"d":"81-06"},null,"Impuesto especial sobre producción y servicios (federal)",{"$f":"'CRI-M'!P100","v":0},null,0]
[{"v":8107,"d":"81-07"},null,"0.136% de la recaudación federal participable (federal)",{"$f":"'CRI-M'!P101","v":0},null,0]
[{"v":8108,"d":"81-08"},null,"3.17% sobre extracción de petróleo (federal)",{"$f":"'CRI-M'!P102","v":0},null,0]
[{"v":8109,"d":"81-09"},null,"Gasolinas y diésel (federal)",{"$f":"'CRI-M'!P103","v":0},null,0]
[{"v":8110,"d":"81-10"},null,"Fondo del impuesto sobre la renta (federal)",{"$f":"'CRI-M'!P104","v":0},null,0]
[{"v":8111,"d":"81-11"},null,"Fondo de estabilización de los ingresos de las entidades federativas (federal)",{"$f":"'CRI-M'!P105","v":0},null,0]
[{"v":8112,"d":"81-12"},null,"Participaciones del estado",{"$f":"'CRI-M'!P106","v":{"v":71664,"d":"71,664"}},null,{"v":71664,"d":"71,664"}]
[{"v":8200,"d":"82-00"},"Aportaciones",null,{"$f":"SUM(D108:D109)","v":0},{"$f":"SUM(E108:E109)","v":{"v":14283684,"d":"14,283,684"}},{"v":14283684,"d":"14,283,684"}]
[{"v":8201,"d":"82-01"},null,"Fondo de aportaciones para la infraestructura social municipal",null,{"$f":"'CRI-M'!P108","v":{"v":6676428,"d":"6,676,428"}},{"v":6676428,"d":"6,676,428"}]
[{"v":8202,"d":"82-02"},null,"Fondo de aportaciones para el fortalecimiento municipal",null,{"$f":"'CRI-M'!P109","v":{"v":7607256,"d":"7,607,256"}},{"v":7607256,"d":"7,607,256"}]
[{"v":8300,"d":"83-00"},"Convenios",null,{"$f":"SUM(D111:D114)","v":0},{"$f":"SUM(E111:E114)","v":0},0]
[{"v":8301,"d":"83-01"},null,"Convenios de protección social en salud",null,{"$f":"'CRI-M'!P111","v":0},0]
[{"v":8302,"d":"83-02"},null,"Convenios de descentralizados",null,{"$f":"'CRI-M'!P112","v":0},0]
[{"v":8303,"d":"83-03"},null,"Convenio de reasignación",null,{"$f":"'CRI-M'!P113","v":0},0]
[{"v":8304,"d":"83-04"},null,"Otros convenios y subsidios",{"$f":"'CRI-M'!P114","v":0},{"$f":"'CRI-M'!P115+'CRI-M'!P116","v":0},0]
[{"v":8400,"d":"84-00"},"Incentivos derivados de la colaboración fiscal",null,{"$f":"SUM(D116:D120)","v":0},{"$f":"SUM(E116:E120)","v":0},0]
[{"v":8401,"d":"84-01"},null,"Tenencia o uso de vehículos",{"$f":"'CRI-M'!P118","v":0},null,0]
[{"v":8402,"d":"84-02"},null,"Fondo de compensación ISAN",{"$f":"'CRI-M'!P119","v":0},null,0]
[{"v":8403,"d":"84-03"},null,"Impuesto sobre automóviles nuevos",{"$f":"'CRI-M'!P120","v":0},null,0]
[{"v":8404,"d":"84-04"},null,"Fondo de compensación de repecos-intermedios",{"$f":"'CRI-M'!P121","v":0},null,0]
[{"v":8405,"d":"84-05"},null,"Otros incentivos económicos",{"$f":"'CRI-M'!P122","v":0},null,0]
[{"v":8500,"d":"85-00"},"Fondos distintos de aportaciones",null,{"$f":"SUM(D122:D123)","v":0},{"$f":"SUM(E122:E123)","v":0},0]
[{"v":8501,"d":"85-01"},null,"Fondo para entidades federativas y municipios productores de hidrocarburos",null,{"$f":"'CRI-M'!P124","v":0},0]
[{"v":8502,"d":"85-02"},null,"Fondo minero",null,{"$f":"'CRI-M'!P125","v":0},0]
[{"v":9000,"d":"90-00"},"TRANSFERENCIAS, ASIGNACIONES, SUBSIDIOS Y SUBVENCIONES Y PENSIONES Y JUBILACIONES",null,{"$f":"D125+D127+D128+D130+D131+D133+D134","v":0},{"$f":"E125+E127+E128+E130+E131+E133+E134","v":0},0]
[{"v":9100,"d":"91-00"},"Transferencias y asignaciones",null,{"$f":"SUM(D126)","v":0},{"$f":"SUM(E126)","v":0},0]
[{"v":9101,"d":"91-01"},null,"Transferencias y asignaciones",{"$f":"'CRI-M'!P128","v":0},{"$f":"'CRI-M'!P129","v":0},0]
[{"v":9200,"d":"92-00"},"Transferencias al resto del sector público (derogado)",{"$nulls":3},0]
[{"v":9300,"d":"93-00"},"Subsidios y subvenciones",null,{"$f":"SUM(D129)","v":0},{"$f":"SUM(E129)","v":0},0]
[{"v":9301,"d":"93-01"},null,"Subsidios y subvenciones",{"$f":"'CRI-M'!P133","v":0},{"$f":"'CRI-M'!P134","v":0},0]
[{"v":9400,"d":"94-00"},"Ayudas sociales (derogado)",{"$nulls":3},0]
[{"v":9500,"d":"95-00"},"Pensiones y juvilaciones",null,{"$f":"SUM(D132)","v":0},{"$f":"SUM(E132)","v":0},{"$f":"D131+E131","v":0}]
[{"v":9501,"d":"95-01"},null,"Pensiones y juvilaciones",{"$f":"'CRI-M'!P138","v":0},null,0]
[{"v":9600,"d":"96-00"},"Transferencias a fideicomisos, mandatos y análogos (derogado)",{"$nulls":3},0]
[{"v":9700,"d":"97-00"},"Transferencias del fondo mexicano del petróleo para la estabilización y el desarrollo",null,{"$f":"SUM(D135)","v":0},{"$f":"SUM(E135)","v":0},0]
["97-01",null,"Transferencias del fondo mexicano del petróleo para la estabilización y el desarrollo",{"$f":"'CRI-M'!P141","v":0},null,0]
[{"v":0,"d":"00-00"},"INGRESOS DERIVADOS DE FINANCIAMIENTO",null,{"$f":"D137+D138+D139","v":0},{"$f":"E137+E138+E139","v":0},0]
[{"v":100,"d":"01-00"},"Endeudamiento interno",{"$nulls":3},0]
[{"v":200,"d":"02-00"},"Endeudamiento externo",{"$nulls":3},0]
[{"v":300,"d":"03-00"},"Financiamiento interno",null,{"$f":"SUM(D140)","v":0},{"$f":"SUM(E140)","v":0},0]
[{"v":301,"d":"03-01"},null,"Financiamiento interno",null,{"$f":"'CRI-M'!P146","v":0},0]
["ESTIMACIÓN DE INGRESOS",null,null,{"$f":"D2+D21+D27+D30+D60+D65+D79+D93+D124+D136","v":{"v":92744812,"d":"92,744,812"}},{"$f":"E2+E21+E27+E30+E60+E65+E79+E93+E124+E136","v":{"v":14283684,"d":"14,283,684"}},{"$f":"F2+F21+F27+F30+F60+F65+F79+F93+F124+F136","v":{"v":107028496,"d":"107,028,496"}}]

{"sheet":"COG-FF","index":12,"n_rows":429,"n_cols":13,"rows_kept":429,"merged":[[0,0,1,0],[0,1,1,1],[0,2,0,8],[0,9,0,11],[0,12,1,12]]}
["COG-FF","DESCRIPCIÓN","1.  NO ETIQUETADO",{"$nulls":6},"2.  ETIQUETADO",null,null,"TOTAL ANUAL"]
[null,null,"11\nRECURSOS FISCALES","12\nFINANCIAMIENTOS INTERNOS","13\nFINANCIAMIENTOS EXTERNOS","14\nINGRESOS \nPROPIOS","15\nRECURSOS\nFEDERALES","16\nRECURSOS\nESTATALES","17\nOTROS RECURSOS DE LIBRE DISPOSICIÓN","25 \nRECURSOS FEDERALES","26\nRECURSOS\nESTATALES","27\nOTROS RECURSOS DE TRANSFERENCIAS FEDERALES ETIQUETADAS"]
[1000,"SERVICIOS PERSONALES",{"$f":"C4+C9+C14+C23+C28+C35+C37","v":{"v":24871539.6045696,"d":"24,871,540"}},0,0,0,0,0,0,0,0,0,{"$f":"M4+M9+M14+M23+M28+M35+M37","v":{"v":24871539.6045696,"d":"24,871,540"}}]
[1100,"REMUNERACIONES AL PERSONAL DE CARÁCTER PERMANENTE",{"$f":"SUM(C5:C8)","v":{"v":14517723.6045696,"d":"14,517,724"}},0,0,0,0,0,0,{"$f":"SUM(J5:J8)","v":0},{"$f":"SUM(K5:K8)","v":0},{"$f":"SUM(L5:L8)","v":0},{"$f":"SUM(M5:M8)","v":{"v":14517723.6045696,"d":"14,517,724"}}]
[111,"Dietas",{"$f":"'COG-M'!P4","v":{"v":1879200,"d":"1,879,200"}},{"$f":"'COG-M'!P5","v":0},{"$f":"'COG-M'!P6","v":0},{"$f":"'COG-M'!P7","v":0},{"$f":"'COG-M'!P8","v":0},{"$f":"'COG-M'!P9","v":0},{"$f":"'COG-M'!P10","v":0},{"$f":"'COG-M'!P11","v":0},{"$f":"'COG-M'!P12","v":0},{"$f":"'COG-M'!P13","v":0},{"$f":"SUM(C5:L5)","v":{"v":1879200,"d":"1,879,200"}}]
[112,"Haberes",{"$nulls":10},{"$f":"SUM(C6:L6)","v":0}]
[113,"Sueldos base al personal permanente",{"$f":"'COG-M'!P15","v":{"v":12638523.6045696,"d":"12,638,524"}},{"$f":"'COG-M'!P16","v":0},{"$f":"'COG-M'!P17","v":0},{"$f":"'COG-M'!P18","v":0},{"$f":"'COG-M'!P19","v":0},{"$f":"'COG-M'!P20","v":0},{"$f":"'COG-M'!P21","v":0},{"$f":"'COG-M'!P22","v":0},{"$f":"'COG-M'!P23","v":0},{"$f":"'COG-M'!P24","v":0},{"$f":"SUM(C7:L7)","v":{"v":12638523.6045696,"d":"12,638,524"}}]
[114,"Remuneraciones por adscripción laboral en el extranjero",{"$f":"'COG-M'!P25","v":0},{"$f":"'COG-M'!P26","v":0},{"$f":"'COG-M'!P27","v":0},{"$f":"'COG-M'!P28","v":0},{"$f":"'COG-M'!P29","v":0},{"$f":"'COG-M'!P30","v":0},{"$f":"'COG-M'!P31","v":0},{"$f":"'COG-M'!P32","v":0},{"$f":"'COG-M'!P33","v":0},{"$f":"'COG-M'!P34","v":0},{"$f":"SUM(C8:L8)","v":0}]
[1200,"REMUNERACIONES AL PERSONAL DE CARÁCTER TRANSITORIO",{"$f":"SUM(C10:C13)","v":{"v":7924668,"d":"7,924,668"}},{"$f":"SUM(D10:D13)","v":0},0,0,0,0,0,0,0,0,{"v":7924668,"d":"7,924,668"}]
[121,"Honorarios asimilables a salarios",{"$f":"'COG-M'!P36","v":0},{"$f":"'COG-M'!P37","v":0},{"$f":"'COG-M'!P38","v":0},{"$f":"'COG-M'!P39","v":0},{"$f":"'COG-M'!P40","v":0},{"$f":"'COG-M'!P41","v":0},{"$f":"'COG-M'!P42","v":0},{"$f":"'COG-M'!P43","v":0},{"$f":"'COG-M'!P44","v":0},{"$f":"'COG-M'!P45","v":0},{"$f":"SUM(C10:L10)","v":0}]
[122,"Sueldos base al personal eventual",{"$f":"'COG-M'!P46","v":{"v":7924668,"d":"7,924,668"}},{"$f":"'COG-M'!P47","v":0},{"$f":"'COG-M'!P48","v":0},{"$f":"'COG-M'!P49","v":0},{"$f":"'COG-M'!P50","v":0},{"$f":"'COG-M'!P51","v":0},{"$f":"'COG-M'!P52","v":0},{"$f":"'COG-M'!P53","v":0},{"$f":"'COG-M'!P54","v":0},{"$f":"'COG-M'!P55","v":0},{"$f":"SUM(C11:L11)","v":{"v":7924668,"d":"7,924,668"}}]
[123,"Retribuciones por servicios de carácter social",{"$f":"'COG-M'!P56","v":0},{"$f":"'COG-M'!P57","v":0},{"$f":"'COG-M'!P58","v":0},{"$f":"'COG-M'!P59","v":0},{"$f":"'COG-M'!P60","v":0},{"$f":"'COG-M'!P61","v":0},{"$f":"'COG-M'!P62","v":0},{"$f":"'COG-M'!P63","v":0},{"$f":"'COG-M'!P64","v":0},{"$f":"'COG-M'!P65","v":0},{"$f":"SUM(C12:L12)","v":0}]
[124,"Retribución a los representantes de los trabajadores y de los patrones en la Junta de Conciliación y Arbitraje",{"$nulls":10},{"$f":"SUM(C13:L13)","v":0}]
[1300,"REMUNERACIONES ADICIONALES Y ESPECIALES",{"$f":"SUM(C15:C22)","v":{"v":2262000,"d":"2,262,000"}},0,0,0,0,0,0,0,0,0,{"v":2262000,"d":"2,262,000"}]
[131,"Primas por años de servicios efectivos prestados",{"$f":"'COG-M'!P68","v":0},{"$f":"'COG-M'!P69","v":0},{"$f":"'COG-M'!P70","v":0},{"$f":"'COG-M'!P71","v":0},{"$f":"'COG-M'!P72","v":0},{"$f":"'COG-M'!P73","v":0},{"$f":"'COG-M'!P74","v":0},{"$f":"'COG-M'!P75","v":0},{"$f":"'COG-M'!P76","v":0},{"$f":"'COG-M'!P77","v":0},{"$f":"SUM(C15:L15)","v":0}]
[132,"Primas de vacaciones, dominical y gratificación de fin de año",{"$f":"'COG-M'!P78","v":{"v":2262000,"d":"2,262,000"}},{"$f":"'COG-M'!P79","v":0},{"$f":"'COG-M'!P80","v":0},{"$f":"'COG-M'!P81","v":0},{"$f":"'COG-M'!P82","v":0},{"$f":"'COG-M'!P83","v":0},{"$f":"'COG-M'!P84","v":0},{"$f":"'COG-M'!P85","v":0},{"$f":"'COG-M'!P86","v":0},{"$f":"'COG-M'!P87","v":0},{"v":2262000,"d":"2,262,000"}]
[133,"Horas extraordinarias",{"$f":"'COG-M'!P88","v":0},{"$f":"'COG-M'!P89","v":0},{"$f":"'COG-M'!P90","v":0},{"$f":"'COG-M'!P91","v":0},{"$f":"'COG-M'!P92","v":0},{"$f":"'COG-M'!P93","v":0},{"$f":"'COG-M'!P94","v":0},{"$f":"'COG-M'!P95","v":0},{"$f":"'COG-M'!P96","v":0},{"$f":"'COG-M'!P97","v":0},0]
[134,"Compensaciones",{"$f":"'COG-M'!P98","v":0},{"$f":"'COG-M'!P99","v":0},{"$f":"'COG-M'!P100","v":0},{"$f":"'COG-M'!P101","v":0},{"$f":"'COG-M'!P102","v":0},{"$f":"'COG-M'!P103","v":0},{"$f":"'COG-M'!P104","v":0},{"$f":"'COG-M'!P105","v":0},{"$f":"'COG-M'!P106","v":0},{"$f":"'COG-M'!P107","v":0},0]
[135,"Sobrehaberes",{"$nulls":10},0]
[136,"Asignaciones de técnico, de mando, por comisión, de vuelo y de técnico especial",{"$nulls":10},0]
[137,"Honorarios especiales",{"$f":"'COG-M'!P110","v":0},{"$f":"'COG-M'!P111","v":0},{"$f":"'COG-M'!P112","v":0},{"$f":"'COG-M'!P113","v":0},{"$f":"'COG-M'!P114","v":0},{"$f":"'COG-M'!P115","v":0},{"$f":"'COG-M'!P116","v":0},{"$f":"'COG-M'!P117","v":0},{"$f":"'COG-M'!P118","v":0},{"$f":"'COG-M'!P119","v":0},0]
[138,"Participaciones por vigilancia en el cumplimiento de la leyes y custodia de valores",{"$f":"'COG-M'!P120","v":0},{"$f":"'COG-M'!P121","v":0},{"$f":"'COG-M'!P122","v":0},{"$f":"'COG-M'!P123","v":0},{"$f":"'COG-M'!P124","v":0},{"$f":"'COG-M'!P125","v":0},{"$f":"'COG-M'!P126","v":0},{"$f":"'COG-M'!P127","v":0},{"$f":"'COG-M'!P128","v":0},{"$f":"'COG-M'!P129","v":0},0]
[1400,"SEGURIDAD SOCIAL",{"$f":"SUM(C24:C27)","v":0},0,0,0,0,0,0,0,0,0,0]
[141,"Aportaciones de seguridad social",{"$f":"'COG-M'!P131","v":0},{"$f":"'COG-M'!P132","v":0},{"$f":"'COG-M'!P133","v":0},{"$f":"'COG-M'!P134","v":0},{"$f":"'COG-M'!P135","v":0},{"$f":"'COG-M'!P136","v":0},{"$f":"'COG-M'!P137","v":0},{"$f":"'COG-M'!P138","v":0},{"$f":"'COG-M'!P139","v":0},{"$f":"'COG-M'!P140","v":0},{"$f":"SUM(C24:L24)","v":0}]
[142,"Aportaciones a fondos de vivienda",{"$f":"'COG-M'!P141","v":0},{"$f":"'COG-M'!P142","v":0},{"$f":"'COG-M'!P143","v":0},{"$f":"'COG-M'!P144","v":0},{"$f":"'COG-M'!P145","v":0},{"$f":"'COG-M'!P146","v":0},{"$f":"'COG-M'!P147","v":0},{"$f":"'COG-M'!P148","v":0},{"$f":"'COG-M'!P149","v":0},{"$f":"'COG-M'!P150","v":0},{"$f":"SUM(C25:L25)","v":0}]
[143,"Aportaciones al sistema para el retiro",{"$f":"'COG-M'!P151","v":0},{"$f":"'COG-M'!P152","v":0},{"$f":"'COG-M'!P153","v":0},{"$f":"'COG-M'!P154","v":0},{"$f":"'COG-M'!P155","v":0},{"$f":"'COG-M'!P156","v":0},{"$f":"'COG-M'!P157","v":0},{"$f":"'COG-M'!P158","v":0},{"$f":"'COG-M'!P159","v":0},{"$f":"'COG-M'!P160","v":0},{"$f":"SUM(C26:L26)","v":0}]
[144,"Aportaciones para seguros",{"$f":"'COG-M'!P161","v":0},{"$f":"'COG-M'!P162","v":0},{"$f":"'COG-M'!P163","v":0},{"$f":"'COG-M'!P164","v":0},{"$f":"'COG-M'!P165","v":0},{"$f":"'COG-M'!P166","v":0},{"$f":"'COG-M'!P167","v":0},{"$f":"'COG-M'!P168","v":0},{"$f":"'COG-M'!P169","v":0},{"$f":"'COG-M'!P170","v":0},{"$f":"SUM(C27:L27)","v":0}]
[1500,"OTRAS PRESTACIONES SOCIALES Y ECONÓMICAS",{"$f":"SUM(C29:C34)","v":{"v":167148,"d":"167,148"}},0,0,0,0,0,0,0,0,0,{"v":167148,"d":"167,148"}]
[151,"Cuotas para el fondo de ahorro y fondo de trabajo",{"$f":"'COG-M'!P172","v":0},{"$f":"'COG-M'!P173","v":0},{"$f":"'COG-M'!P174","v":0},{"$f":"'COG-M'!P175","v":0},{"$f":"'COG-M'!P176","v":0},{"$f":"'COG-M'!P177","v":0},{"$f":"'COG-M'!P178","v":0},{"$f":"'COG-M'!P179","v":0},{"$f":"'COG-M'!P180","v":0},{"$f":"'COG-M'!P181","v":0},{"$f":"SUM(C29:L29)","v":0}]
[152,"Indemnizaciones",{"$f":"'COG-M'!P182","v":{"v":167148,"d":"167,148"}},{"$f":"'COG-M'!P183","v":0},{"$f":"'COG-M'!P184","v":0},{"$f":"'COG-M'!P185","v":0},{"$f":"'COG-M'!P186","v":0},{"$f":"'COG-M'!P187","v":0},{"$f":"'COG-M'!P188","v":0},{"$f":"'COG-M'!P189","v":0},{"$f":"'COG-M'!P190","v":0},{"$f":"'COG-M'!P191","v":0},{"v":167148,"d":"167,148"}]
[153,"Prestaciones y haberes de retiro",{"$f":"'COG-M'!P192","v":0},{"$f":"'COG-M'!P193","v":0},{"$f":"'COG-M'!P194","v":0},{"$f":"'COG-M'!P195","v":0},{"$f":"'COG-M'!P196","v":0},{"$f":"'COG-M'!P197","v":0},{"$f":"'COG-M'!P198","v":0},{"$f":"'COG-M'!P199","v":0},{"$f":"'COG-M'!P200","v":0},{"$f":"'COG-M'!P201","v":0},0]
[154,"Prestaciones contractuales",{"$f":"'COG-M'!P202","v":0},{"$f":"'COG-M'!P203","v":0},{"$f":"'COG-M'!P204","v":0},{"$f":"'COG-M'!P205","v":0},{"$f":"'COG-M'!P206","v":0},{"$f":"'COG-M'!P207","v":0},{"$f":"'COG-M'!P208","v":0},{"$f":"'COG-M'!P209","v":0},{"$f":"'COG-M'!P210","v":0},{"$f":"'COG-M'!P211","v":0},0]
[155,"Apoyos a la capacitación de los servidores públicos",{"$f":"'COG-M'!P212","v":0},{"$f":"'COG-M'!P213","v":0},{"$f":"'COG-M'!P214","v":0},{"$f":"'COG-M'!P215","v":0},{"$f":"'COG-M'!P216","v":0},{"$f":"'COG-M'!P217","v":0},{"$f":"'COG-M'!P218","v":0},{"$f":"'COG-M'!P219","v":0},{"$f":"'COG-M'!P220","v":0},{"$f":"'COG-M'!P221","v":0},0]
[159,"Otras prestaciones sociales y económicas",{"$f":"'COG-M'!P222","v":0},{"$f":"'COG-M'!P223","v":0},{"$f":"'COG-M'!P224","v":0},{"$f":"'COG-M'!P225","v":0},{"$f":"'COG-M'!P226","v":0},{"$f":"'COG-M'!P227","v":0},{"$f":"'COG-M'!P228","v":0},{"$f":"'COG-M'!P229","v":0},{"$f":"'COG-M'!P230","v":0},{"$f":"'COG-M'!P231","v":0},0]
[1600,"PREVISIONES",{"$f":"SUM(C36)","v":0},0,0,0,0,0,0,0,0,0,0]
[161,"Previsiones de carácter laboral, económica y de seguridad social",{"$f":"'COG-M'!P233","v":0},{"$f":"'COG-M'!P234","v":0},{"$f":"'COG-M'!P235","v":0},{"$f":"'COG-M'!P236","v":0},{"$f":"'COG-M'!P237","v":0},{"$f":"'COG-M'!P238","v":0},{"$f":"'COG-M'!P239","v":0},{"$f":"'COG-M'!P240","v":0},{"$f":"'COG-M'!P241","v":0},{"$f":"'COG-M'!P242","v":0},{"$f":"SUM(C36:L36)","v":0}]
[1700,"PAGO DE ESTÍMULOS A SERVIDORES PÚBLICOS",{"$f":"SUM(C38:C39)","v":0},0,0,0,0,0,0,0,0,0,0]
[171,"Estímulos",{"$f":"'COG-M'!P244","v":0},{"$f":"'COG-M'!P245","v":0},{"$f":"'COG-M'!P246","v":0},{"$f":"'COG-M'!P247","v":0},{"$f":"'COG-M'!P248","v":0},{"$f":"'COG-M'!P249","v":0},{"$f":"'COG-M'!P250","v":0},{"$f":"'COG-M'!P251","v":0},{"$f":"'COG-M'!P252","v":0},{"$f":"'COG-M'!P253","v":0},{"$f":"SUM(C38:L38)","v":0}]
[172,"Recompensas",{"$f":"'COG-M'!P254","v":0},{"$f":"'COG-M'!P255","v":0},{"$f":"'COG-M'!P256","v":0},{"$f":"'COG-M'!P257","v":0},{"$f":"'COG-M'!P258","v":0},{"$f":"'COG-M'!P259","v":0},{"$f":"'COG-M'!P260","v":0},{"$f":"'COG-M'!P261","v":0},{"$f":"'COG-M'!P262","v":0},{"$f":"'COG-M'!P263","v":0},{"$f":"SUM(C39:L39)","v":0}]
[2000,"MATERIALES Y SUMINISTROS",{"$f":"C41+C50+C54+C64+C74+C82+C85+C91+C95","v":{"v":21524220,"d":"21,524,220"}},0,0,0,0,0,0,{"$f":"J41+J50+J54+J64+J74+J82+J85+J91+J95","v":0},{"$f":"K41+K50+K54+K64+K74+K82+K85+K91+K95","v":0},{"$f":"L41+L50+L54+L64+L74+L82+L85+L91+L95","v":0},{"$f":"M41+M50+M54+M64+M74+M82+M85+M91+M95","v":{"v":21524220,"d":"21,524,220"}}]
[2100,"MATERIALES DE ADMINISTRACIÓN, EMISIÓN DE DOCUMENTOS Y ARTÍCULOS OFICIALES",{"$f":"SUM(C42:C49)","v":{"v":1852464,"d":"1,852,464"}},0,0,0,0,0,0,{"$f":"SUM(J42:J49)","v":0},{"$f":"SUM(K42:K49)","v":0},{"$f":"SUM(L42:L49)","v":0},{"$f":"SUM(M42:M49)","v":{"v":1852464,"d":"1,852,464"}}]
[211,"Materiales, útiles y equipos menores de oficina",{"$f":"'COG-M'!P266","v":{"v":611892,"d":"611,892"}},{"$f":"'COG-M'!P267","v":0},{"$f":"'COG-M'!P268","v":0},{"$f":"'COG-M'!P269","v":0},{"$f":"'COG-M'!P270","v":0},{"$f":"'COG-M'!P271","v":0},{"$f":"'COG-M'!P272","v":0},{"$f":"'COG-M'!P273","v":0},{"$f":"'COG-M'!P274","v":0},{"$f":"'COG-M'!P275","v":0},{"$f":"SUM(C42:L42)","v":{"v":611892,"d":"611,892"}}]
[212,"Materiales y útiles de impresión y reproducción",{"$f":"'COG-M'!P276","v":{"v":599712,"d":"599,712"}},{"$f":"'COG-M'!P277","v":0},{"$f":"'COG-M'!P277","v":0},{"$f":"'COG-M'!P279","v":0},{"$f":"'COG-M'!P280","v":0},{"$f":"'COG-M'!P281","v":0},{"$f":"'COG-M'!P282","v":0},{"$f":"'COG-M'!P283","v":0},{"$f":"'COG-M'!P284","v":0},{"$f":"'COG-M'!P285","v":0},{"v":599712,"d":"599,712"}]
[213,"Material estadístico y geográfico",{"$f":"'COG-M'!P286","v":0},{"$f":"'COG-M'!P287","v":0},{"$f":"'COG-M'!P288","v":0},{"$f":"'COG-M'!P289","v":0},{"$f":"'COG-M'!P290","v":0},{"$f":"'COG-M'!P291","v":0},{"$f":"'COG-M'!P292","v":0},{"$f":"'COG-M'!P293","v":0},{"$f":"'COG-M'!P294","v":0},{"$f":"'COG-M'!P295","v":0},0]
[214,"Materiales, útiles y equipos menores de tecnologías de la información y comunicaciones",{"$f":"'COG-M'!P296","v":{"v":171672,"d":"171,672"}},{"$f":"'COG-M'!P297","v":0},{"$f":"'COG-M'!P298","v":0},{"$f":"'COG-M'!P299","v":0},{"$f":"'COG-M'!P300","v":0},{"$f":"'COG-M'!P301","v":0},{"$f":"'COG-M'!P302","v":0},{"$f":"'COG-M'!P303","v":0},{"$f":"'COG-M'!P304","v":0},{"$f":"'COG-M'!P305","v":0},{"v":171672,"d":"171,672"}]
[215,"Material impreso e información digital",{"$f":"'COG-M'!P306","v":0},{"$f":"'COG-M'!P307","v":0},{"$f":"'COG-M'!P308","v":0},{"$f":"'COG-M'!P309","v":0},{"$f":"'COG-M'!P310","v":0},{"$f":"'COG-M'!P311","v":0},{"$f":"'COG-M'!P312","v":0},{"$f":"'COG-M'!P313","v":0},{"$f":"'COG-M'!P314","v":0},{"$f":"'COG-M'!P315","v":0},0]
[216,"Material de limpieza",{"$f":"'COG-M'!P316","v":{"v":452256,"d":"452,256"}},{"$f":"'COG-M'!P317","v":0},{"$f":"'COG-M'!P318","v":0},{"$f":"'COG-M'!P319","v":0},{"$f":"'COG-M'!P320","v":0},{"$f":"'COG-M'!P321","v":0},{"$f":"'COG-M'!P322","v":0},{"$f":"'COG-M'!P323","v":0},{"$f":"'COG-M'!P324","v":0},{"$f":"'COG-M'!P325","v":0},{"v":452256,"d":"452,256"}]
[217,"Materiales y útiles de enseñanza",{"$f":"'COG-M'!P326","v":0},{"$f":"'COG-M'!P327","v":0},{"$f":"'COG-M'!P328","v":0},{"$f":"'COG-M'!P329","v":0},{"$f":"'COG-M'!P330","v":0},{"$f":"'COG-M'!P331","v":0},{"$f":"'COG-M'!P332","v":0},{"$f":"'COG-M'!P333","v":0},{"$f":"'COG-M'!P334","v":0},{"$f":"'COG-M'!P335","v":0},0]
[218,"Materiales para el registro e identificación de bienes y personas",{"$f":"'COG-M'!P336","v":{"v":16932,"d":"16,932"}},{"$f":"'COG-M'!P337","v":0},{"$f":"'COG-M'!P338","v":0},{"$f":"'COG-M'!P339","v":0},{"$f":"'COG-M'!P340","v":0},{"$f":"'COG-M'!P341","v":0},{"$f":"'COG-M'!P342","v":0},{"$f":"'COG-M'!P343","v":0},{"$f":"'COG-M'!P344","v":0},{"$f":"'COG-M'!P345","v":0},{"v":16932,"d":"16,932"}]
[2200,"ALIMENTOS Y UTENSILIOS",{"$f":"SUM(C51:C53)","v":{"v":966084,"d":"966,084"}},0,0,0,0,0,0,{"$f":"SUM(J51:J53)","v":0},{"$f":"SUM(K51:K53)","v":0},{"$f":"SUM(L51:L53)","v":0},{"$f":"SUM(M51:M53)","v":{"v":966084,"d":"966,084"}}]
[221,"Productos alimenticios para personas",{"$f":"'COG-M'!P347","v":{"v":538452,"d":"538,452"}},{"$f":"'COG-M'!P348","v":0},{"$f":"'COG-M'!P349","v":0},{"$f":"'COG-M'!P350","v":0},{"$f":"'COG-M'!P351","v":0},{"$f":"'COG-M'!P352","v":0},{"$f":"'COG-M'!P353","v":0},{"$f":"'COG-M'!P354","v":0},{"$f":"'COG-M'!P355","v":0},{"$f":"'COG-M'!P356","v":0},{"$f":"SUM(C51:L51)","v":{"v":538452,"d":"538,452"}}]
[222,"Productos alimenticios para animales",{"$f":"'COG-M'!P357","v":0},{"$f":"'COG-M'!P358","v":0},{"$f":"'COG-M'!P359","v":0},{"$f":"'COG-M'!P360","v":0},{"$f":"'COG-M'!P361","v":0},{"$f":"'COG-M'!P362","v":0},{"$f":"'COG-M'!P363","v":0},{"$f":"'COG-M'!P364","v":0},{"$f":"'COG-M'!P365","v":0},{"$f":"'COG-M'!P366","v":0},{"$f":"SUM(C52:L52)","v":0}]
[223,"Utensilios para el servicio de alimentación",{"$f":"'COG-M'!P367","v":{"v":427632,"d":"427,632"}},{"$f":"'COG-M'!P368","v":0},{"$f":"'COG-M'!P369","v":0},{"$f":"'COG-M'!P370","v":0},{"$f":"'COG-M'!P371","v":0},{"$f":"'COG-M'!P372","v":0},{"$f":"'COG-M'!P373","v":0},{"$f":"'COG-M'!P374","v":0},{"$f":"'COG-M'!P375","v":0},{"$f":"'COG-M'!P376","v":0},{"$f":"SUM(C53:L53)","v":{"v":427632,"d":"427,632"}}]
[2300,"MATERIAS PRIMAS Y MATERIALES DE PRODUCCIÓN Y COMERCIALIZACIÓN",{"$f":"SUM(C55:C63)","v":0},0,0,0,0,0,0,{"$f":"SUM(J55:J63)","v":0},{"$f":"SUM(K55:K63)","v":0},{"$f":"SUM(L55:L63)","v":0},{"$f":"SUM(M55:M63)","v":0}]
[231,"Productos alimenticios, agropecuarios y forestales adquiridos como materia prima",{"$nulls":10},{"$f":"SUM(C55:L55)","v":0}]
[232,"Insumos textiles adquiridos como materia prima",{"$nulls":10},0]
[233,"Productos de papel, cartón e impresos adquiridos como materia prima",{"$nulls":10},0]
[234,"Combustibles, lubricantes, aditivos, carbón y sus derivados adquiridos como materia prima",{"$nulls":10},0]
[235,"Productos químicos, farmacéuticos y de laboratorio adquiridos como materia prima",{"$nulls":10},0]
[236,"Productos metálicos y a base de minerales no metálicos adquiridos como materia prima",{"$nulls":10},0]
[237,"Productos de cuero, piel, plástico y hule adquiridos como materia prima",{"$nulls":10},0]
[238,"Mercancías adquiridas para su comercialización",{"$nulls":10},0]
[239,"Otros productos adquiridos como materia prima",{"$nulls":10},0]
[2400,"MATERIALES Y ARTÍCULOS DE CONSTRUCCIÓN Y DE REPARACIÓN",{"$f":"SUM(C65:C73)","v":{"v":5118108,"d":"5,118,108"}},0,0,0,0,0,0,{"$f":"SUM(J65:J73)","v":0},{"$f":"SUM(K65:K73)","v":0},{"$f":"SUM(L65:L73)","v":0},{"$f":"SUM(M65:M73)","v":{"v":5118108,"d":"5,118,108"}}]
[241,"Productos minerales no metálicos",{"$f":"'COG-M'!P388","v":{"v":571932,"d":"571,932"}},{"$f":"'COG-M'!P389","v":0},{"$f":"'COG-M'!P390","v":0},{"$f":"'COG-M'!P391","v":0},{"$f":"'COG-M'!P392","v":0},{"$f":"'COG-M'!P393","v":0},{"$f":"'COG-M'!P394","v":0},{"$f":"'COG-M'!P395","v":0},{"$f":"'COG-M'!P396","v":0},{"$f":"'COG-M'!P397","v":0},{"$f":"SUM(C65:L65)","v":{"v":571932,"d":"571,932"}}]
[242,"Cemento y productos de concreto",{"$f":"'COG-M'!P398","v":{"v":2665764,"d":"2,665,764"}},{"$f":"'COG-M'!P399","v":0},{"$f":"'COG-M'!P400","v":0},{"$f":"'COG-M'!P401","v":0},{"$f":"'COG-M'!P402","v":0},{"$f":"'COG-M'!P403","v":0},{"$f":"'COG-M'!P404","v":0},{"$f":"'COG-M'!P405","v":0},{"$f":"'COG-M'!P406","v":0},{"$f":"'COG-M'!P407","v":0},{"v":2665764,"d":"2,665,764"}]
[243,"Cal, yeso y productos de yeso",{"$f":"'COG-M'!P408","v":0},{"$f":"'COG-M'!P409","v":0},{"$f":"'COG-M'!P410","v":0},{"$f":"'COG-M'!P411","v":0},{"$f":"'COG-M'!P412","v":0},{"$f":"'COG-M'!P413","v":0},{"$f":"'COG-M'!P414","v":0},{"$f":"'COG-M'!P415","v":0},{"$f":"'COG-M'!P416","v":0},{"$f":"'COG-M'!P417","v":0},0]
[244,"Madera y productos de madera",{"$f":"'COG-M'!P418","v":{"v":3756,"d":"3,756"}},{"$f":"'COG-M'!P419","v":0},{"$f":"'COG-M'!P420","v":0},{"$f":"'COG-M'!P421","v":0},{"$f":"'COG-M'!P422","v":0},{"$f":"'COG-M'!P423","v":0},{"$f":"'COG-M'!P424","v":0},{"$f":"'COG-M'!P425","v":0},{"$f":"'COG-M'!P426","v":0},{"$f":"'COG-M'!P427","v":0},{"v":3756,"d":"3,756"}]
[245,"Vidrio y productos de vidrio",{"$f":"'COG-M'!P428","v":0},{"$f":"'COG-M'!P429","v":0},{"$f":"'COG-M'!P430","v":0},{"$f":"'COG-M'!P431","v":0},{"$f":"'COG-M'!P432","v":0},{"$f":"'COG-M'!P433","v":0},{"$f":"'COG-M'!P434","v":0},{"$f":"'COG-M'!P435","v":0},{"$f":"'COG-M'!P436","v":0},{"$f":"'COG-M'!P437","v":0},0]
[246,"Material eléctrico y electrónico",{"$f":"'COG-M'!P438","v":{"v":959376,"d":"959,376"}},{"$f":"'COG-M'!P439","v":0},{"$f":"'COG-M'!P440","v":0},{"$f":"'COG-M'!P441","v":0},{"$f":"'COG-M'!P442","v":0},{"$f":"'COG-M'!P443","v":0},{"$f":"'COG-M'!P444","v":0},{"$f":"'COG-M'!P445","v":0},{"$f":"'COG-M'!P446","v":0},{"$f":"'COG-M'!P447","v":0},{"v":959376,"d":"959,376"}]
[247,"Artículos metálicos para la construcción",{"$f":"'COG-M'!P448","v":{"v":299688,"d":"299,688"}},{"$f":"'COG-M'!P449","v":0},{"$f":"'COG-M'!P450","v":0},{"$f":"'COG-M'!P451","v":0},{"$f":"'COG-M'!P452","v":0},{"$f":"'COG-M'!P453","v":0},{"$f":"'COG-M'!P454","v":0},{"$f":"'COG-M'!P455","v":0},{"$f":"'COG-M'!P456","v":0},{"$f":"'COG-M'!P457","v":0},{"v":299688,"d":"299,688"}]
[248,"Materiales complementarios",{"$f":"'COG-M'!P458","v":0},{"$f":"'COG-M'!P459","v":0},{"$f":"'COG-M'!P460","v":0},{"$f":"'COG-M'!P461","v":0},{"$f":"'COG-M'!P462","v":0},{"$f":"'COG-M'!P463","v":0},{"$f":"'COG-M'!P464","v":0},{"$f":"'COG-M'!P465","v":0},{"$f":"'COG-M'!P466","v":0},{"$f":"'COG-M'!P467","v":0},0]
[249,"Otros materiales y artículos de construcción y reparación",{"$f":"'COG-M'!P468","v":{"v":617592,"d":"617,592"}},{"$f":"'COG-M'!P469","v":0},{"$f":"'COG-M'!P470","v":0},{"$f":"'COG-M'!P471","v":0},{"$f":"'COG-M'!P472","v":0},{"$f":"'COG-M'!P473","v":0},{"$f":"'COG-M'!P474","v":0},{"$f":"'COG-M'!P475","v":0},{"$f":"'COG-M'!P476","v":0},{"$f":"'COG-M'!P477","v":0},{"v":617592,"d":"617,592"}]
[2500,"PRODUCTOS QUÍMICOS, FARMACÉUTICOS Y DE LABORATORIO",{"$f":"SUM(C75:C81)","v":{"v":629688,"d":"629,688"}},0,0,0,0,0,0,{"$f":"SUM(J75:J81)","v":0},{"$f":"SUM(K75:K81)","v":0},{"$f":"SUM(L75:L81)","v":0},{"$f":"SUM(M75:M81)","v":{"v":629688,"d":"629,688"}}]
[251,"Productos químicos básicos",{"$f":"'COG-M'!P479","v":0},{"$f":"'COG-M'!P480","v":0},{"$f":"'COG-M'!P481","v":0},{"$f":"'COG-M'!P482","v":0},{"$f":"'COG-M'!P483","v":0},{"$f":"'COG-M'!P484","v":0},{"$f":"'COG-M'!P485","v":0},{"$f":"'COG-M'!P486","v":0},{"$f":"'COG-M'!P487","v":0},{"$f":"'COG-M'!P488","v":0},{"$f":"SUM(C75:L75)","v":0}]
[252,"Fertilizantes, pesticidas y otros agroquímicos",{"$f":"'COG-M'!P489","v":{"v":102756,"d":"102,756"}},{"$f":"'COG-M'!P490","v":0},{"$f":"'COG-M'!P491","v":0},{"$f":"'COG-M'!P492","v":0},{"$f":"'COG-M'!P493","v":0},{"$f":"'COG-M'!P494","v":0},{"$f":"'COG-M'!P495","v":0},{"$f":"'COG-M'!P496","v":0},{"$f":"'COG-M'!P497","v":0},{"$f":"'COG-M'!P498","v":0},{"v":102756,"d":"102,756"}]
[253,"Medicinas y productos farmacéuticos",{"$f":"'COG-M'!P499","v":{"v":208608,"d":"208,608"}},{"$f":"'COG-M'!P500","v":0},{"$f":"'COG-M'!P501","v":0},{"$f":"'COG-M'!P502","v":0},{"$f":"'COG-M'!P503","v":0},{"$f":"'COG-M'!P504","v":0},{"$f":"'COG-M'!P505","v":0},{"$f":"'COG-M'!P506","v":0},{"$f":"'COG-M'!P507","v":0},{"$f":"'COG-M'!P508","v":0},{"v":208608,"d":"208,608"}]
[254,"Materiales, accesorios y suministros médicos",{"$f":"'COG-M'!P509","v":{"v":3660,"d":"3,660"}},{"$f":"'COG-M'!P510","v":0},{"$f":"'COG-M'!P511","v":0},{"$f":"'COG-M'!P512","v":0},{"$f":"'COG-M'!P513","v":0},{"$f":"'COG-M'!P514","v":0},{"$f":"'COG-M'!P515","v":0},{"$f":"'COG-M'!P516","v":0},{"$f":"'COG-M'!P517","v":0},{"$f":"'COG-M'!P518","v":0},{"v":3660,"d":"3,660"}]
[255,"Materiales, accesorios y suministros de laboratorio",{"$f":"'COG-M'!P519","v":0},{"$f":"'COG-M'!P520","v":0},{"$f":"'COG-M'!P521","v":0},{"$f":"'COG-M'!P522","v":0},{"$f":"'COG-M'!P523","v":0},{"$f":"'COG-M'!P524","v":0},{"$f":"'COG-M'!P525","v":0},{"$f":"'COG-M'!P526","v":0},{"$f":"'COG-M'!P527","v":0},{"$f":"'COG-M'!P528","v":0},0]
[256,"Fibras sintéticas, hules plásticos y derivados",{"$f":"'COG-M'!P529","v":{"v":30000,"d":"30,000"}},{"$f":"'COG-M'!P530","v":0},{"$f":"'COG-M'!P531","v":0},{"$f":"'COG-M'!P532","v":0},{"$f":"'COG-M'!P533","v":0},{"$f":"'COG-M'!P534","v":0},{"$f":"'COG-M'!P535","v":0},{"$f":"'COG-M'!P536","v":0},{"$f":"'COG-M'!P537","v":0},{"$f":"'COG-M'!P538","v":0},{"v":30000,"d":"30,000"}]
[259,"Otros productos químicos",{"$f":"'COG-M'!P539","v":{"v":284664,"d":"284,664"}},{"$f":"'COG-M'!P540","v":0},{"$f":"'COG-M'!P541","v":0},{"$f":"'COG-M'!P542","v":0},{"$f":"'COG-M'!P543","v":0},{"$f":"'COG-M'!P544","v":0},{"$f":"'COG-M'!P545","v":0},{"$f":"'COG-M'!P546","v":0},{"$f":"'COG-M'!P547","v":0},{"$f":"'COG-M'!P548","v":0},{"v":284664,"d":"284,664"}]
[2600,"COMBUSTIBLES, LUBRICANTES Y ADITIVOS",{"$f":"SUM(C83:C84)","v":{"v":9791304,"d":"9,791,304"}},0,0,0,0,0,0,{"$f":"SUM(J83:J84)","v":0},{"$f":"SUM(K83:K84)","v":0},{"$f":"SUM(L83:L84)","v":0},{"$f":"SUM(M83:M84)","v":{"v":9791304,"d":"9,791,304"}}]
[261,"Combustibles, lubricantes y aditivos",{"$f":"'COG-M'!P550","v":{"v":9791304,"d":"9,791,304"}},{"$f":"'COG-M'!P551","v":0},{"$f":"'COG-M'!P552","v":0},{"$f":"'COG-M'!P553","v":0},{"$f":"'COG-M'!P554","v":0},{"$f":"'COG-M'!P555","v":0},{"$f":"'COG-M'!P556","v":0},{"$f":"'COG-M'!P557","v":0},{"$f":"'COG-M'!P558","v":0},{"$f":"'COG-M'!P559","v":0},{"$f":"SUM(C83:L83)","v":{"v":9791304,"d":"9,791,304"}}]
[262,"Carbón y sus derivados",{"$f":"'COG-M'!P560","v":0},{"$f":"'COG-M'!P561","v":0},{"$f":"'COG-M'!P562","v":0},{"$f":"'COG-M'!P563","v":0},{"$f":"'COG-M'!P564","v":0},{"$f":"'COG-M'!P565","v":0},{"$f":"'COG-M'!P566","v":0},{"$f":"'COG-M'!P567","v":0},{"$f":"'COG-M'!P568","v":0},{"$f":"'COG-M'!P569","v":0},{"$f":"SUM(C84:L84)","v":0}]
[2700,"VESTUARIO, BLANCOS, PRENDAS DE PROTECCIÓN Y ARTÍCULOS DEPORTIVOS",{"$f":"SUM(C86:C90)","v":{"v":411108,"d":"411,108"}},0,0,0,0,0,0,{"$f":"SUM(J86:J90)","v":0},{"$f":"SUM(K86:K90)","v":0},{"$f":"SUM(L86:L90)","v":0},{"$f":"SUM(M86:M90)","v":{"v":411108,"d":"411,108"}}]
[271,"Vestuario y uniformes",{"$f":"'COG-M'!P571","v":{"v":273168,"d":"273,168"}},{"$f":"'COG-M'!P572","v":0},{"$f":"'COG-M'!P573","v":0},{"$f":"'COG-M'!P574","v":0},{"$f":"'COG-M'!P575","v":0},{"$f":"'COG-M'!P576","v":0},{"$f":"'COG-M'!P577","v":0},{"$f":"'COG-M'!P578","v":0},{"$f":"'COG-M'!P579","v":0},{"$f":"'COG-M'!P580","v":0},{"$f":"SUM(C86:L86)","v":{"v":273168,"d":"273,168"}}]
[272,"Prendas de seguridad y protección personal",{"$f":"'COG-M'!P581","v":0},{"$f":"'COG-M'!P582","v":0},{"$f":"'COG-M'!P583","v":0},{"$f":"'COG-M'!P584","v":0},{"$f":"'COG-M'!P585","v":0},{"$f":"'COG-M'!P586","v":0},{"$f":"'COG-M'!P587","v":0},{"$f":"'COG-M'!P588","v":0},{"$f":"'COG-M'!P589","v":0},{"$f":"'COG-M'!P590","v":0},{"$f":"SUM(C87:L87)","v":0}]
[273,"Artículos deportivos",{"$f":"'COG-M'!P591","v":{"v":137940,"d":"137,940"}},{"$f":"'COG-M'!P592","v":0},{"$f":"'COG-M'!P593","v":0},{"$f":"'COG-M'!P594","v":0},{"$f":"'COG-M'!P595","v":0},{"$f":"'COG-M'!P596","v":0},{"$f":"'COG-M'!P597","v":0},{"$f":"'COG-M'!P598","v":0},{"$f":"'COG-M'!P599","v":0},{"$f":"'COG-M'!P600","v":0},{"$f":"SUM(C88:L88)","v":{"v":137940,"d":"137,940"}}]
[274,"Productos textiles",{"$f":"'COG-M'!P601","v":0},{"$f":"'COG-M'!P602","v":0},{"$f":"'COG-M'!P603","v":0},{"$f":"'COG-M'!P604","v":0},{"$f":"'COG-M'!P605","v":0},{"$f":"'COG-M'!P606","v":0},{"$f":"'COG-M'!P607","v":0},{"$f":"'COG-M'!P608","v":0},{"$f":"'COG-M'!P609","v":0},{"$f":"'COG-M'!P610","v":0},{"$f":"SUM(C89:L89)","v":0}]
[275,"Blancos y otros productos textiles, excepto prendas de vestir",{"$f":"'COG-M'!P611","v":0},{"$f":"'COG-M'!P612","v":0},{"$f":"'COG-M'!P613","v":0},{"$f":"'COG-M'!P614","v":0},{"$f":"'COG-M'!P615","v":0},{"$f":"'COG-M'!P616","v":0},{"$f":"'COG-M'!P617","v":0},{"$f":"'COG-M'!P618","v":0},{"$f":"'COG-M'!P619","v":0},{"$f":"'COG-M'!P620","v":0},{"$f":"SUM(C90:L90)","v":0}]
[2800,"MATERIALES Y SUMINISTROS PARA SEGURIDAD",{"$f":"SUM(C92:C94)","v":{"v":143928,"d":"143,928"}},0,0,0,0,0,0,{"$f":"SUM(J92:J94)","v":0},{"$f":"SUM(K92:K94)","v":0},{"$f":"SUM(L92:L94)","v":0},{"$f":"SUM(M92:M94)","v":{"v":143928,"d":"143,928"}}]
[281,"Sustancias y materiales explosivos",{"$f":"'COG-M'!P622","v":0},{"$f":"'COG-M'!P623","v":0},{"$f":"'COG-M'!P624","v":0},{"$f":"'COG-M'!P625","v":0},{"$f":"'COG-M'!P626","v":0},{"$f":"'COG-M'!P627","v":0},{"$f":"'COG-M'!P628","v":0},{"$f":"'COG-M'!P629","v":0},{"$f":"'COG-M'!P630","v":0},{"$f":"'COG-M'!P631","v":0},{"$f":"SUM(C92:L92)","v":0}]
[282,"Materiales de seguridad pública",{"$f":"'COG-M'!P632","v":{"v":143928,"d":"143,928"}},{"$f":"'COG-M'!P633","v":0},{"$f":"'COG-M'!P634","v":0},{"$f":"'COG-M'!P635","v":0},{"$f":"'COG-M'!P636","v":0},{"$f":"'COG-M'!P637","v":0},{"$f":"'COG-M'!P638","v":0},{"$f":"'COG-M'!P639","v":0},{"$f":"'COG-M'!P640","v":0},{"$f":"'COG-M'!P641","v":0},{"$f":"SUM(C93:L93)","v":{"v":143928,"d":"143,928"}}]
[283,"Prendas de protección para seguridad pública y nacional",{"$f":"'COG-M'!P642","v":0},{"$f":"'COG-M'!P643","v":0},{"$f":"'COG-M'!P644","v":0},{"$f":"'COG-M'!P645","v":0},{"$f":"'COG-M'!P646","v":0},{"$f":"'COG-M'!P647","v":0},{"$f":"'COG-M'!P648","v":0},{"$f":"'COG-M'!P649","v":0},{"$f":"'COG-M'!P650","v":0},{"$f":"'COG-M'!P651","v":0},{"$f":"SUM(C94:L94)","v":0}]
[2900,"HERRAMIENTAS, REFACCIONES Y ACCESORIOS MENORES",{"$f":"SUM(C96:C104)","v":{"v":2611536,"d":"2,611,536"}},0,0,0,0,0,0,{"$f":"SUM(J96:J104)","v":0},{"$f":"SUM(K96:K104)","v":0},{"$f":"SUM(L96:L104)","v":0},{"$f":"SUM(M96:M104)","v":{"v":2611536,"d":"2,611,536"}}]
[291,"Herramientas menores",{"$f":"'COG-M'!P653","v":{"v":484392,"d":"484,392"}},{"$f":"'COG-M'!P654","v":0},{"$f":"'COG-M'!P655","v":0},{"$f":"'COG-M'!P656","v":0},{"$f":"'COG-M'!P657","v":0},{"$f":"'COG-M'!P658","v":0},{"$f":"'COG-M'!P659","v":0},{"$f":"'COG-M'!P660","v":0},{"$f":"'COG-M'!P661","v":0},{"$f":"'COG-M'!P662","v":0},{"$f":"SUM(C96:L96)","v":{"v":484392,"d":"484,392"}}]
[292,"Refacciones y accesorios menores de edificios",{"$f":"'COG-M'!P663","v":{"v":37068,"d":"37,068"}},{"$f":"'COG-M'!P664","v":0},{"$f":"'COG-M'!P665","v":0},{"$f":"'COG-M'!P666","v":0},{"$f":"'COG-M'!P667","v":0},{"$f":"'COG-M'!P668","v":0},{"$f":"'COG-M'!P669","v":0},{"$f":"'COG-M'!P670","v":0},{"$f":"'COG-M'!P671","v":0},{"$f":"'COG-M'!P672","v":0},{"v":37068,"d":"37,068"}]
[293,"Refacciones y accesorios menores de mobiliario  y equipo de administración, educacional y recreativo",{"$f":"'COG-M'!P673","v":{"v":9744,"d":"9,744"}},{"$f":"'COG-M'!P674","v":0},{"$f":"'COG-M'!P675","v":0},{"$f":"'COG-M'!P676","v":0},{"$f":"'COG-M'!P677","v":0},{"$f":"'COG-M'!P678","v":0},{"$f":"'COG-M'!P679","v":0},{"$f":"'COG-M'!P680","v":0},{"$f":"'COG-M'!P681","v":0},{"$f":"'COG-M'!P682","v":0},{"v":9744,"d":"9,744"}]
[294,"Refacciones y accesorios menores de equipo de cómputo y tecnologías de la información",{"$f":"'COG-M'!P683","v":{"v":59760,"d":"59,760"}},{"$f":"'COG-M'!P684","v":0},{"$f":"'COG-M'!P685","v":0},{"$f":"'COG-M'!P686","v":0},{"$f":"'COG-M'!P687","v":0},{"$f":"'COG-M'!P688","v":0},{"$f":"'COG-M'!P689","v":0},{"$f":"'COG-M'!P690","v":0},{"$f":"'COG-M'!P691","v":0},{"$f":"'COG-M'!P692","v":0},{"v":59760,"d":"59,760"}]
[295,"Refacciones y accesorios menores de equipo e instrumental médico y de laboratorio",{"$f":"'COG-M'!P693","v":0},{"$f":"'COG-M'!P694","v":0},{"$f":"'COG-M'!P695","v":0},{"$f":"'COG-M'!P696","v":0},{"$f":"'COG-M'!P697","v":0},{"$f":"'COG-M'!P698","v":0},{"$f":"'COG-M'!P699","v":0},{"$f":"'COG-M'!P700","v":0},{"$f":"'COG-M'!P701","v":0},{"$f":"'COG-M'!P702","v":0},0]
[296,"Refacciones y accesorios menores de equipo de transporte",{"$f":"'COG-M'!P703","v":{"v":1115472,"d":"1,115,472"}},{"$f":"'COG-M'!P704","v":0},{"$f":"'COG-M'!P705","v":0},{"$f":"'COG-M'!P706","v":0},{"$f":"'COG-M'!P707","v":0},{"$f":"'COG-M'!P708","v":0},{"$f":"'COG-M'!P709","v":0},{"$f":"'COG-M'!P710","v":0},{"$f":"'COG-M'!P711","v":0},{"$f":"'COG-M'!P712","v":0},{"v":1115472,"d":"1,115,472"}]
[297,"Refacciones y accesorios menores de equipo de defensa y seguridad",{"$f":"'COG-M'!P713","v":0},{"$f":"'COG-M'!P714","v":0},{"$f":"'COG-M'!P715","v":0},{"$f":"'COG-M'!P716","v":0},{"$f":"'COG-M'!P717","v":0},{"$f":"'COG-M'!P718","v":0},{"$f":"'COG-M'!P719","v":0},{"$f":"'COG-M'!P720","v":0},{"$f":"'COG-M'!P721","v":0},{"$f":"'COG-M'!P722","v":0},0]
[298,"Refacciones y accesorios menores de maquinaria y otros equipos",{"$f":"'COG-M'!P723","v":{"v":905100,"d":"905,100"}},{"$f":"'COG-M'!P724","v":0},{"$f":"'COG-M'!P725","v":0},{"$f":"'COG-M'!P726","v":0},{"$f":"'COG-M'!P727","v":0},{"$f":"'COG-M'!P728","v":0},{"$f":"'COG-M'!P729","v":0},{"$f":"'COG-M'!P730","v":0},{"$f":"'COG-M'!P731","v":0},{"$f":"'COG-M'!P732","v":0},{"v":905100,"d":"905,100"}]
[299,"Refacciones y accesorios menores otros bienes muebles",{"$f":"'COG-M'!P733","v":0},{"$f":"'COG-M'!P734","v":0},{"$f":"'COG-M'!P735","v":0},{"$f":"'COG-M'!P736","v":0},{"$f":"'COG-M'!P737","v":0},{"$f":"'COG-M'!P738","v":0},{"$f":"'COG-M'!P739","v":0},{"$f":"'COG-M'!P740","v":0},{"$f":"'COG-M'!P741","v":0},{"$f":"'COG-M'!P742","v":0},0]
[3000,"SERVICIOS GENERALES",{"$f":"C106+C116+C126+C136+C146+C156+C164+C174+C180","v":{"v":28688652,"d":"28,688,652"}},{"$f":"D106+D116+D126+D136+D146+D156+D164+D174+D180","v":0},0,0,0,0,0,0,0,0,{"v":28688652,"d":"28,688,652"}]
[3100,"SERVICIOS BÁSICOS",{"$f":"SUM(C107:C115)","v":{"v":5368704,"d":"5,368,704"}},{"$f":"SUM(D107:D115)","v":0},0,0,0,0,0,0,0,0,{"v":5368704,"d":"5,368,704"}]
[311,"Energía eléctrica",{"$f":"'COG-M'!P745","v":{"v":4985052,"d":"4,985,052"}},{"$f":"'COG-M'!P746","v":0},{"$f":"'COG-M'!P747","v":0},{"$f":"'COG-M'!P748","v":0},{"$f":"'COG-M'!P749","v":0},{"$f":"'COG-M'!P750","v":0},{"$f":"'COG-M'!P751","v":0},{"$f":"'COG-M'!P752","v":0},{"$f":"'COG-M'!P753","v":0},{"$f":"'COG-M'!P754","v":0},{"$f":"SUM(C107:L107)","v":{"v":4985052,"d":"4,985,052"}}]
[312,"Gas ",{"$f":"'COG-M'!P755","v":{"v":25044,"d":"25,044"}},{"$f":"'COG-M'!P756","v":0},{"$f":"'COG-M'!P757","v":0},{"$f":"'COG-M'!P758","v":0},{"$f":"'COG-M'!P759","v":0},{"$f":"'COG-M'!P760","v":0},{"$f":"'COG-M'!P761","v":0},{"$f":"'COG-M'!P762","v":0},{"$f":"'COG-M'!P763","v":0},{"$f":"'COG-M'!P764","v":0},{"v":25044,"d":"25,044"}]
[313,"Agua",{"$f":"'COG-M'!P765","v":0},{"$f":"'COG-M'!P766","v":0},{"$f":"'COG-M'!P767","v":0},{"$f":"'COG-M'!P768","v":0},{"$f":"'COG-M'!P769","v":0},{"$f":"'COG-M'!P770","v":0},{"$f":"'COG-M'!P771","v":0},{"$f":"'COG-M'!P772","v":0},{"$f":"'COG-M'!P773","v":0},{"$f":"'COG-M'!P774","v":0},0]
[314,"Telefonía tradicional",{"$f":"'COG-M'!P775","v":{"v":146292,"d":"146,292"}},{"$f":"'COG-M'!P776","v":0},{"$f":"'COG-M'!P777","v":0},{"$f":"'COG-M'!P778","v":0},{"$f":"'COG-M'!P779","v":0},{"$f":"'COG-M'!P780","v":0},{"$f":"'COG-M'!P781","v":0},{"$f":"'COG-M'!P782","v":0},{"$f":"'COG-M'!P783","v":0},{"$f":"'COG-M'!P784","v":0},{"v":146292,"d":"146,292"}]
[315,"Telefonía celular",{"$f":"'COG-M'!P785","v":{"v":72420,"d":"72,420"}},{"$f":"'COG-M'!P786","v":0},{"$f":"'COG-M'!P787","v":0},{"$f":"'COG-M'!P788","v":0},{"$f":"'COG-M'!P789","v":0},{"$f":"'COG-M'!P790","v":0},{"$f":"'COG-M'!P791","v":0},{"$f":"'COG-M'!P792","v":0},{"$f":"'COG-M'!P793","v":0},{"$f":"'COG-M'!P794","v":0},{"v":72420,"d":"72,420"}]
[316,"Servicios de telecomunicaciones y satélites",{"$f":"'COG-M'!P795","v":0},{"$f":"'COG-M'!P796","v":0},{"$f":"'COG-M'!P797","v":0},{"$f":"'COG-M'!P798","v":0},{"$f":"'COG-M'!P799","v":0},{"$f":"'COG-M'!P800","v":0},{"$f":"'COG-M'!P801","v":0},{"$f":"'COG-M'!P802","v":0},{"$f":"'COG-M'!P803","v":0},{"$f":"'COG-M'!P804","v":0},0]
[317,"Servicios de acceso de Internet, redes y procesamiento de información",{"$f":"'COG-M'!P805","v":{"v":139368,"d":"139,368"}},{"$f":"'COG-M'!P806","v":0},{"$f":"'COG-M'!P807","v":0},{"$f":"'COG-M'!P808","v":0},{"$f":"'COG-M'!P809","v":0},{"$f":"'COG-M'!P810","v":0},{"$f":"'COG-M'!P811","v":0},{"$f":"'COG-M'!P812","v":0},{"$f":"'COG-M'!P813","v":0},{"$f":"'COG-M'!P814","v":0},{"v":139368,"d":"139,368"}]
[318,"Servicios postales y telegráficos",{"$f":"'COG-M'!P815","v":528},{"$f":"'COG-M'!P816","v":0},{"$f":"'COG-M'!P817","v":0},{"$f":"'COG-M'!P818","v":0},{"$f":"'COG-M'!P819","v":0},{"$f":"'COG-M'!P820","v":0},{"$f":"'COG-M'!P821","v":0},{"$f":"'COG-M'!P822","v":0},{"$f":"'COG-M'!P823","v":0},{"$f":"'COG-M'!P824","v":0},528]
[319,"Servicios integrales y otros servicios",{"$f":"'COG-M'!P825","v":0},{"$f":"'COG-M'!P826","v":0},{"$f":"'COG-M'!P827","v":0},{"$f":"'COG-M'!P828","v":0},{"$f":"'COG-M'!P829","v":0},{"$f":"'COG-M'!P830","v":0},{"$f":"'COG-M'!P831","v":0},{"$f":"'COG-M'!P832","v":0},{"$f":"'COG-M'!P833","v":0},{"$f":"'COG-M'!P834","v":0},0]
[3200,"SERVICIOS DE ARRENDAMIENTO",{"$f":"SUM(C117:C125)","v":{"v":9355956,"d":"9,355,956"}},{"$f":"SUM(D117:D125)","v":0},0,0,0,0,0,0,0,0,{"v":9355956,"d":"9,355,956"}]
[321,"Arrendamiento de terrenos",{"$f":"'COG-M'!P836","v":0},{"$f":"'COG-M'!P837","v":0},{"$f":"'COG-M'!P838","v":0},{"$f":"'COG-M'!P839","v":0},{"$f":"'COG-M'!P840","v":0},{"$f":"'COG-M'!P841","v":0},{"$f":"'COG-M'!P842","v":0},{"$f":"'COG-M'!P843","v":0},{"$f":"'COG-M'!P844","v":0},{"$f":"'COG-M'!P845","v":0},{"$f":"SUM(C117:L117)","v":0}]
[322,"Arrendamiento de edificios",{"$f":"'COG-M'!P846","v":{"v":171000,"d":"171,000"}},{"$f":"'COG-M'!P847","v":0},{"$f":"'COG-M'!P848","v":0},{"$f":"'COG-M'!P849","v":0},{"$f":"'COG-M'!P850","v":0},{"$f":"'COG-M'!P851","v":0},{"$f":"'COG-M'!P852","v":0},{"$f":"'COG-M'!P853","v":0},{"$f":"'COG-M'!P854","v":0},{"$f":"'COG-M'!P855","v":0},{"v":171000,"d":"171,000"}]
[323,"Arrendamiento de mobiliario y equipo de administración, educacional y recreativo",{"$f":"'COG-M'!P856","v":0},{"$f":"'COG-M'!P857","v":0},{"$f":"'COG-M'!P858","v":0},{"$f":"'COG-M'!P859","v":0},{"$f":"'COG-M'!P860","v":0},{"$f":"'COG-M'!P861","v":0},{"$f":"'COG-M'!P862","v":0},{"$f":"'COG-M'!P863","v":0},{"$f":"'COG-M'!P864","v":0},{"$f":"'COG-M'!P865","v":0},0]
[324,"Arrendamiento de equipo e instrumental médico y de laboratorio",{"$f":"'COG-M'!P866","v":0},{"$f":"'COG-M'!P867","v":0},{"$f":"'COG-M'!P868","v":0},{"$f":"'COG-M'!P869","v":0},{"$f":"'COG-M'!P870","v":0},{"$f":"'COG-M'!P871","v":0},{"$f":"'COG-M'!P872","v":0},{"$f":"'COG-M'!P873","v":0},{"$f":"'COG-M'!P874","v":0},{"$f":"'COG-M'!P875","v":0},0]
[325,"Arrendamiento de equipo de transporte",{"$f":"'COG-M'!P876","v":0},{"$f":"'COG-M'!P877","v":0},{"$f":"'COG-M'!P878","v":0},{"$f":"'COG-M'!P879","v":0},{"$f":"'COG-M'!P880","v":0},{"$f":"'COG-M'!P881","v":0},{"$f":"'COG-M'!P882","v":0},{"$f":"'COG-M'!P883","v":0},{"$f":"'COG-M'!P884","v":0},{"$f":"'COG-M'!P885","v":0},0]
[326,"Arrendamiento de maquinaria, otros equipos y herramientas",{"$f":"'COG-M'!P886","v":{"v":9184956,"d":"9,184,956"}},{"$f":"'COG-M'!P887","v":0},{"$f":"'COG-M'!P888","v":0},{"$f":"'COG-M'!P889","v":0},{"$f":"'COG-M'!P890","v":0},{"$f":"'COG-M'!P891","v":0},{"$f":"'COG-M'!P892","v":0},{"$f":"'COG-M'!P893","v":0},{"$f":"'COG-M'!P894","v":0},{"$f":"'COG-M'!P895","v":0},{"v":9184956,"d":"9,184,956"}]
[327,"Arrendamiento de activos intangibles",{"$f":"'COG-M'!P896","v":0},{"$f":"'COG-M'!P897","v":0},{"$f":"'COG-M'!P898","v":0},{"$f":"'COG-M'!P899","v":0},{"$f":"'COG-M'!P900","v":0},{"$f":"'COG-M'!P901","v":0},{"$f":"'COG-M'!P902","v":0},{"$f":"'COG-M'!P903","v":0},{"$f":"'COG-M'!P904","v":0},{"$f":"'COG-M'!P905","v":0},0]
[328,"Arrendamiento financiero",{"$f":"'COG-M'!P906","v":0},{"$f":"'COG-M'!P907","v":0},{"$f":"'COG-M'!P908","v":0},{"$f":"'COG-M'!P909","v":0},{"$f":"'COG-M'!P910","v":0},{"$f":"'COG-M'!P911","v":0},{"$f":"'COG-M'!P912","v":0},{"$f":"'COG-M'!P913","v":0},{"$f":"'COG-M'!P914","v":0},{"$f":"'COG-M'!P915","v":0},0]
[329,"Otros arrendamientos",{"$f":"'COG-M'!P916","v":0},{"$f":"'COG-M'!P917","v":0},{"$f":"'COG-M'!P918","v":0},{"$f":"'COG-M'!P919","v":0},{"$f":"'COG-M'!P920","v":0},{"$f":"'COG-M'!P921","v":0},{"$f":"'COG-M'!P922","v":0},{"$f":"'COG-M'!P923","v":0},{"$f":"'COG-M'!P924","v":0},{"$f":"'COG-M'!P925","v":0},0]
[3300,"SERVICIOS PROFESIONALES, CIENTÍFICOS, TÉCNICOS Y OTROS SERVICIOS",{"$f":"SUM(C127:C135)","v":{"v":1786200,"d":"1,786,200"}},{"$f":"SUM(D127:D135)","v":0},0,0,0,0,0,0,0,0,{"v":1786200,"d":"1,786,200"}]
[331,"Servicios legales, de contabilidad, auditoría y relacionados",{"$f":"'COG-M'!P927","v":{"v":1195776,"d":"1,195,776"}},{"$f":"'COG-M'!P928","v":0},{"$f":"'COG-M'!P929","v":0},{"$f":"'COG-M'!P930","v":0},{"$f":"'COG-M'!P931","v":0},{"$f":"'COG-M'!P932","v":0},{"$f":"'COG-M'!P933","v":0},{"$f":"'COG-M'!P934","v":0},{"$f":"'COG-M'!P935","v":0},{"$f":"'COG-M'!P936","v":0},{"$f":"SUM(C127:L127)","v":{"v":1195776,"d":"1,195,776"}}]
[332,"Servicios de diseño, arquitectura, ingeniería y actividades relacionadas",{"$f":"'COG-M'!P937","v":{"v":31140,"d":"31,140"}},{"$f":"'COG-M'!P938","v":0},{"$f":"'COG-M'!P939","v":0},{"$f":"'COG-M'!P940","v":0},{"$f":"'COG-M'!P941","v":0},{"$f":"'COG-M'!P942","v":0},{"$f":"'COG-M'!P943","v":0},{"$f":"'COG-M'!P944","v":0},{"$f":"'COG-M'!P945","v":0},{"$f":"'COG-M'!P946","v":0},{"v":31140,"d":"31,140"}]
[333,"Servicios de consultoría administrativa, procesos, técnica y en tecnologías de la información",{"$f":"'COG-M'!P947","v":0},{"$f":"'COG-M'!P948","v":0},{"$f":"'COG-M'!P949","v":0},{"$f":"'COG-M'!P950","v":0},{"$f":"'COG-M'!P951","v":0},{"$f":"'COG-M'!P952","v":0},{"$f":"'COG-M'!P953","v":0},{"$f":"'COG-M'!P954","v":0},{"$f":"'COG-M'!P955","v":0},{"$f":"'COG-M'!P956","v":0},0]
[334,"Servicios de capacitación",{"$f":"'COG-M'!P957","v":{"v":389508,"d":"389,508"}},{"$f":"'COG-M'!P958","v":0},{"$f":"'COG-M'!P959","v":0},{"$f":"'COG-M'!P960","v":0},{"$f":"'COG-M'!P961","v":0},{"$f":"'COG-M'!P962","v":0},{"$f":"'COG-M'!P963","v":0},{"$f":"'COG-M'!P964","v":0},{"$f":"'COG-M'!P965","v":0},{"$f":"'COG-M'!P966","v":0},{"v":389508,"d":"389,508"}]
[335,"Servicios de investigación científica y desarrollo",{"$f":"'COG-M'!P967","v":0},{"$f":"'COG-M'!P968","v":0},{"$f":"'COG-M'!P969","v":0},{"$f":"'COG-M'!P970","v":0},{"$f":"'COG-M'!P971","v":0},{"$f":"'COG-M'!P972","v":0},{"$f":"'COG-M'!P973","v":0},{"$f":"'COG-M'!P974","v":0},{"$f":"'COG-M'!P975","v":0},{"$f":"'COG-M'!P976","v":0},0]
[336,"Servicios de apoyo administrativo, traducción, fotocopiado e impresión",{"$f":"'COG-M'!P977","v":{"v":169776,"d":"169,776"}},{"$f":"'COG-M'!P978","v":0},{"$f":"'COG-M'!P979","v":0},{"$f":"'COG-M'!P980","v":0},{"$f":"'COG-M'!P981","v":0},{"$f":"'COG-M'!P982","v":0},{"$f":"'COG-M'!P983","v":0},{"$f":"'COG-M'!P984","v":0},{"$f":"'COG-M'!P985","v":0},{"$f":"'COG-M'!P986","v":0},{"v":169776,"d":"169,776"}]
[337,"Servicios de protección y seguridad",{"$f":"'COG-M'!P987","v":0},{"$f":"'COG-M'!P988","v":0},{"$f":"'COG-M'!P989","v":0},{"$f":"'COG-M'!P990","v":0},{"$f":"'COG-M'!P991","v":0},{"$f":"'COG-M'!P992","v":0},{"$f":"'COG-M'!P993","v":0},{"$f":"'COG-M'!P994","v":0},{"$f":"'COG-M'!P995","v":0},{"$f":"'COG-M'!P996","v":0},0]
[338,"Servicios de vigilancia",{"$f":"'COG-M'!P997","v":0},{"$f":"'COG-M'!P998","v":0},{"$f":"'COG-M'!P999","v":0},{"$f":"'COG-M'!P1000","v":0},{"$f":"'COG-M'!P1001","v":0},{"$f":"'COG-M'!P1002","v":0},{"$f":"'COG-M'!P1003","v":0},{"$f":"'COG-M'!P1004","v":0},{"$f":"'COG-M'!P1005","v":0},{"$f":"'COG-M'!P1006","v":0},0]
[339,"Servicios profesionales, científicos y técnicos integrales",{"$f":"'COG-M'!P1007","v":0},{"$f":"'COG-M'!P1008","v":0},{"$f":"'COG-M'!P1009","v":0},{"$f":"'COG-M'!P1010","v":0},{"$f":"'COG-M'!P1011","v":0},{"$f":"'COG-M'!P1012","v":0},{"$f":"'COG-M'!P1013","v":0},{"$f":"'COG-M'!P1014","v":0},{"$f":"'COG-M'!P1015","v":0},{"$f":"'COG-M'!P1016","v":0},0]
[3400,"SERVICIOS FINANCIEROS, BANCARIOS Y COMERCIALES",{"$f":"SUM(C137:C145)","v":{"v":642672,"d":"642,672"}},{"$f":"SUM(D137:D145)","v":0},0,0,0,0,0,0,0,0,{"v":642672,"d":"642,672"}]
[341,"Servicios financieros y bancarios",{"$f":"'COG-M'!P1018","v":{"v":107568,"d":"107,568"}},{"$f":"'COG-M'!P1019","v":0},{"$f":"'COG-M'!P1020","v":0},{"$f":"'COG-M'!P1021","v":0},{"$f":"'COG-M'!P1022","v":0},{"$f":"'COG-M'!P1023","v":0},{"$f":"'COG-M'!P1024","v":0},{"$f":"'COG-M'!P1025","v":0},{"$f":"'COG-M'!P1026","v":0},{"$f":"'COG-M'!P1027","v":0},{"$f":"SUM(C137:L137)","v":{"v":107568,"d":"107,568"}}]
[342,"Servicios de cobranza, investigación crediticia y similar",{"$f":"'COG-M'!P1028","v":0},{"$f":"'COG-M'!P1029","v":0},{"$f":"'COG-M'!P1030","v":0},{"$f":"'COG-M'!P1031","v":0},{"$f":"'COG-M'!P1032","v":0},{"$f":"'COG-M'!P1033","v":0},{"$f":"'COG-M'!P1034","v":0},{"$f":"'COG-M'!P1035","v":0},{"$f":"'COG-M'!P1036","v":0},{"$f":"'COG-M'!P1037","v":0},0]
[343,"Servicios de recaudación, traslado y custodia de valores",{"$f":"'COG-M'!P1038","v":0},{"$f":"'COG-M'!P1039","v":0},{"$f":"'COG-M'!P1040","v":0},{"$f":"'COG-M'!P1041","v":0},{"$f":"'COG-M'!P1042","v":0},{"$f":"'COG-M'!P1043","v":0},{"$f":"'COG-M'!P1044","v":0},{"$f":"'COG-M'!P1045","v":0},{"$f":"'COG-M'!P1046","v":0},{"$f":"'COG-M'!P1047","v":0},0]
[344,"Seguros de responsabilidad patrimonial y fianzas",{"$f":"'COG-M'!P1048","v":{"v":120000,"d":"120,000"}},{"$f":"'COG-M'!P1049","v":0},{"$f":"'COG-M'!P1050","v":0},{"$f":"'COG-M'!P1051","v":0},{"$f":"'COG-M'!P1052","v":0},{"$f":"'COG-M'!P1053","v":0},{"$f":"'COG-M'!P1054","v":0},{"$f":"'COG-M'!P1055","v":0},{"$f":"'COG-M'!P1056","v":0},{"$f":"'COG-M'!P1057","v":0},{"v":120000,"d":"120,000"}]
[345,"Seguro de bienes patrimoniales",{"$f":"'COG-M'!P1058","v":{"v":219996,"d":"219,996"}},{"$f":"'COG-M'!P1059","v":0},{"$f":"'COG-M'!P1060","v":0},{"$f":"'COG-M'!P1061","v":0},{"$f":"'COG-M'!P1062","v":0},{"$f":"'COG-M'!P1063","v":0},{"$f":"'COG-M'!P1064","v":0},{"$f":"'COG-M'!P1065","v":0},{"$f":"'COG-M'!P1066","v":0},{"$f":"'COG-M'!P1067","v":0},{"v":219996,"d":"219,996"}]
[346,"Almacenaje, envase y embalaje",{"$f":"'COG-M'!P1068","v":0},{"$f":"'COG-M'!P1069","v":0},{"$f":"'COG-M'!P1070","v":0},{"$f":"'COG-M'!P1071","v":0},{"$f":"'COG-M'!P1072","v":0},{"$f":"'COG-M'!P1073","v":0},{"$f":"'COG-M'!P1074","v":0},{"$f":"'COG-M'!P1075","v":0},{"$f":"'COG-M'!P1076","v":0},{"$f":"'COG-M'!P1077","v":0},0]
[347,"Fletes y maniobras",{"$f":"'COG-M'!P1078","v":{"v":187572,"d":"187,572"}},{"$f":"'COG-M'!P1079","v":0},{"$f":"'COG-M'!P1080","v":0},{"$f":"'COG-M'!P1081","v":0},{"$f":"'COG-M'!P1082","v":0},{"$f":"'COG-M'!P1083","v":0},{"$f":"'COG-M'!P1084","v":0},{"$f":"'COG-M'!P1085","v":0},{"$f":"'COG-M'!P1086","v":0},{"$f":"'COG-M'!P1087","v":0},{"v":187572,"d":"187,572"}]
[348,"Comisiones por ventas",{"$f":"'COG-M'!P1088","v":0},{"$f":"'COG-M'!P1089","v":0},{"$f":"'COG-M'!P1090","v":0},{"$f":"'COG-M'!P1091","v":0},{"$f":"'COG-M'!P1092","v":0},{"$f":"'COG-M'!P1093","v":0},{"$f":"'COG-M'!P1094","v":0},{"$f":"'COG-M'!P1095","v":0},{"$f":"'COG-M'!P1096","v":0},{"$f":"'COG-M'!P1097","v":0},0]
[349,"Servicios financieros, bancarios y comerciales integrales",{"$f":"'COG-M'!P1098","v":{"v":7536,"d":"7,536"}},{"$f":"'COG-M'!P1099","v":0},{"$f":"'COG-M'!P1100","v":0},{"$f":"'COG-M'!P1101","v":0},{"$f":"'COG-M'!P1102","v":0},{"$f":"'COG-M'!P1103","v":0},{"$f":"'COG-M'!P1104","v":0},{"$f":"'COG-M'!P1105","v":0},{"$f":"'COG-M'!P1106","v":0},{"$f":"'COG-M'!P1107","v":0},{"v":7536,"d":"7,536"}]
[3500,"SERVICIOS DE INSTALACIÓN, REPARACIÓN, MANTENIMIENTO Y CONSERVACIÓN",{"$f":"SUM(C147:C155)","v":{"v":5236836,"d":"5,236,836"}},{"$f":"SUM(D147:D155)","v":0},0,0,0,0,0,0,0,0,{"v":5236836,"d":"5,236,836"}]
[351,"Conservación y mantenimiento menor de inmuebles",{"$f":"'COG-M'!P1109","v":{"v":1816188,"d":"1,816,188"}},{"$f":"'COG-M'!P1110","v":0},{"$f":"'COG-M'!P1111","v":0},{"$f":"'COG-M'!P1112","v":0},{"$f":"'COG-M'!P1113","v":0},{"$f":"'COG-M'!P1114","v":0},{"$f":"'COG-M'!P1115","v":0},{"$f":"'COG-M'!P1116","v":0},{"$f":"'COG-M'!P1117","v":0},{"$f":"'COG-M'!P1118","v":0},{"$f":"SUM(C147:L147)","v":{"v":1816188,"d":"1,816,188"}}]
[352,"Instalación, reparación y mantenimiento de mobiliario y equipo de administración, educacional y recreativo",{"$f":"'COG-M'!P1119","v":{"v":32712,"d":"32,712"}},{"$f":"'COG-M'!P1120","v":0},{"$f":"'COG-M'!P1121","v":0},{"$f":"'COG-M'!P1122","v":0},{"$f":"'COG-M'!P1123","v":0},{"$f":"'COG-M'!P1124","v":0},{"$f":"'COG-M'!P1125","v":0},{"$f":"'COG-M'!P1126","v":0},{"$f":"'COG-M'!P1127","v":0},{"$f":"'COG-M'!P1128","v":0},{"v":32712,"d":"32,712"}]
[353,"Instalación, reparación y mantenimiento de equipo de cómputo y tecnología de la información",{"$f":"'COG-M'!P1129","v":0},{"$f":"'COG-M'!P1130","v":0},{"$f":"'COG-M'!P1131","v":0},{"$f":"'COG-M'!P1132","v":0},{"$f":"'COG-M'!P1133","v":0},{"$f":"'COG-M'!P1134","v":0},{"$f":"'COG-M'!P1135","v":0},{"$f":"'COG-M'!P1136","v":0},{"$f":"'COG-M'!P1137","v":0},{"$f":"'COG-M'!P1138","v":0},0]
[354,"Instalación, reparación y mantenimiento de equipo e instrumental médico y de laboratorio",{"$f":"'COG-M'!P1139","v":0},{"$f":"'COG-M'!P1140","v":0},{"$f":"'COG-M'!P1141","v":0},{"$f":"'COG-M'!P1142","v":0},{"$f":"'COG-M'!P1143","v":0},{"$f":"'COG-M'!P1144","v":0},{"$f":"'COG-M'!P1145","v":0},{"$f":"'COG-M'!P1146","v":0},{"$f":"'COG-M'!P1147","v":0},{"$f":"'COG-M'!P1148","v":0},0]
[355,"Reparación y mantenimiento de equipo de transporte",{"$f":"'COG-M'!P1149","v":{"v":2399880,"d":"2,399,880"}},{"$f":"'COG-M'!P1150","v":0},{"$f":"'COG-M'!P1151","v":0},{"$f":"'COG-M'!P1152","v":0},{"$f":"'COG-M'!P1153","v":0},{"$f":"'COG-M'!P1154","v":0},{"$f":"'COG-M'!P1155","v":0},{"$f":"'COG-M'!P1156","v":0},{"$f":"'COG-M'!P1157","v":0},{"$f":"'COG-M'!P1158","v":0},{"v":2399880,"d":"2,399,880"}]
[356,"Reparación y mantenimiento de equipo de defensa y seguridad",{"$f":"'COG-M'!P1159","v":0},{"$f":"'COG-M'!P1160","v":0},{"$f":"'COG-M'!P1161","v":0},{"$f":"'COG-M'!P1162","v":0},{"$f":"'COG-M'!P1163","v":0},{"$f":"'COG-M'!P1164","v":0},{"$f":"'COG-M'!P1165","v":0},{"$f":"'COG-M'!P1166","v":0},{"$f":"'COG-M'!P1167","v":0},{"$f":"'COG-M'!P1168","v":0},0]
[357,"Instalación, reparación y mantenimiento de maquinaria, otros equipos y herramienta",{"$f":"'COG-M'!P1169","v":{"v":557088,"d":"557,088"}},{"$f":"'COG-M'!P1170","v":0},{"$f":"'COG-M'!P1171","v":0},{"$f":"'COG-M'!P1172","v":0},{"$f":"'COG-M'!P1173","v":0},{"$f":"'COG-M'!P1174","v":0},{"$f":"'COG-M'!P1175","v":0},{"$f":"'COG-M'!P1176","v":0},{"$f":"'COG-M'!P1177","v":0},{"$f":"'COG-M'!P1178","v":0},{"v":557088,"d":"557,088"}]
[358,"Servicios de limpieza y manejo de desechos",{"$f":"'COG-M'!P1179","v":{"v":247056,"d":"247,056"}},{"$f":"'COG-M'!P1180","v":0},{"$f":"'COG-M'!P1181","v":0},{"$f":"'COG-M'!P1182","v":0},{"$f":"'COG-M'!P1183","v":0},{"$f":"'COG-M'!P1184","v":0},{"$f":"'COG-M'!P1185","v":0},{"$f":"'COG-M'!P1186","v":0},{"$f":"'COG-M'!P1187","v":0},{"$f":"'COG-M'!P1188","v":0},{"v":247056,"d":"247,056"}]
[359,"Servicios de jardinería y fumigación",{"$f":"'COG-M'!P1189","v":{"v":183912,"d":"183,912"}},{"$f":"'COG-M'!P1190","v":0},{"$f":"'COG-M'!P1191","v":0},{"$f":"'COG-M'!P1192","v":0},{"$f":"'COG-M'!P1193","v":0},{"$f":"'COG-M'!P1194","v":0},{"$f":"'COG-M'!P1195","v":0},{"$f":"'COG-M'!P1196","v":0},{"$f":"'COG-M'!P1197","v":0},{"$f":"'COG-M'!P1198","v":0},{"v":183912,"d":"183,912"}]
[3600,"SERVICIOS DE COMUNICACIÓN SOCIAL Y PUBLICIDAD",{"$f":"SUM(C157:C163)","v":{"v":40272,"d":"40,272"}},{"$f":"SUM(D157:D163)","v":0},0,0,0,0,0,0,0,0,{"v":40272,"d":"40,272"}]
[361,"Difusión por radio, televisión y otros medios de mensajes sobre programas y actividades gubernamentales",{"$f":"'COG-M'!P1200","v":{"v":40272,"d":"40,272"}},{"$f":"'COG-M'!P1201","v":0},{"$f":"'COG-M'!P1202","v":0},{"$f":"'COG-M'!P1203","v":0},{"$f":"'COG-M'!P1204","v":0},{"$f":"'COG-M'!P1205","v":0},{"$f":"'COG-M'!P1206","v":0},{"$f":"'COG-M'!P1207","v":0},{"$f":"'COG-M'!P1208","v":0},{"$f":"'COG-M'!P1209","v":0},{"$f":"SUM(C157:L157)","v":{"v":40272,"d":"40,272"}}]
[362,"Difusión por radio,  televisión y otros medios de mensajes comerciales para promover la venta de bienes o servicios",{"$f":"'COG-M'!P1210","v":0},{"$f":"'COG-M'!P1211","v":0},{"$f":"'COG-M'!P1212","v":0},{"$f":"'COG-M'!P1213","v":0},{"$f":"'COG-M'!P1214","v":0},{"$f":"'COG-M'!P1215","v":0},{"$f":"'COG-M'!P1216","v":0},{"$f":"'COG-M'!P1217","v":0},{"$f":"'COG-M'!P1218","v":0},{"$f":"'COG-M'!P1219","v":0},0]
[363,"Servicios de creatividad, preproducción y producción de publicidad, excepto Internet",{"$f":"'COG-M'!P1220","v":0},{"$f":"'COG-M'!P1221","v":0},{"$f":"'COG-M'!P1222","v":0},{"$f":"'COG-M'!P1223","v":0},{"$f":"'COG-M'!P1224","v":0},{"$f":"'COG-M'!P1225","v":0},{"$f":"'COG-M'!P1226","v":0},{"$f":"'COG-M'!P1227","v":0},{"$f":"'COG-M'!P1228","v":0},{"$f":"'COG-M'!P1229","v":0},0]
[364,"Servicios de revelado de  fotografías",{"$f":"'COG-M'!P1230","v":0},{"$f":"'COG-M'!P1231","v":0},{"$f":"'COG-M'!P1232","v":0},{"$f":"'COG-M'!P1233","v":0},{"$f":"'COG-M'!P1234","v":0},{"$f":"'COG-M'!P1235","v":0},{"$f":"'COG-M'!P1236","v":0},{"$f":"'COG-M'!P1237","v":0},{"$f":"'COG-M'!P1238","v":0},{"$f":"'COG-M'!P1239","v":0},0]
[365,"Servicios de la industria fílmica, del sonido y del video",{"$f":"'COG-M'!P1240","v":0},{"$f":"'COG-M'!P1241","v":0},{"$f":"'COG-M'!P1242","v":0},{"$f":"'COG-M'!P1243","v":0},{"$f":"'COG-M'!P1244","v":0},{"$f":"'COG-M'!P1245","v":0},{"$f":"'COG-M'!P1246","v":0},{"$f":"'COG-M'!P1247","v":0},{"$f":"'COG-M'!P1248","v":0},{"$f":"'COG-M'!P1249","v":0},0]
[366,"Servicio de creación y difusión de contenido exclusivamente a través de Internet",{"$f":"'COG-M'!P1250","v":0},{"$f":"'COG-M'!P1251","v":0},{"$f":"'COG-M'!P1252","v":0},{"$f":"'COG-M'!P1253","v":0},{"$f":"'COG-M'!P1254","v":0},{"$f":"'COG-M'!P1255","v":0},{"$f":"'COG-M'!P1256","v":0},{"$f":"'COG-M'!P1257","v":0},{"$f":"'COG-M'!P1258","v":0},{"$f":"'COG-M'!P1259","v":0},0]
[369,"Otros servicios de información",{"$f":"'COG-M'!P1260","v":0},{"$f":"'COG-M'!P1261","v":0},{"$f":"'COG-M'!P1262","v":0},{"$f":"'COG-M'!P1263","v":0},{"$f":"'COG-M'!P1264","v":0},{"$f":"'COG-M'!P1265","v":0},{"$f":"'COG-M'!P1266","v":0},{"$f":"'COG-M'!P1267","v":0},{"$f":"'COG-M'!P1268","v":0},{"$f":"'COG-M'!P1269","v":0},0]
[3700,"SERVICIOS DE TRASLADO Y VIÁTICOS",{"$f":"SUM(C165:C173)","v":{"v":1063620,"d":"1,063,620"}},{"$f":"SUM(D165:D173)","v":0},0,0,0,0,0,0,0,0,{"$f":"SUM(M165:M173)","v":{"v":1063620,"d":"1,063,620"}}]
[371,"Pasajes aéreos",{"$f":"'COG-M'!P1271","v":0},{"$f":"'COG-M'!P1272","v":0},{"$f":"'COG-M'!P1273","v":0},{"$f":"'COG-M'!P1274","v":0},{"$f":"'COG-M'!P1275","v":0},{"$f":"'COG-M'!P1276","v":0},{"$f":"'COG-M'!P1277","v":0},{"$f":"'COG-M'!P1278","v":0},{"$f":"'COG-M'!P1279","v":0},{"$f":"'COG-M'!P1280","v":0},{"$f":"SUM(C165:L165)","v":0}]
[372,"Pasajes terrestres",{"$f":"'COG-M'!P1281","v":0},{"$f":"'COG-M'!P1282","v":0},{"$f":"'COG-M'!P1283","v":0},{"$f":"'COG-M'!P1284","v":0},{"$f":"'COG-M'!P1285","v":0},{"$f":"'COG-M'!P1286","v":0},{"$f":"'COG-M'!P1287","v":0},{"$f":"'COG-M'!P1288","v":0},{"$f":"'COG-M'!P1289","v":0},{"$f":"'COG-M'!P1290","v":0},0]
[373,"Pasajes marítimos, lacustres y fluviales",{"$f":"'COG-M'!P1291","v":0},{"$f":"'COG-M'!P1292","v":0},{"$f":"'COG-M'!P1293","v":0},{"$f":"'COG-M'!P1294","v":0},{"$f":"'COG-M'!P1295","v":0},{"$f":"'COG-M'!P1296","v":0},{"$f":"'COG-M'!P1297","v":0},{"$f":"'COG-M'!P1298","v":0},{"$f":"'COG-M'!P1299","v":0},{"$f":"'COG-M'!P1300","v":0},0]
[374,"Autotransporte",{"$f":"'COG-M'!P1301","v":0},{"$f":"'COG-M'!P1302","v":0},{"$f":"'COG-M'!P1303","v":0},{"$f":"'COG-M'!P1304","v":0},{"$f":"'COG-M'!P1305","v":0},{"$f":"'COG-M'!P1306","v":0},{"$f":"'COG-M'!P1307","v":0},{"$f":"'COG-M'!P1308","v":0},{"$f":"'COG-M'!P1309","v":0},{"$f":"'COG-M'!P1310","v":0},0]
[375,"Viáticos en el país",{"$f":"'COG-M'!P1311","v":{"v":1063620,"d":"1,063,620"}},{"$f":"'COG-M'!P1312","v":0},{"$f":"'COG-M'!P1313","v":0},{"$f":"'COG-M'!P1314","v":0},{"$f":"'COG-M'!P1315","v":0},{"$f":"'COG-M'!P1316","v":0},{"$f":"'COG-M'!P1317","v":0},{"$f":"'COG-M'!P1318","v":0},{"$f":"'COG-M'!P1319","v":0},{"$f":"'COG-M'!P1320","v":0},{"v":1063620,"d":"1,063,620"}]
[376,"Viáticos en el extranjero ",{"$f":"'COG-M'!P1321","v":0},{"$f":"'COG-M'!P1322","v":0},{"$f":"'COG-M'!P1323","v":0},{"$f":"'COG-M'!P1324","v":0},{"$f":"'COG-M'!P1325","v":0},{"$f":"'COG-M'!P1326","v":0},{"$f":"'COG-M'!P1327","v":0},{"$f":"'COG-M'!P1328","v":0},{"$f":"'COG-M'!P1329","v":0},{"$f":"'COG-M'!P1330","v":0},0]
[377,"Gastos de instalación y traslado de menaje",{"$f":"'COG-M'!P1331","v":0},{"$f":"'COG-M'!P1332","v":0},{"$f":"'COG-M'!P1333","v":0},{"$f":"'COG-M'!P1334","v":0},{"$f":"'COG-M'!P1335","v":0},{"$f":"'COG-M'!P1336","v":0},{"$f":"'COG-M'!P1337","v":0},{"$f":"'COG-M'!P1338","v":0},{"$f":"'COG-M'!P1339","v":0},{"$f":"'COG-M'!P1340","v":0},0]
[378,"Servicios integrales de traslado y viáticos",{"$f":"'COG-M'!P1341","v":0},{"$f":"'COG-M'!P1342","v":0},{"$f":"'COG-M'!P1343","v":0},{"$f":"'COG-M'!P1344","v":0},{"$f":"'COG-M'!P1345","v":0},{"$f":"'COG-M'!P1346","v":0},{"$f":"'COG-M'!P1347","v":0},{"$f":"'COG-M'!P1348","v":0},{"$f":"'COG-M'!P1349","v":0},{"$f":"'COG-M'!P1350","v":0},0]
[379,"Otros servicios de traslado y hospedaje",{"$f":"'COG-M'!P1351","v":0},{"$f":"'COG-M'!P1352","v":0},{"$f":"'COG-M'!P1353","v":0},{"$f":"'COG-M'!P1354","v":0},{"$f":"'COG-M'!P1355","v":0},{"$f":"'COG-M'!P1356","v":0},{"$f":"'COG-M'!P1357","v":0},{"$f":"'COG-M'!P1358","v":0},{"$f":"'COG-M'!P1359","v":0},{"$f":"'COG-M'!P1360","v":0},0]
[3800,"SERVICIOS OFICIALES",{"$f":"SUM(C175:C179)","v":{"v":2825100,"d":"2,825,100"}},{"$f":"SUM(D175:D179)","v":0},0,0,0,0,0,0,0,0,{"v":2825100,"d":"2,825,100"}]
[381,"Gastos de ceremonial",{"$f":"'COG-M'!P1362","v":0},{"$f":"'COG-M'!P1363","v":0},{"$f":"'COG-M'!P1364","v":0},{"$f":"'COG-M'!P1365","v":0},{"$f":"'COG-M'!P1366","v":0},{"$f":"'COG-M'!P1367","v":0},{"$f":"'COG-M'!P1368","v":0},{"$f":"'COG-M'!P1369","v":0},{"$f":"'COG-M'!P1370","v":0},{"$f":"'COG-M'!P1371","v":0},{"$f":"SUM(C175:L175)","v":0}]
[382,"Gastos de orden  social y cultural",{"$f":"'COG-M'!P1372","v":{"v":2825100,"d":"2,825,100"}},{"$f":"'COG-M'!P1373","v":0},{"$f":"'COG-M'!P1374","v":0},{"$f":"'COG-M'!P1375","v":0},{"$f":"'COG-M'!P1376","v":0},{"$f":"'COG-M'!P1377","v":0},{"$f":"'COG-M'!P1378","v":0},{"$f":"'COG-M'!P1379","v":0},{"$f":"'COG-M'!P1380","v":0},{"$f":"'COG-M'!P1381","v":0},{"$f":"SUM(C176:L176)","v":{"v":2825100,"d":"2,825,100"}}]
[383,"Congresos y convenciones",{"$f":"'COG-M'!P1382","v":0},{"$f":"'COG-M'!P1383","v":0},{"$f":"'COG-M'!P1384","v":0},{"$f":"'COG-M'!P1385","v":0},{"$f":"'COG-M'!P1386","v":0},{"$f":"'COG-M'!P1387","v":0},{"$f":"'COG-M'!P1388","v":0},{"$f":"'COG-M'!P1389","v":0},{"$f":"'COG-M'!P1390","v":0},{"$f":"'COG-M'!P1391","v":0},{"$f":"SUM(C177:L177)","v":0}]
[384,"Exposiciones",{"$f":"'COG-M'!P1392","v":0},{"$f":"'COG-M'!P1393","v":0},{"$f":"'COG-M'!P1394","v":0},{"$f":"'COG-M'!P1395","v":0},{"$f":"'COG-M'!P1396","v":0},{"$f":"'COG-M'!P1397","v":0},{"$f":"'COG-M'!P1398","v":0},{"$f":"'COG-M'!P1399","v":0},{"$f":"'COG-M'!P1400","v":0},{"$f":"'COG-M'!P1401","v":0},{"$f":"SUM(C178:L178)","v":0}]
[385,"Gastos de representación",{"$f":"'COG-M'!P1402","v":0},{"$f":"'COG-M'!P1403","v":0},{"$f":"'COG-M'!P1404","v":0},{"$f":"'COG-M'!P1405","v":0},{"$f":"'COG-M'!P1406","v":0},{"$f":"'COG-M'!P1407","v":0},{"$f":"'COG-M'!P1408","v":0},{"$f":"'COG-M'!P1409","v":0},{"$f":"'COG-M'!P1410","v":0},{"$f":"'COG-M'!P1411","v":0},{"$f":"SUM(C179:L179)","v":0}]
[3900,"OTROS SERVICIOS GENERALES",{"$f":"SUM(C181:C189)","v":{"v":2369292,"d":"2,369,292"}},{"$f":"SUM(D181:D189)","v":0},0,0,0,0,0,0,0,0,{"v":2369292,"d":"2,369,292"}]
[391,"Servicios funerarios y de cementerios",{"$f":"'COG-M'!P1413","v":{"v":240000,"d":"240,000"}},{"$f":"'COG-M'!P1414","v":0},{"$f":"'COG-M'!P1415","v":0},{"$f":"'COG-M'!P1416","v":0},{"$f":"'COG-M'!P1417","v":0},{"$f":"'COG-M'!P1418","v":0},{"$f":"'COG-M'!P1419","v":0},{"$f":"'COG-M'!P1420","v":0},{"$f":"'COG-M'!P1421","v":0},{"$f":"'COG-M'!P1422","v":0},{"$f":"SUM(C181:L181)","v":{"v":240000,"d":"240,000"}}]
[392,"Impuestos y derechos",{"$f":"'COG-M'!P1423","v":{"v":349296,"d":"349,296"}},{"$f":"'COG-M'!P1424","v":0},{"$f":"'COG-M'!P1425","v":0},{"$f":"'COG-M'!P1426","v":0},{"$f":"'COG-M'!P1427","v":0},{"$f":"'COG-M'!P1428","v":0},{"$f":"'COG-M'!P1429","v":0},{"$f":"'COG-M'!P1430","v":0},{"$f":"'COG-M'!P1431","v":0},{"$f":"'COG-M'!P1432","v":0},{"v":349296,"d":"349,296"}]
[393,"Impuestos y derechos de importación",{"$f":"'COG-M'!P1433","v":0},{"$f":"'COG-M'!P1434","v":0},{"$f":"'COG-M'!P1435","v":0},{"$f":"'COG-M'!P1436","v":0},{"$f":"'COG-M'!P1437","v":0},{"$f":"'COG-M'!P1438","v":0},{"$f":"'COG-M'!P1439","v":0},{"$f":"'COG-M'!P1440","v":0},{"$f":"'COG-M'!P1441","v":0},{"$f":"'COG-M'!P1442","v":0},0]
[394,"Sentencias y resoluciones por autoridad competente",{"$f":"'COG-M'!P1443","v":0},{"$f":"'COG-M'!P1444","v":0},{"$f":"'COG-M'!P1445","v":0},{"$f":"'COG-M'!P1446","v":0},{"$f":"'COG-M'!P1447","v":0},{"$f":"'COG-M'!P1448","v":0},{"$f":"'COG-M'!P1449","v":0},{"$f":"'COG-M'!P1450","v":0},{"$f":"'COG-M'!P1451","v":0},{"$f":"'COG-M'!P1452","v":0},0]
[395,"Penas, multas, accesorios y actualizaciones",{"$f":"'COG-M'!P1453","v":{"v":180000,"d":"180,000"}},{"$f":"'COG-M'!P1454","v":0},{"$f":"'COG-M'!P1455","v":0},{"$f":"'COG-M'!P1456","v":0},{"$f":"'COG-M'!P1457","v":0},{"$f":"'COG-M'!P1458","v":0},{"$f":"'COG-M'!P1459","v":0},{"$f":"'COG-M'!P1460","v":0},{"$f":"'COG-M'!P1461","v":0},{"$f":"'COG-M'!P1462","v":0},{"v":180000,"d":"180,000"}]
[396,"Otros gastos por responsabilidades",{"$f":"'COG-M'!P1463","v":0},{"$f":"'COG-M'!P1464","v":0},{"$f":"'COG-M'!P1465","v":0},{"$f":"'COG-M'!P1466","v":0},{"$f":"'COG-M'!P1467","v":0},{"$f":"'COG-M'!P1468","v":0},{"$f":"'COG-M'!P1469","v":0},{"$f":"'COG-M'!P1470","v":0},{"$f":"'COG-M'!P1471","v":0},{"$f":"'COG-M'!P1472","v":0},0]
[397,"Utilidades",{"$nulls":10},0]
[398,"Impuesto sobre nómina y otros que se deriven de una relación laboral",{"$f":"'COG-M'!P1474","v":{"v":1599996,"d":"1,599,996"}},{"$f":"'COG-M'!P1475","v":0},{"$f":"'COG-M'!P1476","v":0},{"$f":"'COG-M'!P1477","v":0},{"$f":"'COG-M'!P1478","v":0},{"$f":"'COG-M'!P1479","v":0},{"$f":"'COG-M'!P1480","v":0},{"$f":"'COG-M'!P1481","v":0},{"$f":"'COG-M'!P1482","v":0},{"$f":"'COG-M'!P1483","v":0},{"v":1599996,"d":"1,599,996"}]
[399,"Otros servicios generales",{"$f":"'COG-M'!P1484","v":0},{"$f":"'COG-M'!P1485","v":0},{"$f":"'COG-M'!P1486","v":0},{"$f":"'COG-M'!P1487","v":0},{"$f":"'COG-M'!P1488","v":0},{"$f":"'COG-M'!P1489","v":0},{"$f":"'COG-M'!P1490","v":0},{"$f":"'COG-M'!P1491","v":0},{"$f":"'COG-M'!P1492","v":0},{"$f":"'COG-M'!P1493","v":0},0]
[4000,"TRANSFERENCIAS, ASIGNACIONES, SUBSIDIOS Y OTRAS  AYUDAS",{"$f":"C191+C201+C207+C217+C226+C230+C238+C240+C246","v":{"v":8791056,"d":"8,791,056"}},{"$f":"D191+D201+D207+D217+D226+D230+D238+D240+D246","v":0},0,0,0,0,0,0,0,0,{"v":8791056,"d":"8,791,056"}]
[4100,"TRANSFERENCIAS INTERNAS Y ASIGNACIONES AL SECTOR PÚBLICO",{"$f":"SUM(C192:C200)","v":0},{"$f":"SUM(D192:D200)","v":0},0,0,0,0,0,0,0,0,0]
[411,"Asignaciones presupuestarias al Poder Ejecutivo",{"$nulls":10},{"$f":"SUM(C192:L192)","v":0}]
[412,"Asignaciones presupuestarias al Poder Legislativo",{"$nulls":10},0]
[413,"Asignaciones presupuestarias al Poder Judicial",{"$nulls":10},0]
[414,"Asignaciones presupuestarias a Órganos Autónomos",{"$nulls":10},0]
[415,"Transferencias internas otorgadas a entidades paraestatales no empresariales y no financieras",{"$f":"'COG-M'!P1500","v":0},{"$f":"'COG-M'!P1501","v":0},{"$f":"'COG-M'!P1502","v":0},{"$f":"'COG-M'!P1503","v":0},{"$f":"'COG-M'!P1504","v":0},{"$f":"'COG-M'!P1505","v":0},{"$f":"'COG-M'!P1506","v":0},{"$f":"'COG-M'!P1507","v":0},{"$f":"'COG-M'!P1508","v":0},{"$f":"'COG-M'!P1509","v":0},0]
[416,"Transferencias internas otorgadas a entidades paraestatales empresariales y no financieras",{"$nulls":10},0]
[417,"Transferencias internas otorgadas a fideicomisos públicos empresariales y no financieros",{"$f":"'COG-M'!P1511","v":0},{"$f":"'COG-M'!P1512","v":0},{"$f":"'COG-M'!P1513","v":0},{"$f":"'COG-M'!P1514","v":0},{"$f":"'COG-M'!P1515","v":0},{"$f":"'COG-M'!P1516","v":0},{"$f":"'COG-M'!P1517","v":0},{"$f":"'COG-M'!P1518","v":0},{"$f":"'COG-M'!P1519","v":0},{"$f":"'COG-M'!P1520","v":0},0]
[418,"Transferencias internas otorgadas a instituciones paraestatales públicas financieras",{"$nulls":10},0]
[419,"Transferencias internas otorgadas a fideicomisos públicos financieros",{"$nulls":10},0]
[4200,"TRANSFERENCIAS AL RESTO DEL SECTOR PÚBLICO",{"$f":"SUM(C202:C206)","v":{"v":764832,"d":"764,832"}},{"$f":"SUM(D202:D206)","v":0},0,0,0,0,0,0,0,0,{"$f":"SUM(M202:M206)","v":{"v":764832,"d":"764,832"}}]
[421,"Transferencias otorgadas a entidades paraestatales no empresariales y no financieras",{"$f":"'COG-M'!P1524","v":{"v":764832,"d":"764,832"}},{"$f":"'COG-M'!P1525","v":0},{"$f":"'COG-M'!P1526","v":0},{"$f":"'COG-M'!P1527","v":0},{"$f":"'COG-M'!P1528","v":0},{"$f":"'COG-M'!P1529","v":0},{"$f":"'COG-M'!P1530","v":0},{"$f":"'COG-M'!P1531","v":0},{"$f":"'COG-M'!P1532","v":0},{"$f":"'COG-M'!P1533","v":0},{"$f":"SUM(C202:L202)","v":{"v":764832,"d":"764,832"}}]
[422,"Transferencias otorgadas para entidades paraestatales empresariales y no financieras",{"$nulls":10},{"$f":"SUM(C203:L203)","v":0}]
[423,"Transferencias otorgadas para instituciones paraestatales públicas financieras  ",{"$nulls":10},{"$f":"SUM(C204:L204)","v":0}]
[424,"Transferencias otorgadas a entidades federativas y municipios",{"$nulls":10},{"$f":"SUM(C205:L205)","v":0}]
[425,"Transferencias a fideicomisos de entidades federativas y municipios",{"$nulls":10},{"$f":"SUM(C206:L206)","v":0}]
[4300,"SUBSIDIOS Y SUBVENCIONES",{"$f":"SUM(C208:C216)","v":0},{"$f":"SUM(D208:D216)","v":0},0,0,0,0,0,0,0,0,0]
[431,"Subsidios a la producción",{"$f":"'COG-M'!P1539","v":0},{"$f":"'COG-M'!P1540","v":0},{"$f":"'COG-M'!P1541","v":0},{"$f":"'COG-M'!P1542","v":0},{"$f":"'COG-M'!P1543","v":0},{"$f":"'COG-M'!P1544","v":0},{"$f":"'COG-M'!P1545","v":0},{"$f":"'COG-M'!P1546","v":0},{"$f":"'COG-M'!P1547","v":0},{"$f":"'COG-M'!P1548","v":0},{"$f":"SUM(C208:L208)","v":0}]
[432,"Subsidios a la distribución",{"$f":"'COG-M'!P1549","v":0},{"$f":"'COG-M'!P1550","v":0},{"$f":"'COG-M'!P1551","v":0},{"$f":"'COG-M'!P1552","v":0},{"$f":"'COG-M'!P1553","v":0},{"$f":"'COG-M'!P1554","v":0},{"$f":"'COG-M'!P1555","v":0},{"$f":"'COG-M'!P1556","v":0},{"$f":"'COG-M'!P1557","v":0},{"$f":"'COG-M'!P1558","v":0},0]
[433,"Subsidios a la inversión",{"$f":"'COG-M'!P1559","v":0},{"$f":"'COG-M'!P1560","v":0},{"$f":"'COG-M'!P1561","v":0},{"$f":"'COG-M'!P1562","v":0},{"$f":"'COG-M'!P1563","v":0},{"$f":"'COG-M'!P1564","v":0},{"$f":"'COG-M'!P1565","v":0},{"$f":"'COG-M'!P1566","v":0},{"$f":"'COG-M'!P1567","v":0},{"$f":"'COG-M'!P1568","v":0},0]
[434,"Subsidios a la prestación de servicios públicos",{"$f":"'COG-M'!P1569","v":0},{"$f":"'COG-M'!P1570","v":0},{"$f":"'COG-M'!P1571","v":0},{"$f":"'COG-M'!P1572","v":0},{"$f":"'COG-M'!P1573","v":0},{"$f":"'COG-M'!P1574","v":0},{"$f":"'COG-M'!P1575","v":0},{"$f":"'COG-M'!P1576","v":0},{"$f":"'COG-M'!P1577","v":0},{"$f":"'COG-M'!P1578","v":0},0]
[435,"Subsidios para cubrir diferenciales de tasas de interés",{"$f":"'COG-M'!P1579","v":0},{"$f":"'COG-M'!P1580","v":0},{"$f":"'COG-M'!P1581","v":0},{"$f":"'COG-M'!P1582","v":0},{"$f":"'COG-M'!P1583","v":0},{"$f":"'COG-M'!P1584","v":0},{"$f":"'COG-M'!P1585","v":0},{"$f":"'COG-M'!P1586","v":0},{"$f":"'COG-M'!P1587","v":0},{"$f":"'COG-M'!P1588","v":0},0]
[436,"Subsidios a la vivienda ",{"$f":"'COG-M'!P1589","v":0},{"$f":"'COG-M'!P1590","v":0},{"$f":"'COG-M'!P1591","v":0},{"$f":"'COG-M'!P1592","v":0},{"$f":"'COG-M'!P1593","v":0},{"$f":"'COG-M'!P1594","v":0},{"$f":"'COG-M'!P1595","v":0},{"$f":"'COG-M'!P1596","v":0},{"$f":"'COG-M'!P1597","v":0},{"$f":"'COG-M'!P1598","v":0},0]
[437,"Subvenciones al consumo",{"$f":"'COG-M'!P1599","v":0},{"$f":"'COG-M'!P1600","v":0},{"$f":"'COG-M'!P1601","v":0},{"$f":"'COG-M'!P1602","v":0},{"$f":"'COG-M'!P1603","v":0},{"$f":"'COG-M'!P1604","v":0},{"$f":"'COG-M'!P1605","v":0},{"$f":"'COG-M'!P1606","v":0},{"$f":"'COG-M'!P1607","v":0},{"$f":"'COG-M'!P1608","v":0},0]
[438,"Subsidios a entidades federativas y municipios",{"$nulls":10},0]
[439,"Otros subsidios",{"$f":"'COG-M'!P1610","v":0},{"$f":"'COG-M'!P1611","v":0},{"$f":"'COG-M'!P1612","v":0},{"$f":"'COG-M'!P1613","v":0},{"$f":"'COG-M'!P1614","v":0},{"$f":"'COG-M'!P1615","v":0},{"$f":"'COG-M'!P1616","v":0},{"$f":"'COG-M'!P1617","v":0},{"$f":"'COG-M'!P1618","v":0},{"$f":"'COG-M'!P1619","v":0},0]
[4400,"AYUDAS SOCIALES",{"$f":"SUM(C218:C225)","v":{"v":7879128,"d":"7,879,128"}},{"$f":"SUM(D218:D225)","v":0},0,0,0,0,0,0,0,0,{"v":7879128,"d":"7,879,128"}]
[441,"Ayudas sociales a personas ",{"$f":"'COG-M'!P1621","v":{"v":6882480,"d":"6,882,480"}},{"$f":"'COG-M'!P1622","v":0},{"$f":"'COG-M'!P1623","v":0},{"$f":"'COG-M'!P1624","v":0},{"$f":"'COG-M'!P1625","v":0},{"$f":"'COG-M'!P1626","v":0},{"$f":"'COG-M'!P1627","v":0},{"$f":"'COG-M'!P1628","v":0},{"$f":"'COG-M'!P1629","v":0},{"$f":"'COG-M'!P1630","v":0},{"$f":"SUM(C218:L218)","v":{"v":6882480,"d":"6,882,480"}}]
[442,"Becas y otras ayudas para programas de capacitación",{"$f":"'COG-M'!P1631","v":0},{"$f":"'COG-M'!P1632","v":0},{"$f":"'COG-M'!P1633","v":0},{"$f":"'COG-M'!P1634","v":0},{"$f":"'COG-M'!P1635","v":0},{"$f":"'COG-M'!P1636","v":0},{"$f":"'COG-M'!P1637","v":0},{"$f":"'COG-M'!P1638","v":0},{"$f":"'COG-M'!P1639","v":0},{"$f":"'COG-M'!P1640","v":0},0]
[443,"Ayudas sociales a instituciones de enseñanza",{"$f":"'COG-M'!P1641","v":{"v":829824,"d":"829,824"}},{"$f":"'COG-M'!P1642","v":0},{"$f":"'COG-M'!P1643","v":0},{"$f":"'COG-M'!P1644","v":0},{"$f":"'COG-M'!P1645","v":0},{"$f":"'COG-M'!P1646","v":0},{"$f":"'COG-M'!P1647","v":0},{"$f":"'COG-M'!P1648","v":0},{"$f":"'COG-M'!P1649","v":0},{"$f":"'COG-M'!P1650","v":0},{"v":829824,"d":"829,824"}]
[444,"Ayudas sociales a actividades científicas o académicas",{"$f":"'COG-M'!P1651","v":0},{"$f":"'COG-M'!P1652","v":0},{"$f":"'COG-M'!P1653","v":0},{"$f":"'COG-M'!P1654","v":0},{"$f":"'COG-M'!P1655","v":0},{"$f":"'COG-M'!P1656","v":0},{"$f":"'COG-M'!P1657","v":0},{"$f":"'COG-M'!P1658","v":0},{"$f":"'COG-M'!P1659","v":0},{"$f":"'COG-M'!P1660","v":0},0]
[445,"Ayudas sociales a instituciones sin fines de lucro",{"$f":"'COG-M'!P1661","v":0},{"$f":"'COG-M'!P1662","v":0},{"$f":"'COG-M'!P1663","v":0},{"$f":"'COG-M'!P1664","v":0},{"$f":"'COG-M'!P1665","v":0},{"$f":"'COG-M'!P1666","v":0},{"$f":"'COG-M'!P1667","v":0},{"$f":"'COG-M'!P1668","v":0},{"$f":"'COG-M'!P1669","v":0},{"$f":"'COG-M'!P1670","v":0},0]
[446,"Ayudas sociales a cooperativas",{"$f":"'COG-M'!P1671","v":0},{"$f":"'COG-M'!P1672","v":0},{"$f":"'COG-M'!P1673","v":0},{"$f":"'COG-M'!P1674","v":0},{"$f":"'COG-M'!P1675","v":0},{"$f":"'COG-M'!P1676","v":0},{"$f":"'COG-M'!P1677","v":0},{"$f":"'COG-M'!P1678","v":0},{"$f":"'COG-M'!P1679","v":0},{"$f":"'COG-M'!P1680","v":0},0]
[447,"Ayudas sociales a entidades de interés público",{"$f":"'COG-M'!P1681","v":{"v":166824,"d":"166,824"}},{"$f":"'COG-M'!P1682","v":0},{"$f":"'COG-M'!P1683","v":0},{"$f":"'COG-M'!P1684","v":0},{"$f":"'COG-M'!P1685","v":0},{"$f":"'COG-M'!P1686","v":0},{"$f":"'COG-M'!P1687","v":0},{"$f":"'COG-M'!P1688","v":0},{"$f":"'COG-M'!P1689","v":0},{"$f":"'COG-M'!P1690","v":0},{"v":166824,"d":"166,824"}]
[448,"Ayudas por desastres naturales y otros siniestros",{"$f":"'COG-M'!P1691","v":0},{"$f":"'COG-M'!P1692","v":0},{"$f":"'COG-M'!P1693","v":0},{"$f":"'COG-M'!P1694","v":0},{"$f":"'COG-M'!P1695","v":0},{"$f":"'COG-M'!P1696","v":0},{"$f":"'COG-M'!P1697","v":0},{"$f":"'COG-M'!P1698","v":0},{"$f":"'COG-M'!P1699","v":0},{"$f":"'COG-M'!P1700","v":0},0]
[4500,"PENSIONES Y JUBILACIONES",{"$f":"SUM(C227:C229)","v":{"v":147096,"d":"147,096"}},{"$f":"SUM(D227:D229)","v":0},0,0,0,0,0,0,0,0,{"v":147096,"d":"147,096"}]
[451,"Pensiones",{"$f":"'COG-M'!P1702","v":{"v":147096,"d":"147,096"}},{"$f":"'COG-M'!P1703","v":0},{"$f":"'COG-M'!P1704","v":0},{"$f":"'COG-M'!P1705","v":0},{"$f":"'COG-M'!P1706","v":0},{"$f":"'COG-M'!P1707","v":0},{"$f":"'COG-M'!P1708","v":0},{"$f":"'COG-M'!P1709","v":0},{"$f":"'COG-M'!P1710","v":0},{"$f":"'COG-M'!P1711","v":0},{"$f":"SUM(C227:L227)","v":{"v":147096,"d":"147,096"}}]
[452,"Jubilaciones",{"$f":"'COG-M'!P1712","v":0},{"$f":"'COG-M'!P1713","v":0},{"$f":"'COG-M'!P1714","v":0},{"$f":"'COG-M'!P1715","v":0},{"$f":"'COG-M'!P1716","v":0},{"$f":"'COG-M'!P1717","v":0},{"$f":"'COG-M'!P1718","v":0},{"$f":"'COG-M'!P1719","v":0},{"$f":"'COG-M'!P1720","v":0},{"$f":"'COG-M'!P1721","v":0},{"$f":"SUM(C228:L228)","v":0}]
[459,"Otras pensiones y jubilaciones",{"$f":"'COG-M'!P1722","v":0},{"$f":"'COG-M'!P1723","v":0},{"$f":"'COG-M'!P1724","v":0},{"$f":"'COG-M'!P1725","v":0},{"$f":"'COG-M'!P1726","v":0},{"$f":"'COG-M'!P1727","v":0},{"$f":"'COG-M'!P1728","v":0},{"$f":"'COG-M'!P1729","v":0},{"$f":"'COG-M'!P1730","v":0},{"$f":"'COG-M'!P1731","v":0},{"$f":"SUM(C229:L229)","v":0}]
[4600,"TRANSFERENCIAS A FIDEICOMISOS, MANDATOS Y OTROS ANÁLOGOS",{"$f":"SUM(C231:C237)","v":0},{"$f":"SUM(D231:D237)","v":0},0,0,0,0,0,0,0,0,0]
[461,"Transferencias a fideicomisos del Poder Ejecutivo",{"$f":"'COG-M'!P1733","v":0},{"$f":"'COG-M'!P1734","v":0},{"$f":"'COG-M'!P1735","v":0},{"$f":"'COG-M'!P1736","v":0},{"$f":"'COG-M'!P1737","v":0},{"$f":"'COG-M'!P1738","v":0},{"$f":"'COG-M'!P1739","v":0},{"$f":"'COG-M'!P1740","v":0},{"$f":"'COG-M'!P1741","v":0},{"$f":"'COG-M'!P1742","v":0},{"$f":"SUM(C231:L231)","v":0}]
[462,"Transferencias a fideicomisos del Poder Legislativo",{"$nulls":10},0]
[463,"Transferencias a fideicomisos del Poder Judicial",{"$nulls":10},0]
[464,"Trasferencias a fideicomisos públicos de entidades paraestatales no empresariales y no financieras",{"$f":"'COG-M'!P1745","v":0},{"$f":"'COG-M'!P1746","v":0},{"$f":"'COG-M'!P1747","v":0},{"$f":"'COG-M'!P1748","v":0},{"$f":"'COG-M'!P1749","v":0},{"$f":"'COG-M'!P1750","v":0},{"$f":"'COG-M'!P1751","v":0},{"$f":"'COG-M'!P1752","v":0},{"$f":"'COG-M'!P1753","v":0},{"$f":"'COG-M'!P1754","v":0},0]
[465,"Transferencias a fideicomisos públicos de entidades paraestatales empresariales y no financieras",{"$nulls":10},0]
[466,"Transferencias a fideicomisos de instituciones públicas financieras",{"$nulls":10},0]
[469,"Otras transferencias a fideicomisos   ",{"$f":"'COG-M'!P1757","v":0},{"$f":"'COG-M'!P1758","v":0},{"$f":"'COG-M'!P1759","v":0},{"$f":"'COG-M'!P1760","v":0},{"$f":"'COG-M'!P1761","v":0},{"$f":"'COG-M'!P1762","v":0},{"$f":"'COG-M'!P1763","v":0},{"$f":"'COG-M'!P1764","v":0},{"$f":"'COG-M'!P1765","v":0},{"$f":"'COG-M'!P1766","v":0},0]
[4700,"TRANSFERENCIAS A LA SEGURIDAD SOCIAL",{"$f":"SUM(C239)","v":0},{"$f":"SUM(D239)","v":0},0,0,0,0,0,0,0,0,0]
[471,"Transferencias por obligación de ley",{"$f":"'COG-M'!P1768","v":0},{"$f":"'COG-M'!P1769","v":0},{"$f":"'COG-M'!P1770","v":0},{"$f":"'COG-M'!P1771","v":0},{"$f":"'COG-M'!P1772","v":0},{"$f":"'COG-M'!P1773","v":0},{"$f":"'COG-M'!P1774","v":0},{"$f":"'COG-M'!P1775","v":0},{"$f":"'COG-M'!P1776","v":0},{"$f":"'COG-M'!P1777","v":0},{"$f":"SUM(C239:L239)","v":0}]
[4800,"DONATIVOS",{"$f":"SUM(C241:C245)","v":0},{"$f":"SUM(D241:D245)","v":0},0,0,0,0,0,0,0,0,0]
[481,"Donativos a instituciones sin fines de lucro",{"$f":"'COG-M'!P1779","v":0},{"$f":"'COG-M'!P1780","v":0},{"$f":"'COG-M'!P1781","v":0},{"$f":"'COG-M'!P1782","v":0},{"$f":"'COG-M'!P1783","v":0},{"$f":"'COG-M'!P1784","v":0},{"$f":"'COG-M'!P1785","v":0},{"$f":"'COG-M'!P1786","v":0},{"$f":"'COG-M'!P1787","v":0},{"$f":"'COG-M'!P1788","v":0},{"$f":"SUM(C241:L241)","v":0}]
[482,"Donativos a entidades federativas ",{"$f":"'COG-M'!P1789","v":0},{"$f":"'COG-M'!P1790","v":0},{"$f":"'COG-M'!P1791","v":0},{"$f":"'COG-M'!P1792","v":0},{"$f":"'COG-M'!P1793","v":0},{"$f":"'COG-M'!P1794","v":0},{"$f":"'COG-M'!P1795","v":0},{"$f":"'COG-M'!P1796","v":0},{"$f":"'COG-M'!P1797","v":0},{"$f":"'COG-M'!P1798","v":0},{"$f":"SUM(C242:L242)","v":0}]
[483,"Donativos a fideicomisos privados",{"$f":"'COG-M'!P1799","v":0},{"$f":"'COG-M'!P1800","v":0},{"$f":"'COG-M'!P1801","v":0},{"$f":"'COG-M'!P1802","v":0},{"$f":"'COG-M'!P1803","v":0},{"$f":"'COG-M'!P1804","v":0},{"$f":"'COG-M'!P1805","v":0},{"$f":"'COG-M'!P1806","v":0},{"$f":"'COG-M'!P1807","v":0},{"$f":"'COG-M'!P1808","v":0},{"$f":"SUM(C243:L243)","v":0}]
[484,"Donativos a fideicomisos estatales",{"$f":"'COG-M'!P1809","v":0},{"$f":"'COG-M'!P1810","v":0},{"$f":"'COG-M'!P1811","v":0},{"$f":"'COG-M'!P1812","v":0},{"$f":"'COG-M'!P1813","v":0},{"$f":"'COG-M'!P1814","v":0},{"$f":"'COG-M'!P1815","v":0},{"$f":"'COG-M'!P1816","v":0},{"$f":"'COG-M'!P1817","v":0},{"$f":"'COG-M'!P1818","v":0},{"$f":"SUM(C244:L244)","v":0}]
[485,"Donativos internacionales",{"$f":"'COG-M'!P1819","v":0},{"$f":"'COG-M'!P1820","v":0},{"$f":"'COG-M'!P1821","v":0},{"$f":"'COG-M'!P1822","v":0},{"$f":"'COG-M'!P1823","v":0},{"$f":"'COG-M'!P1824","v":0},{"$f":"'COG-M'!P1825","v":0},{"$f":"'COG-M'!P1826","v":0},{"$f":"'COG-M'!P1827","v":0},{"$f":"'COG-M'!P1828","v":0},{"$f":"SUM(C245:L245)","v":0}]
[4900,"TRANSFERENCIAS AL EXTERIOR",{"$f":"SUM(C247:C249)","v":0},{"$f":"SUM(D247:D249)","v":0},0,0,0,0,0,0,0,0,0]
[491,"Transferencias para gobiernos extranjeros",{"$f":"'COG-M'!P1830","v":0},{"$f":"'COG-M'!P1831","v":0},{"$f":"'COG-M'!P1832","v":0},{"$f":"'COG-M'!P1833","v":0},{"$f":"'COG-M'!P1834","v":0},{"$f":"'COG-M'!P1835","v":0},{"$f":"'COG-M'!P1836","v":0},{"$f":"'COG-M'!P1837","v":0},{"$f":"'COG-M'!P1838","v":0},{"$f":"'COG-M'!P1839","v":0},{"$f":"SUM(C247:L247)","v":0}]
[492,"Transferencias para organismos internacionales",{"$f":"'COG-M'!P1840","v":0},{"$f":"'COG-M'!P1841","v":0},{"$f":"'COG-M'!P1842","v":0},{"$f":"'COG-M'!P1843","v":0},{"$f":"'COG-M'!P1844","v":0},{"$f":"'COG-M'!P1845","v":0},{"$f":"'COG-M'!P1846","v":0},{"$f":"'COG-M'!P1847","v":0},{"$f":"'COG-M'!P1848","v":0},{"$f":"'COG-M'!P1849","v":0},{"$f":"SUM(C248:L248)","v":0}]
[493,"Transferencias para el sector privado externo",{"$f":"'COG-M'!P1850","v":0},{"$f":"'COG-M'!P1851","v":0},{"$f":"'COG-M'!P1852","v":0},{"$f":"'COG-M'!P1853","v":0},{"$f":"'COG-M'!P1854","v":0},{"$f":"'COG-M'!P1855","v":0},{"$f":"'COG-M'!P1856","v":0},{"$f":"'COG-M'!P1857","v":0},{"$f":"'COG-M'!P1858","v":0},{"$f":"'COG-M'!P1859","v":0},{"$f":"SUM(C249:L249)","v":0}]
[5000,"BIENES MUEBLES, INMUEBLES E INTANGIBLES ",{"$f":"C251+C258+C263+C266+C273+C275+C284+C294+C299","v":{"v":2052348,"d":"2,052,348"}},{"$f":"D251+D258+D263+D266+D273+D275+D284+D294+D299","v":0},0,0,0,0,0,0,0,0,{"v":2052348,"d":"2,052,348"}]
[5100,"MOBILIARIO Y EQUIPO DE ADMINISTRACIÓN",{"$f":"SUM(C252:C257)","v":{"v":1643004,"d":"1,643,004"}},{"$f":"SUM(D252:D257)","v":0},0,0,0,0,0,0,0,0,{"v":1643004,"d":"1,643,004"}]
[511,"Muebles de oficina y estantería ",{"$f":"'COG-M'!P1862","v":{"v":1200000,"d":"1,200,000"}},{"$f":"'COG-M'!P1863","v":0},{"$f":"'COG-M'!P1864","v":0},{"$f":"'COG-M'!P1865","v":0},{"$f":"'COG-M'!P1866","v":0},{"$f":"'COG-M'!P1867","v":0},{"$f":"'COG-M'!P1868","v":0},{"$f":"'COG-M'!P1869","v":0},{"$f":"'COG-M'!P1870","v":0},{"$f":"'COG-M'!P1871","v":0},{"$f":"SUM(C252:L252)","v":{"v":1200000,"d":"1,200,000"}}]
[512,"Muebles, excepto de oficina y estantería",{"$f":"'COG-M'!P1872","v":0},{"$f":"'COG-M'!P1873","v":0},{"$f":"'COG-M'!P1874","v":0},{"$f":"'COG-M'!P1875","v":0},{"$f":"'COG-M'!P1876","v":0},{"$f":"'COG-M'!P1877","v":0},{"$f":"'COG-M'!P1878","v":0},{"$f":"'COG-M'!P1879","v":0},{"$f":"'COG-M'!P1880","v":0},{"$f":"'COG-M'!P1881","v":0},0]
[513,"Bienes artísticos, culturales y científicos",{"$f":"'COG-M'!P1882","v":0},{"$f":"'COG-M'!P1883","v":0},{"$f":"'COG-M'!P1884","v":0},{"$f":"'COG-M'!P1885","v":0},{"$f":"'COG-M'!P1886","v":0},{"$f":"'COG-M'!P1887","v":0},{"$f":"'COG-M'!P1888","v":0},{"$f":"'COG-M'!P1889","v":0},{"$f":"'COG-M'!P1890","v":0},{"$f":"'COG-M'!P1891","v":0},0]
[514,"Objetos de valor",{"$f":"'COG-M'!P1892","v":0},{"$f":"'COG-M'!P1893","v":0},{"$f":"'COG-M'!P1894","v":0},{"$f":"'COG-M'!P1895","v":0},{"$f":"'COG-M'!P1896","v":0},{"$f":"'COG-M'!P1897","v":0},{"$f":"'COG-M'!P1898","v":0},{"$f":"'COG-M'!P1899","v":0},{"$f":"'COG-M'!P1900","v":0},{"$f":"'COG-M'!P1901","v":0},0]
[515,"Equipo de cómputo de tecnologías de la información",{"$f":"'COG-M'!P1902","v":{"v":443004,"d":"443,004"}},{"$f":"'COG-M'!P1903","v":0},{"$f":"'COG-M'!P1904","v":0},{"$f":"'COG-M'!P1905","v":0},{"$f":"'COG-M'!P1906","v":0},{"$f":"'COG-M'!P1907","v":0},{"$f":"'COG-M'!P1908","v":0},{"$f":"'COG-M'!P1909","v":0},{"$f":"'COG-M'!P1910","v":0},{"$f":"'COG-M'!P1911","v":0},{"v":443004,"d":"443,004"}]
[519,"Otros mobiliarios y equipos de administración",{"$f":"'COG-M'!P1912","v":0},{"$f":"'COG-M'!P1913","v":0},{"$f":"'COG-M'!P1914","v":0},{"$f":"'COG-M'!P1915","v":0},{"$f":"'COG-M'!P1916","v":0},{"$f":"'COG-M'!P1917","v":0},{"$f":"'COG-M'!P1918","v":0},{"$f":"'COG-M'!P1919","v":0},{"$f":"'COG-M'!P1920","v":0},{"$f":"'COG-M'!P1921","v":0},0]
[5200,"MOBILIARIO Y EQUIPO EDUCACIONAL Y RECREATIVO",{"$f":"SUM(C259:C262)","v":{"v":12480,"d":"12,480"}},{"$f":"SUM(D259:D262)","v":0},0,0,0,0,0,0,0,0,{"v":12480,"d":"12,480"}]
[521,"Equipos y aparatos audiovisuales",{"$f":"'COG-M'!P1923","v":0},{"$f":"'COG-M'!P1924","v":0},{"$f":"'COG-M'!P1925","v":0},{"$f":"'COG-M'!P1926","v":0},{"$f":"'COG-M'!P1927","v":0},{"$f":"'COG-M'!P1928","v":0},{"$f":"'COG-M'!P1929","v":0},{"$f":"'COG-M'!P1930","v":0},{"$f":"'COG-M'!P1931","v":0},{"$f":"'COG-M'!P1932","v":0},{"$f":"SUM(C259:L259)","v":0}]
[522,"Aparatos deportivos",{"$f":"'COG-M'!P1933","v":0},{"$f":"'COG-M'!P1934","v":0},{"$f":"'COG-M'!P1935","v":0},{"$f":"'COG-M'!P1936","v":0},{"$f":"'COG-M'!P1937","v":0},{"$f":"'COG-M'!P1938","v":0},{"$f":"'COG-M'!P1939","v":0},{"$f":"'COG-M'!P1940","v":0},{"$f":"'COG-M'!P1941","v":0},{"$f":"'COG-M'!P1942","v":0},{"$f":"SUM(C260:L260)","v":0}]
[523,"Cámaras fotográficas y de video",{"$f":"'COG-M'!P1943","v":{"v":12480,"d":"12,480"}},{"$f":"'COG-M'!P1944","v":0},{"$f":"'COG-M'!P1945","v":0},{"$f":"'COG-M'!P1946","v":0},{"$f":"'COG-M'!P1947","v":0},{"$f":"'COG-M'!P1948","v":0},{"$f":"'COG-M'!P1949","v":0},{"$f":"'COG-M'!P1950","v":0},{"$f":"'COG-M'!P1951","v":0},{"$f":"'COG-M'!P1952","v":0},{"$f":"SUM(C261:L261)","v":{"v":12480,"d":"12,480"}}]
[529,"Otro mobiliario y equipo educacional y recreativo ",{"$f":"'COG-M'!P1953","v":0},{"$f":"'COG-M'!P1954","v":0},{"$f":"'COG-M'!P1955","v":0},{"$f":"'COG-M'!P1956","v":0},{"$f":"'COG-M'!P1957","v":0},{"$f":"'COG-M'!P1958","v":0},{"$f":"'COG-M'!P1959","v":0},{"$f":"'COG-M'!P1960","v":0},{"$f":"'COG-M'!P1961","v":0},{"$f":"'COG-M'!P1962","v":0},{"$f":"SUM(C262:L262)","v":0}]
[5300,"EQUIPO E INSTRUMENTAL MÉDICO Y DE LABORATORIO",{"$f":"SUM(C264:C265)","v":0},{"$f":"SUM(D264:D265)","v":0},0,0,0,0,0,0,0,0,0]
[531,"Equipo médico y de laboratorio",{"$f":"'COG-M'!P1964","v":0},{"$f":"'COG-M'!P1965","v":0},{"$f":"'COG-M'!P1966","v":0},{"$f":"'COG-M'!P1967","v":0},{"$f":"'COG-M'!P1968","v":0},{"$f":"'COG-M'!P1969","v":0},{"$f":"'COG-M'!P1970","v":0},{"$f":"'COG-M'!P1971","v":0},{"$f":"'COG-M'!P1972","v":0},{"$f":"'COG-M'!P1973","v":0},{"$f":"SUM(C264:L264)","v":0}]
[532,"Instrumental médico y de laboratorio",{"$f":"'COG-M'!P1974","v":0},{"$f":"'COG-M'!P1975","v":0},{"$f":"'COG-M'!P1976","v":0},{"$f":"'COG-M'!P1977","v":0},{"$f":"'COG-M'!P1978","v":0},{"$f":"'COG-M'!P1979","v":0},{"$f":"'COG-M'!P1980","v":0},{"$f":"'COG-M'!P1981","v":0},{"$f":"'COG-M'!P1982","v":0},{"$f":"'COG-M'!P1983","v":0},{"$f":"SUM(C265:L265)","v":0}]
[5400,"VEHÍCULOS Y EQUIPO DE TRANSPORTE",{"$f":"SUM(C267:C272)","v":{"v":214260,"d":"214,260"}},{"$f":"SUM(D267:D272)","v":0},0,0,0,0,0,0,0,0,{"v":214260,"d":"214,260"}]
[541,"Vehículos y equipo terrestre",{"$f":"'COG-M'!P1985","v":{"v":214260,"d":"214,260"}},{"$f":"'COG-M'!P1986","v":0},{"$f":"'COG-M'!P1987","v":0},{"$f":"'COG-M'!P1988","v":0},{"$f":"'COG-M'!P1989","v":0},{"$f":"'COG-M'!P1990","v":0},{"$f":"'COG-M'!P1991","v":0},{"$f":"'COG-M'!P1992","v":0},{"$f":"'COG-M'!P1993","v":0},{"$f":"'COG-M'!P1994","v":0},{"$f":"SUM(C267:L267)","v":{"v":214260,"d":"214,260"}}]
[542,"Carrocerías  y remolques",{"$f":"'COG-M'!P1995","v":0},{"$f":"'COG-M'!P1996","v":0},{"$f":"'COG-M'!P1997","v":0},{"$f":"'COG-M'!P1998","v":0},{"$f":"'COG-M'!P1999","v":0},{"$f":"'COG-M'!P2000","v":0},{"$f":"'COG-M'!P2001","v":0},{"$f":"'COG-M'!P2002","v":0},{"$f":"'COG-M'!P2003","v":0},{"$f":"'COG-M'!P2004","v":0},0]
[543,"Equipo aeroespacial",{"$f":"'COG-M'!P2005","v":0},{"$f":"'COG-M'!P2006","v":0},{"$f":"'COG-M'!P2007","v":0},{"$f":"'COG-M'!P2008","v":0},{"$f":"'COG-M'!P2009","v":0},{"$f":"'COG-M'!P2010","v":0},{"$f":"'COG-M'!P2011","v":0},{"$f":"'COG-M'!P2012","v":0},{"$f":"'COG-M'!P2013","v":0},{"$f":"'COG-M'!P2014","v":0},0]
[544,"Equipo ferroviario",{"$f":"'COG-M'!P2015","v":0},{"$f":"'COG-M'!P2016","v":0},{"$f":"'COG-M'!P2017","v":0},{"$f":"'COG-M'!P2018","v":0},{"$f":"'COG-M'!P2019","v":0},{"$f":"'COG-M'!P2020","v":0},{"$f":"'COG-M'!P2021","v":0},{"$f":"'COG-M'!P2022","v":0},{"$f":"'COG-M'!P2023","v":0},{"$f":"'COG-M'!P2024","v":0},0]
[545,"Embarcaciones",{"$f":"'COG-M'!P2025","v":0},{"$f":"'COG-M'!P2026","v":0},{"$f":"'COG-M'!P2027","v":0},{"$f":"'COG-M'!P2028","v":0},{"$f":"'COG-M'!P2029","v":0},{"$f":"'COG-M'!P2030","v":0},{"$f":"'COG-M'!P2031","v":0},{"$f":"'COG-M'!P2032","v":0},{"$f":"'COG-M'!P2033","v":0},{"$f":"'COG-M'!P2034","v":0},0]
[549,"Otros equipo de transporte",{"$f":"'COG-M'!P2035","v":0},{"$f":"'COG-M'!P2036","v":0},{"$f":"'COG-M'!P2037","v":0},{"$f":"'COG-M'!P2038","v":0},{"$f":"'COG-M'!P2039","v":0},{"$f":"'COG-M'!P2040","v":0},{"$f":"'COG-M'!P2041","v":0},{"$f":"'COG-M'!P2042","v":0},{"$f":"'COG-M'!P2043","v":0},{"$f":"'COG-M'!P2044","v":0},0]
[5500,"EQUIPO DE DEFENSA Y SEGURIDAD",{"$f":"SUM(C274)","v":0},{"$f":"SUM(D274)","v":0},0,0,0,0,0,0,0,0,0]
[551,"Equipo de defensa y seguridad",{"$f":"'COG-M'!P2046","v":0},{"$f":"'COG-M'!P2047","v":0},{"$f":"'COG-M'!P2048","v":0},{"$f":"'COG-M'!P2049","v":0},{"$f":"'COG-M'!P2050","v":0},{"$f":"'COG-M'!P2051","v":0},{"$f":"'COG-M'!P2052","v":0},{"$f":"'COG-M'!P2053","v":0},{"$f":"'COG-M'!P2054","v":0},{"$f":"'COG-M'!P2055","v":0},{"$f":"SUM(C274:L274)","v":0}]
[5600,"MAQUINARIA, OTROS EQUIPOS Y HERRAMIENTAS",{"$f":"SUM(C276:C283)","v":{"v":119604,"d":"119,604"}},{"$f":"SUM(D276:D283)","v":0},0,0,0,0,0,0,0,0,{"v":119604,"d":"119,604"}]
[561,"Maquinaria y equipo agropecuario",{"$f":"'COG-M'!P2057","v":0},{"$f":"'COG-M'!P2058","v":0},{"$f":"'COG-M'!P2059","v":0},{"$f":"'COG-M'!P2060","v":0},{"$f":"'COG-M'!P2061","v":0},{"$f":"'COG-M'!P2062","v":0},{"$f":"'COG-M'!P2063","v":0},{"$f":"'COG-M'!P2064","v":0},{"$f":"'COG-M'!P2065","v":0},{"$f":"'COG-M'!P2066","v":0},{"$f":"SUM(C276:L276)","v":0}]
[562,"Maquinaria y equipo industrial",{"$f":"'COG-M'!P2067","v":0},{"$f":"'COG-M'!P2068","v":0},{"$f":"'COG-M'!P2069","v":0},{"$f":"'COG-M'!P2070","v":0},{"$f":"'COG-M'!P2071","v":0},{"$f":"'COG-M'!P2072","v":0},{"$f":"'COG-M'!P2073","v":0},{"$f":"'COG-M'!P2074","v":0},{"$f":"'COG-M'!P2075","v":0},{"$f":"'COG-M'!P2076","v":0},0]
[563,"Maquinaria y equipo de construcción",{"$f":"'COG-M'!P2077","v":0},{"$f":"'COG-M'!P2078","v":0},{"$f":"'COG-M'!P2079","v":0},{"$f":"'COG-M'!P2080","v":0},{"$f":"'COG-M'!P2081","v":0},{"$f":"'COG-M'!P2082","v":0},{"$f":"'COG-M'!P2083","v":0},{"$f":"'COG-M'!P2084","v":0},{"$f":"'COG-M'!P2085","v":0},{"$f":"'COG-M'!P2086","v":0},0]
[564,"Sistemas de aire acondicionado, calefacción y de refrigeración industrial y comercial",{"$f":"'COG-M'!P2087","v":0},{"$f":"'COG-M'!P2088","v":0},{"$f":"'COG-M'!P2089","v":0},{"$f":"'COG-M'!P2090","v":0},{"$f":"'COG-M'!P2091","v":0},{"$f":"'COG-M'!P2092","v":0},{"$f":"'COG-M'!P2093","v":0},{"$f":"'COG-M'!P2094","v":0},{"$f":"'COG-M'!P2095","v":0},{"$f":"'COG-M'!P2096","v":0},0]
[565,"Equipo de comunicación y telecomunicación",{"$f":"'COG-M'!P2097","v":0},{"$f":"'COG-M'!P2098","v":0},{"$f":"'COG-M'!P2099","v":0},{"$f":"'COG-M'!P2100","v":0},{"$f":"'COG-M'!P2101","v":0},{"$f":"'COG-M'!P2102","v":0},{"$f":"'COG-M'!P2103","v":0},{"$f":"'COG-M'!P2104","v":0},{"$f":"'COG-M'!P2105","v":0},{"$f":"'COG-M'!P2106","v":0},0]
[566,"Equipo de generación eléctrica, aparatos y accesorios eléctricos",{"$f":"'COG-M'!P2107","v":0},{"$f":"'COG-M'!P2108","v":0},{"$f":"'COG-M'!P2109","v":0},{"$f":"'COG-M'!P2110","v":0},{"$f":"'COG-M'!P2111","v":0},{"$f":"'COG-M'!P2112","v":0},{"$f":"'COG-M'!P2113","v":0},{"$f":"'COG-M'!P2114","v":0},{"$f":"'COG-M'!P2115","v":0},{"$f":"'COG-M'!P2116","v":0},0]
[567,"Herramientas y máquinas-herramienta",{"$f":"'COG-M'!P2117","v":{"v":119604,"d":"119,604"}},{"$f":"'COG-M'!P2118","v":0},{"$f":"'COG-M'!P2119","v":0},{"$f":"'COG-M'!P2120","v":0},{"$f":"'COG-M'!P2121","v":0},{"$f":"'COG-M'!P2122","v":0},{"$f":"'COG-M'!P2123","v":0},{"$f":"'COG-M'!P2124","v":0},{"$f":"'COG-M'!P2125","v":0},{"$f":"'COG-M'!P2126","v":0},{"v":119604,"d":"119,604"}]
[569,"Otros equipos",{"$f":"'COG-M'!P2127","v":0},{"$f":"'COG-M'!P2128","v":0},{"$f":"'COG-M'!P2129","v":0},{"$f":"'COG-M'!P2130","v":0},{"$f":"'COG-M'!P2131","v":0},{"$f":"'COG-M'!P2132","v":0},{"$f":"'COG-M'!P2133","v":0},{"$f":"'COG-M'!P2134","v":0},{"$f":"'COG-M'!P2135","v":0},{"$f":"'COG-M'!P2136","v":0},0]
[5700,"ACTIVOS BIOLÓGICOS",{"$f":"SUM(C285:C293)","v":0},{"$f":"SUM(D285:D293)","v":0},0,0,0,0,0,0,0,0,0]
[571,"Bovinos",{"$f":"'COG-M'!P2138","v":0},{"$f":"'COG-M'!P2139","v":0},{"$f":"'COG-M'!P2140","v":0},{"$f":"'COG-M'!P2141","v":0},{"$f":"'COG-M'!P2142","v":0},{"$f":"'COG-M'!P2143","v":0},{"$f":"'COG-M'!P2144","v":0},{"$f":"'COG-M'!P2145","v":0},{"$f":"'COG-M'!P2146","v":0},{"$f":"'COG-M'!P2147","v":0},{"$f":"SUM(C285:L285)","v":0}]
[572,"Porcinos",{"$f":"'COG-M'!P2148","v":0},{"$f":"'COG-M'!P2149","v":0},{"$f":"'COG-M'!P2150","v":0},{"$f":"'COG-M'!P2151","v":0},{"$f":"'COG-M'!P2152","v":0},{"$f":"'COG-M'!P2153","v":0},{"$f":"'COG-M'!P2154","v":0},{"$f":"'COG-M'!P2155","v":0},{"$f":"'COG-M'!P2156","v":0},{"$f":"'COG-M'!P2157","v":0},0]
[573,"Aves",{"$f":"'COG-M'!P2158","v":0},{"$f":"'COG-M'!P2159","v":0},{"$f":"'COG-M'!P2160","v":0},{"$f":"'COG-M'!P2161","v":0},{"$f":"'COG-M'!P2162","v":0},{"$f":"'COG-M'!P2163","v":0},{"$f":"'COG-M'!P2164","v":0},{"$f":"'COG-M'!P2165","v":0},{"$f":"'COG-M'!P2166","v":0},{"$f":"'COG-M'!P2167","v":0},0]
[574,"Ovinos y caprinos ",{"$f":"'COG-M'!P2168","v":0},{"$f":"'COG-M'!P2169","v":0},{"$f":"'COG-M'!P2170","v":0},{"$f":"'COG-M'!P2171","v":0},{"$f":"'COG-M'!P2172","v":0},{"$f":"'COG-M'!P2173","v":0},{"$f":"'COG-M'!P2174","v":0},{"$f":"'COG-M'!P2175","v":0},{"$f":"'COG-M'!P2176","v":0},{"$f":"'COG-M'!P2177","v":0},0]
[575,"Peces y acuicultura",{"$f":"'COG-M'!P2178","v":0},{"$f":"'COG-M'!P2179","v":0},{"$f":"'COG-M'!P2180","v":0},{"$f":"'COG-M'!P2181","v":0},{"$f":"'COG-M'!P2182","v":0},{"$f":"'COG-M'!P2183","v":0},{"$f":"'COG-M'!P2184","v":0},{"$f":"'COG-M'!P2185","v":0},{"$f":"'COG-M'!P2186","v":0},{"$f":"'COG-M'!P2187","v":0},0]
[576,"Equinos",{"$f":"'COG-M'!P2188","v":0},{"$f":"'COG-M'!P2189","v":0},{"$f":"'COG-M'!P2190","v":0},{"$f":"'COG-M'!P2191","v":0},{"$f":"'COG-M'!P2192","v":0},{"$f":"'COG-M'!P2193","v":0},{"$f":"'COG-M'!P2194","v":0},{"$f":"'COG-M'!P2195","v":0},{"$f":"'COG-M'!P2196","v":0},{"$f":"'COG-M'!P2197","v":0},0]
[577,"Especies menores y de zoológico",{"$f":"'COG-M'!P2198","v":0},{"$f":"'COG-M'!P2199","v":0},{"$f":"'COG-M'!P2200","v":0},{"$f":"'COG-M'!P2201","v":0},{"$f":"'COG-M'!P2202","v":0},{"$f":"'COG-M'!P2203","v":0},{"$f":"'COG-M'!P2204","v":0},{"$f":"'COG-M'!P2205","v":0},{"$f":"'COG-M'!P2206","v":0},{"$f":"'COG-M'!P2207","v":0},0]
[578,"Árboles y plantas",{"$f":"'COG-M'!P2208","v":0},{"$f":"'COG-M'!P2209","v":0},{"$f":"'COG-M'!P2210","v":0},{"$f":"'COG-M'!P2211","v":0},{"$f":"'COG-M'!P2212","v":0},{"$f":"'COG-M'!P2213","v":0},{"$f":"'COG-M'!P2214","v":0},{"$f":"'COG-M'!P2215","v":0},{"$f":"'COG-M'!P2216","v":0},{"$f":"'COG-M'!P2217","v":0},0]
[579,"Otros activos biológicos",{"$f":"'COG-M'!P2218","v":0},{"$f":"'COG-M'!P2219","v":0},{"$f":"'COG-M'!P2220","v":0},{"$f":"'COG-M'!P2221","v":0},{"$f":"'COG-M'!P2222","v":0},{"$f":"'COG-M'!P2223","v":0},{"$f":"'COG-M'!P2224","v":0},{"$f":"'COG-M'!P2225","v":0},{"$f":"'COG-M'!P2226","v":0},{"$f":"'COG-M'!P2227","v":0},0]
[5800,"BIENES INMUEBLES",{"$f":"SUM(C295:C298)","v":0},{"$f":"SUM(D295:D298)","v":0},0,0,0,0,0,0,0,0,0]
[581,"Terrenos",{"$f":"'COG-M'!P2229","v":0},{"$f":"'COG-M'!P2230","v":0},{"$f":"'COG-M'!P2231","v":0},{"$f":"'COG-M'!P2232","v":0},{"$f":"'COG-M'!P2233","v":0},{"$f":"'COG-M'!P2234","v":0},{"$f":"'COG-M'!P2235","v":0},{"$f":"'COG-M'!P2236","v":0},{"$f":"'COG-M'!P2237","v":0},{"$f":"'COG-M'!P2238","v":0},{"$f":"SUM(C295:L295)","v":0}]
[582,"Viviendas ",{"$f":"'COG-M'!P2239","v":0},{"$f":"'COG-M'!P2240","v":0},{"$f":"'COG-M'!P2241","v":0},{"$f":"'COG-M'!P2242","v":0},{"$f":"'COG-M'!P2243","v":0},{"$f":"'COG-M'!P2244","v":0},{"$f":"'COG-M'!P2245","v":0},{"$f":"'COG-M'!P2246","v":0},{"$f":"'COG-M'!P2247","v":0},{"$f":"'COG-M'!P2248","v":0},{"$f":"SUM(C296:L296)","v":0}]
[583,"Edificios no residenciales",{"$f":"'COG-M'!P2249","v":0},{"$f":"'COG-M'!P2250","v":0},{"$f":"'COG-M'!P2251","v":0},{"$f":"'COG-M'!P2252","v":0},{"$f":"'COG-M'!P2253","v":0},{"$f":"'COG-M'!P2254","v":0},{"$f":"'COG-M'!P2255","v":0},{"$f":"'COG-M'!P2256","v":0},{"$f":"'COG-M'!P2257","v":0},{"$f":"'COG-M'!P2258","v":0},{"$f":"SUM(C297:L297)","v":0}]
[589,"Otros bienes inmuebles",{"$f":"'COG-M'!P2259","v":0},{"$f":"'COG-M'!P2260","v":0},{"$f":"'COG-M'!P2261","v":0},{"$f":"'COG-M'!P2262","v":0},{"$f":"'COG-M'!P2263","v":0},{"$f":"'COG-M'!P2264","v":0},{"$f":"'COG-M'!P2265","v":0},{"$f":"'COG-M'!P2266","v":0},{"$f":"'COG-M'!P2267","v":0},{"$f":"'COG-M'!P2268","v":0},{"$f":"SUM(C298:L298)","v":0}]
[5900,"ACTIVOS INTANGIBLES",{"$f":"SUM(C300:C308)","v":{"v":63000,"d":"63,000"}},{"$f":"SUM(D300:D308)","v":0},0,0,0,0,0,0,0,0,{"v":63000,"d":"63,000"}]
[591,"Software",{"$f":"'COG-M'!P2270","v":{"v":63000,"d":"63,000"}},{"$f":"'COG-M'!P2271","v":0},{"$f":"'COG-M'!P2272","v":0},{"$f":"'COG-M'!P2273","v":0},{"$f":"'COG-M'!P2274","v":0},{"$f":"'COG-M'!P2275","v":0},{"$f":"'COG-M'!P2276","v":0},{"$f":"'COG-M'!P2277","v":0},{"$f":"'COG-M'!P2278","v":0},{"$f":"'COG-M'!P2279","v":0},{"$f":"SUM(C300:L300)","v":{"v":63000,"d":"63,000"}}]
[592,"Patentes",{"$f":"'COG-M'!P2280","v":0},{"$f":"'COG-M'!P2281","v":0},{"$f":"'COG-M'!P2282","v":0},{"$f":"'COG-M'!P2283","v":0},{"$f":"'COG-M'!P2284","v":0},{"$f":"'COG-M'!P2285","v":0},{"$f":"'COG-M'!P2286","v":0},{"$f":"'COG-M'!P2287","v":0},{"$f":"'COG-M'!P2288","v":0},{"$f":"'COG-M'!P2289","v":0},0]
[593,"Marcas",{"$f":"'COG-M'!P2290","v":0},{"$f":"'COG-M'!P2291","v":0},{"$f":"'COG-M'!P2292","v":0},{"$f":"'COG-M'!P2293","v":0},{"$f":"'COG-M'!P2294","v":0},{"$f":"'COG-M'!P2295","v":0},{"$f":"'COG-M'!P2296","v":0},{"$f":"'COG-M'!P2297","v":0},{"$f":"'COG-M'!P2298","v":0},{"$f":"'COG-M'!P2299","v":0},0]
[594,"Derechos",{"$f":"'COG-M'!P2300","v":0},{"$f":"'COG-M'!P2301","v":0},{"$f":"'COG-M'!P2302","v":0},{"$f":"'COG-M'!P2303","v":0},{"$f":"'COG-M'!P2304","v":0},{"$f":"'COG-M'!P2305","v":0},{"$f":"'COG-M'!P2306","v":0},{"$f":"'COG-M'!P2307","v":0},{"$f":"'COG-M'!P2308","v":0},{"$f":"'COG-M'!P2309","v":0},0]
[595,"Concesiones",{"$f":"'COG-M'!P2310","v":0},{"$f":"'COG-M'!P2311","v":0},{"$f":"'COG-M'!P2312","v":0},{"$f":"'COG-M'!P2313","v":0},{"$f":"'COG-M'!P2314","v":0},{"$f":"'COG-M'!P2315","v":0},{"$f":"'COG-M'!P2316","v":0},{"$f":"'COG-M'!P2317","v":0},{"$f":"'COG-M'!P2318","v":0},{"$f":"'COG-M'!P2319","v":0},0]
[596,"Franquicias",{"$f":"'COG-M'!P2320","v":0},{"$f":"'COG-M'!P2321","v":0},{"$f":"'COG-M'!P2322","v":0},{"$f":"'COG-M'!P2323","v":0},{"$f":"'COG-M'!P2324","v":0},{"$f":"'COG-M'!P2325","v":0},{"$f":"'COG-M'!P2326","v":0},{"$f":"'COG-M'!P2327","v":0},{"$f":"'COG-M'!P2328","v":0},{"$f":"'COG-M'!P2329","v":0},0]
[597,"Licencias informáticas e intelectuales",{"$f":"'COG-M'!P2330","v":0},{"$f":"'COG-M'!P2331","v":0},{"$f":"'COG-M'!P2332","v":0},{"$f":"'COG-M'!P2333","v":0},{"$f":"'COG-M'!P2334","v":0},{"$f":"'COG-M'!P2335","v":0},{"$f":"'COG-M'!P2336","v":0},{"$f":"'COG-M'!P2337","v":0},{"$f":"'COG-M'!P2338","v":0},{"$f":"'COG-M'!P2339","v":0},0]
[598,"Licencias industriales, comerciales y otras",{"$f":"'COG-M'!P2340","v":0},{"$f":"'COG-M'!P2341","v":0},{"$f":"'COG-M'!P2342","v":0},{"$f":"'COG-M'!P2343","v":0},{"$f":"'COG-M'!P2344","v":0},{"$f":"'COG-M'!P2345","v":0},{"$f":"'COG-M'!P2346","v":0},{"$f":"'COG-M'!P2347","v":0},{"$f":"'COG-M'!P2348","v":0},{"$f":"'COG-M'!P2349","v":0},0]
[599,"Otros activos intangibles",{"$f":"'COG-M'!P2350","v":0},{"$f":"'COG-M'!P2351","v":0},{"$f":"'COG-M'!P2352","v":0},{"$f":"'COG-M'!P2353","v":0},{"$f":"'COG-M'!P2354","v":0},{"$f":"'COG-M'!P2355","v":0},{"$f":"'COG-M'!P2356","v":0},{"$f":"'COG-M'!P2357","v":0},{"$f":"'COG-M'!P2358","v":0},{"$f":"'COG-M'!P2359","v":0},0]
[6000,"INVERSIÓN PÚBLICA",{"$f":"C310+C319+C328","v":{"v":17815452,"d":"17,815,452"}},{"$f":"D310+D319+D328","v":0},0,0,0,0,0,{"v":3285228,"d":"3,285,228"},0,0,{"v":21100680,"d":"21,100,680"}]
[6100,"OBRA PÚBLICA EN BIENES DE DOMINIO PÚBLICO",{"$f":"SUM(C311:C318)","v":{"v":17815452,"d":"17,815,452"}},{"$f":"SUM(D311:D318)","v":0},0,0,0,0,0,{"v":3285228,"d":"3,285,228"},0,0,{"v":21100680,"d":"21,100,680"}]
[611,"Edificación habitacional",{"$f":"'COG-M'!P2362","v":0},{"$f":"'COG-M'!P2363","v":0},{"$f":"'COG-M'!P2364","v":0},{"$f":"'COG-M'!P2365","v":0},{"$f":"'COG-M'!P2366","v":0},{"$f":"'COG-M'!P2367","v":0},{"$f":"'COG-M'!P2368","v":0},{"$f":"'COG-M'!P2369","v":0},{"$f":"'COG-M'!P2370","v":0},{"$f":"'COG-M'!P2371","v":0},{"$f":"SUM(C311:L311)","v":0}]
[612,"Edificación no  habitacional",{"$f":"'COG-M'!P2372","v":{"v":4468176,"d":"4,468,176"}},{"$f":"'COG-M'!P2373","v":0},{"$f":"'COG-M'!P2374","v":0},{"$f":"'COG-M'!P2375","v":0},{"$f":"'COG-M'!P2376","v":0},{"$f":"'COG-M'!P2377","v":0},{"$f":"'COG-M'!P2378","v":0},{"$f":"'COG-M'!P2379","v":0},{"$f":"'COG-M'!P2380","v":0},{"$f":"'COG-M'!P2381","v":0},{"v":4468176,"d":"4,468,176"}]
[613,"Construcción de obras para el abastecimiento de agua, petróleo, gas, electricidad y telecomunicaciones",{"$f":"'COG-M'!P2382","v":{"v":3578316,"d":"3,578,316"}},{"$f":"'COG-M'!P2383","v":0},{"$f":"'COG-M'!P2384","v":0},{"$f":"'COG-M'!P2385","v":0},{"$f":"'COG-M'!P2386","v":0},{"$f":"'COG-M'!P2387","v":0},{"$f":"'COG-M'!P2388","v":0},{"$f":"'COG-M'!P2389","v":{"v":714180,"d":"714,180"}},{"$f":"'COG-M'!P2390","v":0},{"$f":"'COG-M'!P2391","v":0},{"v":4292496,"d":"4,292,496"}]
[614,"División de terrenos y construcción de obras de urbanización",{"$f":"'COG-M'!P2392","v":{"v":2189808,"d":"2,189,808"}},{"$f":"'COG-M'!P2393","v":0},{"$f":"'COG-M'!P2394","v":0},{"$f":"'COG-M'!P2395","v":0},{"$f":"'COG-M'!P2396","v":0},{"$f":"'COG-M'!P2397","v":0},{"$f":"'COG-M'!P2398","v":0},{"$f":"'COG-M'!P2399","v":{"v":63108,"d":"63,108"}},{"$f":"'COG-M'!P2400","v":0},{"$f":"'COG-M'!P2401","v":0},{"v":2252916,"d":"2,252,916"}]
[615,"Construcción de vías de comunicación",{"$f":"'COG-M'!P2402","v":{"v":7579152,"d":"7,579,152"}},{"$f":"'COG-M'!P2403","v":0},{"$f":"'COG-M'!P2404","v":0},{"$f":"'COG-M'!P2405","v":0},{"$f":"'COG-M'!P2406","v":0},{"$f":"'COG-M'!P2407","v":0},{"$f":"'COG-M'!P2408","v":0},{"$f":"'COG-M'!P2409","v":{"v":1856868,"d":"1,856,868"}},{"$f":"'COG-M'!P2410","v":0},{"$f":"'COG-M'!P2411","v":0},{"v":9436020,"d":"9,436,020"}]
[616,"Otras construcciones de ingeniería civil u obra pesada",{"$f":"'COG-M'!P2412","v":0},{"$f":"'COG-M'!P2413","v":0},{"$f":"'COG-M'!P2414","v":0},{"$f":"'COG-M'!P2415","v":0},{"$f":"'COG-M'!P2416","v":0},{"$f":"'COG-M'!P2417","v":0},{"$f":"'COG-M'!P2418","v":0},{"$f":"'COG-M'!P2419","v":0},{"$f":"'COG-M'!P2420","v":0},{"$f":"'COG-M'!P2421","v":0},0]
[617,"Instalaciones y equipamiento en construcciones",{"$f":"'COG-M'!P2422","v":0},{"$f":"'COG-M'!P2423","v":0},{"$f":"'COG-M'!P2424","v":0},{"$f":"'COG-M'!P2425","v":0},{"$f":"'COG-M'!P2426","v":0},{"$f":"'COG-M'!P2427","v":0},{"$f":"'COG-M'!P2428","v":0},{"$f":"'COG-M'!P2429","v":{"v":651072,"d":"651,072"}},{"$f":"'COG-M'!P2430","v":0},{"$f":"'COG-M'!P2431","v":0},{"v":651072,"d":"651,072"}]
[619,"Trabajo de acabados en edificaciones y otros trabajos especializados",{"$f":"'COG-M'!P2432","v":0},{"$f":"'COG-M'!P2433","v":0},{"$f":"'COG-M'!P2434","v":0},{"$f":"'COG-M'!P2435","v":0},{"$f":"'COG-M'!P2436","v":0},{"$f":"'COG-M'!P2437","v":0},{"$f":"'COG-M'!P2438","v":0},{"$f":"'COG-M'!P2439","v":0},{"$f":"'COG-M'!P2440","v":0},{"$f":"'COG-M'!P2441","v":0},0]
[6200,"OBRA PÚBLICA EN BIENES PROPIOS",{"$f":"SUM(C320:C327)","v":0},{"$f":"SUM(D320:D327)","v":0},0,0,0,0,0,0,0,0,0]
[621,"Edificación habitacional",{"$f":"'COG-M'!P2443","v":0},{"$f":"'COG-M'!P2444","v":0},{"$f":"'COG-M'!P2445","v":0},{"$f":"'COG-M'!P2446","v":0},{"$f":"'COG-M'!P2447","v":0},{"$f":"'COG-M'!P2448","v":0},{"$f":"'COG-M'!P2449","v":0},{"$f":"'COG-M'!P2450","v":0},{"$f":"'COG-M'!P2451","v":0},{"$f":"'COG-M'!P2452","v":0},{"$f":"SUM(C320:L320)","v":0}]
[622,"Edificación no habitacional",{"$f":"'COG-M'!P2453","v":0},{"$f":"'COG-M'!P2454","v":0},{"$f":"'COG-M'!P2455","v":0},{"$f":"'COG-M'!P2456","v":0},{"$f":"'COG-M'!P2457","v":0},{"$f":"'COG-M'!P2458","v":0},{"$f":"'COG-M'!P2459","v":0},{"$f":"'COG-M'!P2460","v":0},{"$f":"'COG-M'!P2461","v":0},{"$f":"'COG-M'!P2462","v":0},0]
[623,"Construcción de obras para  el abastecimiento de agua,  petróleo, gas, electricidad y telecomunicaciones",{"$f":"'COG-M'!P2463","v":0},{"$f":"'COG-M'!P2464","v":0},{"$f":"'COG-M'!P2465","v":0},{"$f":"'COG-M'!P2466","v":0},{"$f":"'COG-M'!P2467","v":0},{"$f":"'COG-M'!P2468","v":0},{"$f":"'COG-M'!P2469","v":0},{"$f":"'COG-M'!P2470","v":0},{"$f":"'COG-M'!P2471","v":0},{"$f":"'COG-M'!P2472","v":0},0]
[624,"División de terrenos y construcción de obras de urbanización",{"$f":"'COG-M'!P2473","v":0},{"$f":"'COG-M'!P2474","v":0},{"$f":"'COG-M'!P2475","v":0},{"$f":"'COG-M'!P2476","v":0},{"$f":"'COG-M'!P2477","v":0},{"$f":"'COG-M'!P2478","v":0},{"$f":"'COG-M'!P2479","v":0},{"$f":"'COG-M'!P2480","v":0},{"$f":"'COG-M'!P2481","v":0},{"$f":"'COG-M'!P2482","v":0},0]
[625,"Construcción de vías de comunicación",{"$f":"'COG-M'!P2483","v":0},{"$f":"'COG-M'!P2484","v":0},{"$f":"'COG-M'!P2485","v":0},{"$f":"'COG-M'!P2486","v":0},{"$f":"'COG-M'!P2487","v":0},{"$f":"'COG-M'!P2488","v":0},{"$f":"'COG-M'!P2489","v":0},{"$f":"'COG-M'!P2490","v":0},{"$f":"'COG-M'!P2491","v":0},{"$f":"'COG-M'!P2492","v":0},0]
[626,"Otras construcciones de ingeniería civil u obra pesada",{"$f":"'COG-M'!P2493","v":0},{"$f":"'COG-M'!P2494","v":0},{"$f":"'COG-M'!P2495","v":0},{"$f":"'COG-M'!P2496","v":0},{"$f":"'COG-M'!P2497","v":0},{"$f":"'COG-M'!P2498","v":0},{"$f":"'COG-M'!P2499","v":0},{"$f":"'COG-M'!P2500","v":0},{"$f":"'COG-M'!P2501","v":0},{"$f":"'COG-M'!P2502","v":0},0]
[627,"Instalaciones y equipamiento en construcciones",{"$f":"'COG-M'!P2503","v":0},{"$f":"'COG-M'!P2504","v":0},{"$f":"'COG-M'!P2505","v":0},{"$f":"'COG-M'!P2506","v":0},{"$f":"'COG-M'!P2507","v":0},{"$f":"'COG-M'!P2508","v":0},{"$f":"'COG-M'!P2509","v":0},{"$f":"'COG-M'!P2510","v":0},{"$f":"'COG-M'!P2511","v":0},{"$f":"'COG-M'!P2512","v":0},0]
[629,"Trabajos de acabados en edificaciones y otros trabajos especializados",{"$f":"'COG-M'!P2513","v":0},{"$f":"'COG-M'!P2514","v":0},{"$f":"'COG-M'!P2515","v":0},{"$f":"'COG-M'!P2516","v":0},{"$f":"'COG-M'!P2517","v":0},{"$f":"'COG-M'!P2518","v":0},{"$f":"'COG-M'!P2519","v":0},{"$f":"'COG-M'!P2520","v":0},{"$f":"'COG-M'!P2521","v":0},{"$f":"'COG-M'!P2522","v":0},0]
[6300,"PROYECTOS PRODUCTIVOS Y ACCIONES DE FOMENTO",{"$f":"SUM(C329:C330)","v":0},{"$f":"SUM(D329:D330)","v":0},0,0,0,0,0,0,0,0,0]
[631,"Estudios, formulación y evaluación de proyectos productivos no incluidos en conceptos anteriores de este capítulo",{"$f":"'COG-M'!P2524","v":0},{"$f":"'COG-M'!P2525","v":0},{"$f":"'COG-M'!P2526","v":0},{"$f":"'COG-M'!P2527","v":0},{"$f":"'COG-M'!P2528","v":0},{"$f":"'COG-M'!P2529","v":0},{"$f":"'COG-M'!P2530","v":0},{"$f":"'COG-M'!P2531","v":0},{"$f":"'COG-M'!P2532","v":0},{"$f":"'COG-M'!P2533","v":0},{"$f":"SUM(C329:L329)","v":0}]
[632,"Ejecución de proyectos productivos no incluidos en conceptos anteriores de este capítulo",{"$f":"'COG-M'!P2534","v":0},{"$f":"'COG-M'!P2535","v":0},{"$f":"'COG-M'!P2536","v":0},{"$f":"'COG-M'!P2537","v":0},{"$f":"'COG-M'!P2538","v":0},{"$f":"'COG-M'!P2539","v":0},{"$f":"'COG-M'!P2540","v":0},{"$f":"'COG-M'!P2541","v":0},{"$f":"'COG-M'!P2542","v":0},{"$f":"'COG-M'!P2543","v":0},{"$f":"SUM(C330:L330)","v":0}]
[7000,"INVERSIONES FINANCIERAS Y OTRAS PROVISIONES",{"$f":"C332+C335+C345+C352+C362+C372+C375","v":0},{"$f":"D332+D335+D345+D352+D362+D372+D375","v":0},0,0,0,0,0,0,0,0,0]
[7100,"INVERSIONES PARA EL FOMENTO DE ACTIVIDADES PRODUCTIVAS",{"$f":"SUM(C333:C334)","v":0},{"$f":"SUM(D333:D334)","v":0},0,0,0,0,0,0,0,0,0]
[711,"Créditos otorgados por entidades federativas y municipios al sector social y privado para el fomento de actividades productivas",{"$f":"'COG-M'!P2546","v":0},{"$f":"'COG-M'!P2547","v":0},{"$f":"'COG-M'!P2548","v":0},{"$f":"'COG-M'!P2549","v":0},{"$f":"'COG-M'!P2550","v":0},{"$f":"'COG-M'!P2551","v":0},{"$f":"'COG-M'!P2552","v":0},{"$f":"'COG-M'!P2553","v":0},{"$f":"'COG-M'!P2554","v":0},{"$f":"'COG-M'!P2555","v":0},{"$f":"SUM(C333:L333)","v":0}]
[712,"Créditos otorgados por las entidades federativas a municipios para el fomento de actividades productivas",{"$nulls":10},{"$f":"SUM(C334:L334)","v":0}]
[7200,"ACCIONES Y PARTICIPACIONES DE CAPITAL",{"$f":"SUM(C336:C344)","v":0},{"$f":"SUM(D336:D344)","v":0},0,0,0,0,0,0,0,0,0]
[721,"Acciones y participaciones de capital en entidades paraestatales no empresariales y no financieras con fines de política económica",{"$f":"'COG-M'!P2558","v":0},{"$f":"'COG-M'!P2559","v":0},{"$f":"'COG-M'!P2560","v":0},{"$f":"'COG-M'!P2561","v":0},{"$f":"'COG-M'!P2562","v":0},{"$f":"'COG-M'!P2563","v":0},{"$f":"'COG-M'!P2564","v":0},{"$f":"'COG-M'!P2565","v":0},{"$f":"'COG-M'!P2566","v":0},{"$f":"'COG-M'!P2567","v":0},{"$f":"SUM(C336:L336)","v":0}]
[722,"Acciones y participaciones de capital en entidades paraestatales empresariales y no financieras con fines de política económica",{"$nulls":10},0]
[723,"Acciones  y participaciones de capital en instituciones paraestatales públicas financieras con fines de política económica",{"$nulls":10},0]
[724,"Acciones y participaciones  de capital en el sector privado con fines de política económica",{"$f":"'COG-M'!P2570","v":0},{"$f":"'COG-M'!P2571","v":0},{"$f":"'COG-M'!P2572","v":0},{"$f":"'COG-M'!P2573","v":0},{"$f":"'COG-M'!P2574","v":0},{"$f":"'COG-M'!P2575","v":0},{"$f":"'COG-M'!P2576","v":0},{"$f":"'COG-M'!P2577","v":0},{"$f":"'COG-M'!P2578","v":0},{"$f":"'COG-M'!P2579","v":0},0]
[725,"Acciones y participaciones de capital en organismos internacionales con fines de política económica",{"$f":"'COG-M'!P2580","v":0},{"$f":"'COG-M'!P2581","v":0},{"$f":"'COG-M'!P2582","v":0},{"$f":"'COG-M'!P2583","v":0},{"$f":"'COG-M'!P2584","v":0},{"$f":"'COG-M'!P2585","v":0},{"$f":"'COG-M'!P2586","v":0},{"$f":"'COG-M'!P2587","v":0},{"$f":"'COG-M'!P2588","v":0},{"$f":"'COG-M'!P2589","v":0},0]
[726,"Acciones y participaciones de capital en el sector externo con fines de política económica",{"$f":"'COG-M'!P2590","v":0},{"$f":"'COG-M'!P2591","v":0},{"$f":"'COG-M'!P2592","v":0},{"$f":"'COG-M'!P2593","v":0},{"$f":"'COG-M'!P2594","v":0},{"$f":"'COG-M'!P2595","v":0},{"$f":"'COG-M'!P2596","v":0},{"$f":"'COG-M'!P2597","v":0},{"$f":"'COG-M'!P2598","v":0},{"$f":"'COG-M'!P2599","v":0},0]
[727,"Acciones y participaciones de capital en el sector público con fines de gestión de la liquidez",{"$f":"'COG-M'!P2600","v":0},{"$f":"'COG-M'!P2601","v":0},{"$f":"'COG-M'!P2602","v":0},{"$f":"'COG-M'!P2603","v":0},{"$f":"'COG-M'!P2604","v":0},{"$f":"'COG-M'!P2605","v":0},{"$f":"'COG-M'!P2606","v":0},{"$f":"'COG-M'!P2607","v":0},{"$f":"'COG-M'!P2608","v":0},{"$f":"'COG-M'!P2609","v":0},0]
[728,"Acciones y participaciones de capital  en el sector privado con fines de gestión de liquidez",{"$f":"'COG-M'!P2610","v":0},{"$f":"'COG-M'!P2611","v":0},{"$f":"'COG-M'!P2612","v":0},{"$f":"'COG-M'!P2613","v":0},{"$f":"'COG-M'!P2614","v":0},{"$f":"'COG-M'!P2615","v":0},{"$f":"'COG-M'!P2616","v":0},{"$f":"'COG-M'!P2617","v":0},{"$f":"'COG-M'!P2618","v":0},{"$f":"'COG-M'!P2619","v":0},0]
[729,"Acciones y participaciones de capital en el sector externo con fines de gestión  de liquidez",{"$f":"'COG-M'!P2620","v":0},{"$f":"'COG-M'!P2621","v":0},{"$f":"'COG-M'!P2622","v":0},{"$f":"'COG-M'!P2623","v":0},{"$f":"'COG-M'!P2624","v":0},{"$f":"'COG-M'!P2625","v":0},{"$f":"'COG-M'!P2626","v":0},{"$f":"'COG-M'!P2627","v":0},{"$f":"'COG-M'!P2628","v":0},{"$f":"'COG-M'!P2629","v":0},0]
[7300,"COMPRA DE TÍTULOS Y VALORES",{"$f":"SUM(C346:C351)","v":0},{"$f":"SUM(D346:D351)","v":0},0,0,0,0,0,0,0,0,0]
[731,"Bonos",{"$f":"'COG-M'!P2631","v":0},{"$f":"'COG-M'!P2632","v":0},{"$f":"'COG-M'!P2633","v":0},{"$f":"'COG-M'!P2634","v":0},{"$f":"'COG-M'!P2635","v":0},{"$f":"'COG-M'!P2636","v":0},{"$f":"'COG-M'!P2637","v":0},{"$f":"'COG-M'!P2638","v":0},{"$f":"'COG-M'!P2639","v":0},{"$f":"'COG-M'!P2640","v":0},{"$f":"SUM(C346:L346)","v":0}]
[732,"Valores representativos de deuda adquiridos con fines de política económica",{"$f":"'COG-M'!P2641","v":0},{"$f":"'COG-M'!P2642","v":0},{"$f":"'COG-M'!P2643","v":0},{"$f":"'COG-M'!P2644","v":0},{"$f":"'COG-M'!P2645","v":0},{"$f":"'COG-M'!P2646","v":0},{"$f":"'COG-M'!P2647","v":0},{"$f":"'COG-M'!P2648","v":0},{"$f":"'COG-M'!P2649","v":0},{"$f":"'COG-M'!P2650","v":0},0]
[733,"Valores representativos de deuda  adquiridos con fines de gestión de liquidez",{"$f":"'COG-M'!P2651","v":0},{"$f":"'COG-M'!P2652","v":0},{"$f":"'COG-M'!P2653","v":0},{"$f":"'COG-M'!P2654","v":0},{"$f":"'COG-M'!P2655","v":0},{"$f":"'COG-M'!P2656","v":0},{"$f":"'COG-M'!P2657","v":0},{"$f":"'COG-M'!P2658","v":0},{"$f":"'COG-M'!P2659","v":0},{"$f":"'COG-M'!P2660","v":0},0]
[734,"Obligaciones negociables adquiridas con fines de política económica",{"$f":"'COG-M'!P2661","v":0},{"$f":"'COG-M'!P2662","v":0},{"$f":"'COG-M'!P2663","v":0},{"$f":"'COG-M'!P2664","v":0},{"$f":"'COG-M'!P2665","v":0},{"$f":"'COG-M'!P2666","v":0},{"$f":"'COG-M'!P2667","v":0},{"$f":"'COG-M'!P2668","v":0},{"$f":"'COG-M'!P2669","v":0},{"$f":"'COG-M'!P2670","v":0},0]
[735,"Obligaciones negociables adquiridas con fines de gestión de liquidez",{"$f":"'COG-M'!P2671","v":0},{"$f":"'COG-M'!P2672","v":0},{"$f":"'COG-M'!P2673","v":0},{"$f":"'COG-M'!P2674","v":0},{"$f":"'COG-M'!P2675","v":0},{"$f":"'COG-M'!P2676","v":0},{"$f":"'COG-M'!P2677","v":0},{"$f":"'COG-M'!P2678","v":0},{"$f":"'COG-M'!P2679","v":0},{"$f":"'COG-M'!P2680","v":0},0]
[739,"Otros valores",{"$f":"'COG-M'!P2681","v":0},{"$f":"'COG-M'!P2682","v":0},{"$f":"'COG-M'!P2683","v":0},{"$f":"'COG-M'!P2684","v":0},{"$f":"'COG-M'!P2685","v":0},{"$f":"'COG-M'!P2686","v":0},{"$f":"'COG-M'!P2687","v":0},{"$f":"'COG-M'!P2688","v":0},{"$f":"'COG-M'!P2689","v":0},{"$f":"'COG-M'!P2690","v":0},0]
[7400,"CONCESIÓN DE PRÉSTAMOS",{"$f":"SUM(C353:C361)","v":0},{"$f":"SUM(D353:D361)","v":0},0,0,0,0,0,0,0,0,0]
[741,"Concesión de préstamos a entidades paraestatales no empresariales y no financieras con fines de política económica",{"$f":"'COG-M'!P2692","v":0},{"$f":"'COG-M'!P2693","v":0},{"$f":"'COG-M'!P2694","v":0},{"$f":"'COG-M'!P2695","v":0},{"$f":"'COG-M'!P2696","v":0},{"$f":"'COG-M'!P2697","v":0},{"$f":"'COG-M'!P2698","v":0},{"$f":"'COG-M'!P2699","v":0},{"$f":"'COG-M'!P2700","v":0},{"$f":"'COG-M'!P2701","v":0},{"$f":"SUM(C353:L353)","v":0}]
[742,"Concesión de préstamos a entidades paraestatales empresariales y no financieras con fines de política económica",{"$nulls":10},0]
[743,"Concesión de préstamos a instituciones paraestatales públicas financieras con fines de política económica",{"$nulls":10},0]
[744,"Concesión de préstamos a entidades federativas  y municipios con fines de política económica",{"$nulls":10},0]
[745,"Concesión de préstamos al sector privado con fines de política económica",{"$f":"'COG-M'!P2705","v":0},{"$f":"'COG-M'!P2706","v":0},{"$f":"'COG-M'!P2707","v":0},{"$f":"'COG-M'!P2708","v":0},{"$f":"'COG-M'!P2709","v":0},{"$f":"'COG-M'!P2710","v":0},{"$f":"'COG-M'!P2711","v":0},{"$f":"'COG-M'!P2712","v":0},{"$f":"'COG-M'!P2713","v":0},{"$f":"'COG-M'!P2714","v":0},0]
[746,"Concesión de préstamos al sector externo con fines de política económica",{"$f":"'COG-M'!P2715","v":0},{"$f":"'COG-M'!P2716","v":0},{"$f":"'COG-M'!P2717","v":0},{"$f":"'COG-M'!P2718","v":0},{"$f":"'COG-M'!P2719","v":0},{"$f":"'COG-M'!P2720","v":0},{"$f":"'COG-M'!P2721","v":0},{"$f":"'COG-M'!P2722","v":0},{"$f":"'COG-M'!P2723","v":0},{"$f":"'COG-M'!P2724","v":0},0]
[747,"Concesión de préstamos al sector público con fines de gestión de liquidez",{"$f":"'COG-M'!P2725","v":0},{"$f":"'COG-M'!P2726","v":0},{"$f":"'COG-M'!P2727","v":0},{"$f":"'COG-M'!P2728","v":0},{"$f":"'COG-M'!P2729","v":0},{"$f":"'COG-M'!P2730","v":0},{"$f":"'COG-M'!P2731","v":0},{"$f":"'COG-M'!P2732","v":0},{"$f":"'COG-M'!P2733","v":0},{"$f":"'COG-M'!P2734","v":0},0]
[748,"Concesión de préstamos al sector privado con fines de gestión de liquidez",{"$f":"'COG-M'!P2735","v":0},{"$f":"'COG-M'!P2736","v":0},{"$f":"'COG-M'!P2737","v":0},{"$f":"'COG-M'!P2738","v":0},{"$f":"'COG-M'!P2739","v":0},{"$f":"'COG-M'!P2740","v":0},{"$f":"'COG-M'!P2741","v":0},{"$f":"'COG-M'!P2742","v":0},{"$f":"'COG-M'!P2743","v":0},{"$f":"'COG-M'!P2744","v":0},0]
[749,"Concesión de  préstamos al sector externo con fines de gestión de liquidez",{"$f":"'COG-M'!P2745","v":0},{"$f":"'COG-M'!P2746","v":0},{"$f":"'COG-M'!P2747","v":0},{"$f":"'COG-M'!P2748","v":0},{"$f":"'COG-M'!P2749","v":0},{"$f":"'COG-M'!P2750","v":0},{"$f":"'COG-M'!P2751","v":0},{"$f":"'COG-M'!P2752","v":0},{"$f":"'COG-M'!P2753","v":0},{"$f":"'COG-M'!P2754","v":0},0]
[7500,"INVERSIONES EN FIDEICOMISOS, MANDATOS Y OTROS  ANÁLOGOS",{"$f":"SUM(C363:C371)","v":0},{"$f":"SUM(D363:D371)","v":0},0,0,0,0,0,0,0,0,0]
[751,"Inversiones en fideicomisos del Poder Ejecutivo",{"$f":"'COG-M'!P2756","v":0},{"$f":"'COG-M'!P2757","v":0},{"$f":"'COG-M'!P2758","v":0},{"$f":"'COG-M'!P2759","v":0},{"$f":"'COG-M'!P2760","v":0},{"$f":"'COG-M'!P2761","v":0},{"$f":"'COG-M'!P2762","v":0},{"$f":"'COG-M'!P2763","v":0},{"$f":"'COG-M'!P2764","v":0},{"$f":"'COG-M'!P2765","v":0},{"$f":"SUM(C363:L363)","v":0}]
[752,"Inversiones en fideicomisos del Poder Legislativo",{"$nulls":10},0]
[753,"Inversiones en fideicomisos del Poder Judicial",{"$nulls":10},0]
[754,"Inversiones en fideicomisos públicos no empresariales y no financieros",{"$f":"'COG-M'!P2768","v":0},{"$f":"'COG-M'!P2769","v":0},{"$f":"'COG-M'!P2770","v":0},{"$f":"'COG-M'!P2771","v":0},{"$f":"'COG-M'!P2772","v":0},{"$f":"'COG-M'!P2773","v":0},{"$f":"'COG-M'!P2774","v":0},{"$f":"'COG-M'!P2775","v":0},{"$f":"'COG-M'!P2776","v":0},{"$f":"'COG-M'!P2777","v":0},0]
[755,"Inversiones en fideicomisos públicos empresariales y no financieros",{"$nulls":10},0]
[756,"Inversiones en fideicomisos públicos financieros ",{"$nulls":10},0]
[757,"Inversiones en fideicomisos de entidades federativas",{"$f":"'COG-M'!P2780","v":0},{"$f":"'COG-M'!P2781","v":0},{"$f":"'COG-M'!P2782","v":0},{"$f":"'COG-M'!P2783","v":0},{"$f":"'COG-M'!P2784","v":0},{"$f":"'COG-M'!P2785","v":0},{"$f":"'COG-M'!P2786","v":0},{"$f":"'COG-M'!P2787","v":0},{"$f":"'COG-M'!P2788","v":0},{"$f":"'COG-M'!P2789","v":0},0]
[758,"Inversiones en fideicomisos de municipios",{"$nulls":10},0]
[759,"Otras inversiones en fideicomisos",{"$f":"'COG-M'!P2791","v":0},{"$f":"'COG-M'!P2792","v":0},{"$f":"'COG-M'!P2793","v":0},{"$f":"'COG-M'!P2794","v":0},{"$f":"'COG-M'!P2795","v":0},{"$f":"'COG-M'!P2796","v":0},{"$f":"'COG-M'!P2797","v":0},{"$f":"'COG-M'!P2798","v":0},{"$f":"'COG-M'!P2799","v":0},{"$f":"'COG-M'!P2800","v":0},0]
[7600,"OTRAS INVERSIONES FINANCIERAS",{"$f":"SUM(C373:C374)","v":0},{"$f":"SUM(D373:D374)","v":0},0,0,0,0,0,0,0,0,0]
[761,"Depósitos a largo plazo en moneda nacional",{"$f":"'COG-M'!P2802","v":0},{"$f":"'COG-M'!P2803","v":0},{"$f":"'COG-M'!P2804","v":0},{"$f":"'COG-M'!P2805","v":0},{"$f":"'COG-M'!P2806","v":0},{"$f":"'COG-M'!P2807","v":0},{"$f":"'COG-M'!P2808","v":0},{"$f":"'COG-M'!P2809","v":0},{"$f":"'COG-M'!P2810","v":0},{"$f":"'COG-M'!P2811","v":0},{"$f":"SUM(C373:L373)","v":0}]
[762,"Depósitos a largo plazo en moneda extranjera",{"$f":"'COG-M'!P2812","v":0},{"$f":"'COG-M'!P2813","v":0},{"$f":"'COG-M'!P2814","v":0},{"$f":"'COG-M'!P2815","v":0},{"$f":"'COG-M'!P2816","v":0},{"$f":"'COG-M'!P2817","v":0},{"$f":"'COG-M'!P2818","v":0},{"$f":"'COG-M'!P2819","v":0},{"$f":"'COG-M'!P2820","v":0},{"$f":"'COG-M'!P2821","v":0},{"$f":"SUM(C374:L374)","v":0}]
[7900,"PROVISIONES PARA CONTINGENCIAS Y OTRAS EROGACIONES ESPECIALES",{"$f":"SUM(C376:C378)","v":0},{"$f":"SUM(D376:D378)","v":0},0,0,0,0,0,0,0,0,0]
[791,"Contingencias por fenómenos naturales",{"$f":"'COG-M'!P2823","v":0},{"$f":"'COG-M'!P2824","v":0},{"$f":"'COG-M'!P2825","v":0},{"$f":"'COG-M'!P2826","v":0},{"$f":"'COG-M'!P2827","v":0},{"$f":"'COG-M'!P2828","v":0},{"$f":"'COG-M'!P2829","v":0},{"$f":"'COG-M'!P2830","v":0},{"$f":"'COG-M'!P2831","v":0},{"$f":"'COG-M'!P2832","v":0},{"$f":"SUM(C376:L376)","v":0}]
[792,"Contingencias socioeconómicas",{"$f":"'COG-M'!P2833","v":0},{"$f":"'COG-M'!P2834","v":0},{"$f":"'COG-M'!P2835","v":0},{"$f":"'COG-M'!P2836","v":0},{"$f":"'COG-M'!P2837","v":0},{"$f":"'COG-M'!P2838","v":0},{"$f":"'COG-M'!P2839","v":0},{"$f":"'COG-M'!P2840","v":0},{"$f":"'COG-M'!P2841","v":0},{"$f":"'COG-M'!P2842","v":0},{"$f":"SUM(C377:L377)","v":0}]
[799,"Otras erogaciones especiales",{"$f":"'COG-M'!P2843","v":0},{"$f":"'COG-M'!P2844","v":0},{"$f":"'COG-M'!P2845","v":0},{"$f":"'COG-M'!P2846","v":0},{"$f":"'COG-M'!P2847","v":0},{"$f":"'COG-M'!P2848","v":0},{"$f":"'COG-M'!P2849","v":0},{"$f":"'COG-M'!P2850","v":0},{"$f":"'COG-M'!P2851","v":0},{"$f":"'COG-M'!P2852","v":0},{"$f":"SUM(C378:L378)","v":0}]
[8000,"PARTICIPACIONES Y APORTACIONES",{"$f":"C380+C387+C393","v":0},{"$f":"D380+D387+D393","v":0},0,0,0,0,0,0,0,0,0]
[8100,"PARTICIPACIONES",{"$f":"SUM(C381:C386)","v":0},{"$f":"SUM(D381:D386)","v":0},0,0,0,0,0,0,0,0,0]
[811,"Fondo general de participaciones",{"$nulls":10},{"$f":"SUM(C381:L381)","v":0}]
[812,"Fondo de fomento municipal",{"$nulls":10},0]
[813,"Participaciones de las entidades federativas a los municipios",{"$nulls":10},0]
[814,"Otros conceptos participables de la Federación a entidades federativas",{"$nulls":10},0]
[815,"Otros conceptos participables de la Federación a municipios",{"$nulls":10},0]
[816,"Convenios de colaboración administrativa",{"$f":"'COG-M'!P2860","v":0},{"$f":"'COG-M'!P2861","v":0},{"$f":"'COG-M'!P2862","v":0},{"$f":"'COG-M'!P2863","v":0},{"$f":"'COG-M'!P2864","v":0},{"$f":"'COG-M'!P2865","v":0},{"$f":"'COG-M'!P2866","v":0},{"$f":"'COG-M'!P2867","v":0},{"$f":"'COG-M'!P2868","v":0},{"$f":"'COG-M'!P2869","v":0},0]
[8300,"APORTACIONES",{"$f":"SUM(C388:C392)","v":0},{"$f":"SUM(D388:D392)","v":0},0,0,0,0,0,0,0,0,0]
[831,"Aportaciones de la Federación a las entidades federativas",{"$nulls":10},{"$f":"SUM(C388:L388)","v":0}]
[832,"Aportaciones de la Federación a municipios",{"$nulls":10},{"$f":"SUM(C389:L389)","v":0}]
[833,"Aportaciones de las entidades federativas a los municipios",{"$nulls":10},{"$f":"SUM(C390:L390)","v":0}]
[834,"Aportaciones  previstas en leyes y decretos al sistema de protección social",{"$nulls":10},{"$f":"SUM(C391:L391)","v":0}]
[835,"Aportaciones previstas en leyes y decretos compensatorias a entidades federativas y municipios",{"$nulls":10},{"$f":"SUM(C392:L392)","v":0}]
[8500,"CONVENIOS",{"$f":"SUM(C394:C396)","v":0},{"$f":"SUM(D394:D396)","v":0},0,0,0,0,0,0,0,0,0]
[851,"Convenios de reasignación",{"$f":"'COG-M'!P2877","v":0},{"$f":"'COG-M'!P2878","v":0},{"$f":"'COG-M'!P2879","v":0},{"$f":"'COG-M'!P2880","v":0},{"$f":"'COG-M'!P2881","v":0},{"$f":"'COG-M'!P2882","v":0},{"$f":"'COG-M'!P2883","v":0},{"$f":"'COG-M'!P2884","v":0},{"$f":"'COG-M'!P2885","v":0},{"$f":"'COG-M'!P2886","v":0},{"$f":"SUM(C394:L394)","v":0}]
[852,"Convenios de descentralización",{"$f":"'COG-M'!P2887","v":0},{"$f":"'COG-M'!P2888","v":0},{"$f":"'COG-M'!P2889","v":0},{"$f":"'COG-M'!P2890","v":0},{"$f":"'COG-M'!P2891","v":0},{"$f":"'COG-M'!P2892","v":0},{"$f":"'COG-M'!P2893","v":0},{"$f":"'COG-M'!P2894","v":0},{"$f":"'COG-M'!P2895","v":0},{"$f":"'COG-M'!P2896","v":0},{"$f":"SUM(C395:L395)","v":0}]
[853,"Otros convenios",{"$f":"'COG-M'!P2897","v":0},{"$f":"'COG-M'!P2898","v":0},{"$f":"'COG-M'!P2899","v":0},{"$f":"'COG-M'!P2900","v":0},{"$f":"'COG-M'!P2901","v":0},{"$f":"'COG-M'!P2902","v":0},{"$f":"'COG-M'!P2903","v":0},{"$f":"'COG-M'!P2904","v":0},{"$f":"'COG-M'!P2905","v":0},{"$f":"'COG-M'!P2906","v":0},{"$f":"SUM(C396:L396)","v":0}]
[9000,"DEUDA  PÚBLICA",{"$f":"C398+C407+C416+C419+C422+C424+C427","v":0},{"$f":"D398+D407+D416+D419+D422+D424+D427","v":0},0,0,0,0,0,0,0,0,0]
[9100,"AMORTIZACIÓN DE LA DEUDA PÚBLICA ",{"$f":"SUM(C399:C406)","v":0},{"$f":"SUM(D399:D406)","v":0},0,0,0,0,0,0,0,0,0]
[911,"Amortización de la deuda interna con instituciones de crédito",{"$f":"'COG-M'!P2909","v":0},{"$f":"'COG-M'!P2910","v":0},{"$f":"'COG-M'!P2911","v":0},{"$f":"'COG-M'!P2912","v":0},{"$f":"'COG-M'!P2913","v":0},{"$f":"'COG-M'!P2914","v":0},{"$f":"'COG-M'!P2915","v":0},{"$f":"'COG-M'!P2916","v":0},{"$f":"'COG-M'!P2917","v":0},{"$f":"'COG-M'!P2918","v":0},{"$f":"SUM(C399:L399)","v":0}]
[912,"Amortización  de la deuda interna por emisión de títulos y valores",{"$f":"'COG-M'!P2919","v":0},{"$f":"'COG-M'!P2920","v":0},{"$f":"'COG-M'!P2921","v":0},{"$f":"'COG-M'!P2922","v":0},{"$f":"'COG-M'!P2923","v":0},{"$f":"'COG-M'!P2924","v":0},{"$f":"'COG-M'!P2925","v":0},{"$f":"'COG-M'!P2926","v":0},{"$f":"'COG-M'!P2927","v":0},{"$f":"'COG-M'!P2928","v":0},0]
[913,"Amortización de arrendamientos financieros nacionales",{"$f":"'COG-M'!P2929","v":0},{"$f":"'COG-M'!P2930","v":0},{"$f":"'COG-M'!P2931","v":0},{"$f":"'COG-M'!P2932","v":0},{"$f":"'COG-M'!P2933","v":0},{"$f":"'COG-M'!P2934","v":0},{"$f":"'COG-M'!P2935","v":0},{"$f":"'COG-M'!P2936","v":0},{"$f":"'COG-M'!P2937","v":0},{"$f":"'COG-M'!P2938","v":0},0]
[914,"Amortización de la deuda externa con instituciones de crédito ",{"$nulls":10},0]
[915,"Amortización de deuda externa con organismos financieros internacionales",{"$nulls":10},0]
[916,"Amortización de la deuda bilateral",{"$nulls":10},0]
[917,"Amortización de la deuda externa por emisión de títulos y valores",{"$nulls":10},0]
[918,"Amortización de arrendamientos financieros internacionales",{"$nulls":10},0]
[9200,"INTERESES DE LA DEUDA PÚBLICA",{"$f":"SUM(C408:C415)","v":0},{"$f":"SUM(D408:D415)","v":0},0,0,0,0,0,0,0,0,0]
[921,"Intereses de la deuda interna con instituciones de crédito",{"$f":"'COG-M'!P2945","v":0},{"$f":"'COG-M'!P2946","v":0},{"$f":"'COG-M'!P2947","v":0},{"$f":"'COG-M'!P2948","v":0},{"$f":"'COG-M'!P2949","v":0},{"$f":"'COG-M'!P2950","v":0},{"$f":"'COG-M'!P2951","v":0},{"$f":"'COG-M'!P2952","v":0},{"$f":"'COG-M'!P2953","v":0},{"$f":"'COG-M'!P2954","v":0},{"$f":"SUM(C408:L408)","v":0}]
[922,"Intereses derivados de la colocación de títulos y valores",{"$f":"'COG-M'!P2955","v":0},{"$f":"'COG-M'!P2956","v":0},{"$f":"'COG-M'!P2957","v":0},{"$f":"'COG-M'!P2958","v":0},{"$f":"'COG-M'!P2959","v":0},{"$f":"'COG-M'!P2960","v":0},{"$f":"'COG-M'!P2961","v":0},{"$f":"'COG-M'!P2962","v":0},{"$f":"'COG-M'!P2963","v":0},{"$f":"'COG-M'!P2964","v":0},0]
[923,"Intereses por arrendamientos  financieros nacionales",{"$f":"'COG-M'!P2965","v":0},{"$f":"'COG-M'!P2966","v":0},{"$f":"'COG-M'!P2967","v":0},{"$f":"'COG-M'!P2968","v":0},{"$f":"'COG-M'!P2969","v":0},{"$f":"'COG-M'!P2970","v":0},{"$f":"'COG-M'!P2971","v":0},{"$f":"'COG-M'!P2972","v":0},{"$f":"'COG-M'!P2973","v":0},{"$f":"'COG-M'!P2974","v":0},0]
[924,"Intereses de la deuda externa con instituciones de crédito ",{"$nulls":10},0]
[925,"Intereses de la deuda con organismos financieros internacionales",{"$nulls":10},0]
[926,"Intereses de la deuda bilateral  ",{"$nulls":10},0]
[927,"Intereses derivados de la colocación de títulos y valores en el exterior",{"$nulls":10},0]
[928,"Intereses por arrendamientos financieros internacionales",{"$nulls":10},0]
[9300,"COMISIONES DE LA DEUDA PÚBLICA",{"$f":"SUM(C417:C418)","v":0},{"$f":"SUM(D417:D418)","v":0},0,0,0,0,0,0,0,0,0]
[931,"Comisiones de la deuda pública interna",{"$f":"'COG-M'!P2981","v":0},{"$f":"'COG-M'!P2982","v":0},{"$f":"'COG-M'!P2983","v":0},{"$f":"'COG-M'!P2984","v":0},{"$f":"'COG-M'!P2985","v":0},{"$f":"'COG-M'!P2986","v":0},{"$f":"'COG-M'!P2987","v":0},{"$f":"'COG-M'!P2988","v":0},{"$f":"'COG-M'!P2989","v":0},{"$f":"'COG-M'!P2990","v":0},{"$f":"SUM(C417:L417)","v":0}]
[932,"Comisiones de la deuda pública externa",{"$nulls":10},{"$f":"SUM(C418:L418)","v":0}]
[9400,"GASTOS DE LA DEUDA PÚBLICA",{"$f":"SUM(C420:C421)","v":0},{"$f":"SUM(D420:D421)","v":0},0,0,0,0,0,0,0,0,{"$f":"SUM(M420:M421)","v":0}]
[941,"Gastos de la deuda pública interna",{"$f":"'COG-M'!P2993","v":0},{"$f":"'COG-M'!P2994","v":0},{"$f":"'COG-M'!P2995","v":0},{"$f":"'COG-M'!P2996","v":0},{"$f":"'COG-M'!P2997","v":0},{"$f":"'COG-M'!P2998","v":0},{"$f":"'COG-M'!P2999","v":0},{"$f":"'COG-M'!P3000","v":0},{"$f":"'COG-M'!P3001","v":0},{"$f":"'COG-M'!P3002","v":0},{"$f":"SUM(C420:L420)","v":0}]
[942,"Gastos de la deuda  pública externa",{"$nulls":10},{"$f":"SUM(C421:L421)","v":0}]
[9500,"COSTO POR COBERTURAS",{"$f":"SUM(C423)","v":0},{"$f":"SUM(D423)","v":0},0,0,0,0,0,0,0,0,0]
[951,"Costos por coberturas",{"$f":"'COG-M'!P3005","v":0},{"$f":"'COG-M'!P3006","v":0},{"$f":"'COG-M'!P3007","v":0},{"$f":"'COG-M'!P3008","v":0},{"$f":"'COG-M'!P3009","v":0},{"$f":"'COG-M'!P3010","v":0},{"$f":"'COG-M'!P3011","v":0},{"$f":"'COG-M'!P3012","v":0},{"$f":"'COG-M'!P3013","v":0},{"$f":"'COG-M'!P3014","v":0},{"$f":"SUM(C423:L423)","v":0}]
[9600,"APOYOS FINANCIEROS",{"$f":"SUM(C425:C426)","v":0},{"$f":"SUM(D425:D426)","v":0},0,0,0,0,0,0,0,0,0]
[961,"Apoyos a intermediarios financieros",{"$nulls":10},{"$f":"SUM(C425:L425)","v":0}]
[962,"Apoyos a ahorradores y deudores del Sistema Financiero Nacional",{"$nulls":10},{"$f":"SUM(C426:L426)","v":0}]
[9900,"ADEUDOS DE EJERCICIOS FISCALES ANTERIORES (ADEFAS)",{"$f":"SUM(C428)","v":0},{"$f":"SUM(D428)","v":0},0,0,0,0,0,0,0,0,0]
[991,"ADEFAS",{"$f":"'COG-M'!P3019","v":0},{"$f":"'COG-M'!P3020","v":0},{"$f":"'COG-M'!P3021","v":0},{"$f":"'COG-M'!P3022","v":0},{"$f":"'COG-M'!P3023","v":0},{"$f":"'COG-M'!P3024","v":0},{"$f":"'COG-M'!P3025","v":0},{"$f":"'COG-M'!P3026","v":0},{"$f":"'COG-M'!P3027","v":0},{"$f":"'COG-M'!P3028","v":0},{"$f":"SUM(C428:L428)","v":0}]
[null,"TOTAL DE EGRESOS",{"$f":"C3+C40+C105+C190+C250+C309+C331+C379+C397","v":{"v":103743267.6045696,"d":"103,743,268"}},0,0,0,0,0,0,{"v":3285228,"d":"3,285,228"},{"$f":"K3+K40+K105+K190+K250+K309+K331+K379+K397","v":0},{"$f":"L3+L40+L105+L190+L250+L309+L331+L379+L397","v":0},{"$f":"M3+M40+M105+M190+M250+M309+M331+M379+M397","v":{"v":107028495.6045696,"d":"107,028,496"}}]

{"sheet":"CTG-FF","index":13,"n_rows":19,"n_cols":13,"rows_kept":19,"merged":[[0,0,1,0],[0,1,1,1],[0,2,0,8],[0,9,0,11],[0,12,1,12]]}
["CTG","DESCRIPCIÓN","1.  NO ETIQUETADO",{"$nulls":6},"2.  ETIQUETADO",null,null,"TOTAL ANUAL"]
[null,null,"1.1\nRECURSOS FISCALES","1.2\nFINANCIAMIENTOS INTERNOS","1.3\nFINANCIAMIENTOS EXTERNOS","1.4\nINGRESOS \nPROPIOS","1.5\nRECURSOS\nFEDERALES","1.6\nRECURSOS ESTATALES","1.7\nOTROS RECURSOS DE LIBRE DISPOSICIÓN","2.5 \nRECURSOS FEDERALES","2.6\nRECURSOS ESTATALES","2.7\nOTROS RECURSOS DE TRANSFERENCIAS FEDERALES ETIQUETADAS"]
[1,"Gasto corriente",{"$f":"SUM('COG-FF'!C3+'COG-FF'!C40+'COG-FF'!C105+'COG-FF'!C190-'COG-FF'!C226)","v":{"v":83728371.6045696,"d":"83,728,372"}},{"$f":"SUM('COG-FF'!D3+'COG-FF'!D40+'COG-FF'!D105+'COG-FF'!D190-'COG-FF'!D226)","v":0},{"$f":"SUM('COG-FF'!E3+'COG-FF'!E40+'COG-FF'!E105+'COG-FF'!E190-'COG-FF'!E226)","v":0},{"$f":"SUM('COG-FF'!F3+'COG-FF'!F40+'COG-FF'!F105+'COG-FF'!F190-'COG-FF'!F226)","v":0},{"$f":"SUM('COG-FF'!G3+'COG-FF'!G40+'COG-FF'!G105+'COG-FF'!G190-'COG-FF'!G226)","v":0},{"$f":"SUM('COG-FF'!H3+'COG-FF'!H40+'COG-FF'!H105+'COG-FF'!H190-'COG-FF'!H226)","v":0},{"$f":"SUM('COG-FF'!I3+'COG-FF'!I40+'COG-FF'!I105+'COG-FF'!I190-'COG-FF'!I226)","v":0},{"$f":"SUM('COG-FF'!J3+'COG-FF'!J40+'COG-FF'!J105+'COG-FF'!J190-'COG-FF'!J226)","v":0},{"$f":"SUM('COG-FF'!K3+'COG-FF'!K40+'COG-FF'!K105+'COG-FF'!K190-'COG-FF'!K226)","v":0},{"$f":"SUM('COG-FF'!L3+'COG-FF'!L40+'COG-FF'!L105+'COG-FF'!L190-'COG-FF'!L226)","v":0},{"$f":"SUM(C3:L3)","v":{"v":83728371.6045696,"d":"83,728,372"}}]
[2,"Gasto de capital",{"$f":"SUM('COG-FF'!C250+'COG-FF'!C309+'COG-FF'!C331)","v":{"v":19867800,"d":"19,867,800"}},{"$f":"SUM('COG-FF'!D250+'COG-FF'!D309+'COG-FF'!D331)","v":0},{"$f":"SUM('COG-FF'!E250+'COG-FF'!E309+'COG-FF'!E331)","v":0},{"$f":"SUM('COG-FF'!F250+'COG-FF'!F309+'COG-FF'!F331)","v":0},{"$f":"SUM('COG-FF'!G250+'COG-FF'!G309+'COG-FF'!G331)","v":0},{"$f":"SUM('COG-FF'!H250+'COG-FF'!H309+'COG-FF'!H331)","v":0},{"$f":"SUM('COG-FF'!I250+'COG-FF'!I309+'COG-FF'!I331)","v":0},{"$f":"SUM('COG-FF'!J250+'COG-FF'!J309+'COG-FF'!J331)","v":{"v":3285228,"d":"3,285,228"}},{"$f":"SUM('COG-FF'!K250+'COG-FF'!K309+'COG-FF'!K331)","v":0},{"$f":"SUM('COG-FF'!L250+'COG-FF'!L309+'COG-FF'!L331)","v":0},{"$f":"SUM(C4:L4)","v":{"v":23153028,"d":"23,153,028"}}]
[3,"Amortización de la deuda y disminución de pasivos",{"$f":"SUM('COG-FF'!C397)","v":0},{"$f":"SUM('COG-FF'!D397)","v":0},{"$f":"SUM('COG-FF'!E397)","v":0},{"$f":"SUM('COG-FF'!F397)","v":0},{"$f":"SUM('COG-FF'!G397)","v":0},{"$f":"SUM('COG-FF'!H397)","v":0},{"$f":"SUM('COG-FF'!I397)","v":0},{"$f":"SUM('COG-FF'!J397)","v":0},{"$f":"SUM('COG-FF'!K397)","v":0},{"$f":"SUM('COG-FF'!L397)","v":0},{"$f":"SUM(C5:L5)","v":0}]
[4,"Pensiones y jubilaciones",{"$f":"SUM('COG-FF'!C226)","v":{"v":147096,"d":"147,096"}},{"$f":"SUM('COG-FF'!D226)","v":0},{"$f":"SUM('COG-FF'!E226)","v":0},{"$f":"SUM('COG-FF'!F226)","v":0},{"$f":"SUM('COG-FF'!G226)","v":0},{"$f":"SUM('COG-FF'!H226)","v":0},{"$f":"SUM('COG-FF'!I226)","v":0},{"$f":"SUM('COG-FF'!J226)","v":0},{"$f":"SUM('COG-FF'!K226)","v":0},{"$f":"SUM('COG-FF'!L226)","v":0},{"$f":"SUM(C6:L6)","v":{"v":147096,"d":"147,096"}}]
[5,"Participaciones",{"$f":"SUM('COG-FF'!C379)","v":0},{"$f":"SUM('COG-FF'!D379)","v":0},{"$f":"SUM('COG-FF'!E379)","v":0},{"$f":"SUM('COG-FF'!F379)","v":0},{"$f":"SUM('COG-FF'!G379)","v":0},{"$f":"SUM('COG-FF'!H379)","v":0},{"$f":"SUM('COG-FF'!I379)","v":0},{"$f":"SUM('COG-FF'!J379)","v":0},{"$f":"SUM('COG-FF'!K379)","v":0},{"$f":"SUM('COG-FF'!L379)","v":0},{"$f":"SUM(C7:L7)","v":0}]
[null,"TOTAL DE EGRESOS",{"$f":"SUM(C3:C7)","v":{"v":103743267.6045696,"d":"103,743,268"}},{"$f":"SUM(D3:D7)","v":0},0,0,0,0,0,{"v":3285228,"d":"3,285,228"},0,0,{"v":107028495.6045696,"d":"107,028,496"}]
[]
[]
[]
[]
["COG","DESCRIPCIÓN","CAPÍTULO 1000","CAPÍTULO 2000","CAPÍTULO 3000","CAPÍTULO 4000","CAPÍTULO 5000","CAPÍTULO 6000","CAPÍTULO 7000","CAPÍTULO 8000","CAPÍTULO 9000","TOTAL ANUAL"]
[1,"Gasto corriente",{"$f":"'COG-FF'!M3","v":{"v":24871539.6045696,"d":"24,871,540"}},{"$f":"'COG-FF'!M40","v":{"v":21524220,"d":"21,524,220"}},{"$f":"'COG-FF'!M105","v":{"v":28688652,"d":"28,688,652"}},{"$f":"SUM('COG-FF'!M190-'COG-FF'!M226)","v":{"v":8643960,"d":"8,643,960"}},{"$nulls":5},{"$f":"SUM(C14:K14)","v":{"v":83728371.6045696,"d":"83,728,372"}}]
[2,"Gasto de capital",{"$nulls":4},{"$f":"'COG-FF'!M250","v":{"v":2052348,"d":"2,052,348"}},{"$f":"'COG-FF'!M309","v":{"v":21100680,"d":"21,100,680"}},{"$f":"'COG-FF'!M331","v":0},null,null,{"$f":"SUM(C15:K15)","v":{"v":23153028,"d":"23,153,028"}}]
[3,"Amortización de la deuda y disminución de pasivos",{"$nulls":8},{"$f":"'COG-FF'!M397","v":0},{"$f":"SUM(C16:K16)","v":0}]
[4,"Pensiones y jubilaciones",{"$nulls":3},{"$f":"'COG-FF'!M226","v":{"v":147096,"d":"147,096"}},{"$nulls":5},{"$f":"SUM(C17:K17)","v":{"v":147096,"d":"147,096"}}]
[5,"Participaciones",{"$nulls":7},{"$f":"'COG-FF'!M379","v":0},null,{"$f":"SUM(C18:K18)","v":0}]
[null,"TOTAL DE EGRESOS",{"$f":"C14","v":{"v":24871539.6045696,"d":"24,871,540"}},{"$f":"D14","v":{"v":21524220,"d":"21,524,220"}},{"$f":"E14","v":{"v":28688652,"d":"28,688,652"}},{"$f":"SUM(F14+F17)","v":{"v":8791056,"d":"8,791,056"}},{"$f":"G15","v":{"v":2052348,"d":"2,052,348"}},{"$f":"H15","v":{"v":21100680,"d":"21,100,680"}},{"$f":"I15","v":0},{"$f":"J18","v":0},{"$f":"K16","v":0},{"$f":"SUM(L14:L18)","v":{"v":107028495.6045696,"d":"107,028,496"}}]